{"text_format":"1","workbook":"xlsx","n_sheets":6,"sheets":["411_A_CRITERI","CR_3_GRIGLIA","Dettaglio_Investimenti","Calcolo_Punteggio","ELENCHI","Sub_Interventi"],"not_rendered":{"charts":0,"images":0,"macros":1,"external_links":0,"defined_names":11,"comments":0,"pivot_tables":1},"unopened":[],"bounds":{"document_bytes":16777216,"sheet_cells":100000,"rows_first":2000,"rows_last":500,"rows_between":2000,"halvings":0,"cell_chars":16384,"cell_head_chars":4096},"cells_cut":0,"cells_raw":0,"read":"whole","date_system":"1900"}

{"sheet":"411_A_CRITERI","index":0,"n_rows":61,"n_cols":13,"rows_kept":61,"cut":false,"hidden":false,"merged":[[26,10,32,10],[36,8,39,8],[36,9,39,9],[36,11,39,11],[19,0,19,1],[22,0,22,1],[23,0,23,1],[33,4,33,5],[36,6,39,6],[26,5,32,5],[26,6,32,6],[25,3,25,4],[22,4,22,5],[20,4,20,6],[23,4,23,6],[17,10,18,10],[17,11,18,11],[59,0,59,5],[60,3,60,5],[59,6,59,11],[49,0,49,1],[49,4,49,6],[53,2,53,3],[58,0,58,5],[58,6,58,11],[56,0,56,5],[55,2,55,4],[54,2,54,4],[50,5,53,5],[50,6,53,6],[41,0,41,1],[0,1,0,2],[20,0,20,1],[4,0,4,1],[35,1,39,1],[34,0,34,1],[3,0,3,1],[6,0,12,0],[14,0,14,1],[15,0,15,1],[18,0,18,1],[18,2,18,3],[35,0,39,0],[24,0,32,0],[33,0,33,1],[21,3,21,4],[24,3,24,5],[42,1,47,1],[40,0,40,1],[48,0,48,1],[48,4,48,5],[3,7,4,7],[35,3,35,5],[36,7,39,7],[36,5,39,5],[41,4,41,6],[40,4,40,5],[14,4,14,5],[15,4,15,6],[16,5,18,5],[16,6,18,6],[17,7,18,7],[34,4,34,6],[0,4,0,6],[3,4,3,5],[6,5,12,5],[6,6,12,6],[4,4,4,6],[6,8,12,8],[6,9,12,9],[26,8,32,8],[26,9,32,9],[17,8,18,8],[17,9,18,9],[0,7,2,7],[1,11,2,11],[1,0,1,2],[50,1,53,1],[52,11,53,11],[52,7,53,7],[52,10,53,10],[52,8,53,8],[52,9,53,9],[6,1,12,1],[24,1,32,1],[6,11,12,11],[26,11,32,11],[6,7,12,7],[26,7,32,7],[19,4,19,5]]}
["DITTA",null,null,"CUAA",null,null,null,"documento attestante il diritto alla premialità (sezione per il richiedente)",null,null,null,"NOTE ISTRUTTORE"]
["Per compilare la scheda relativa al punteggio, cliccare su \"Inizia Autovalutazione\"",null,null,null,null,null,null,null,null,null,null,"Per l'attività istruttoria cliccare su \"Inizia Istruttoria\""]
[null,null,{"$f":"+IF(D3<>\"\",\"verifica il punteggio attribuito ai singoli criteri!\",\"\")","v":""},{"$f":"IF(SUMIF(C4:D49,\"punteggio max\",D4:D49)<>100,SUMIF(C4:D49,\"punteggio max\",D4:D49),\"\")","v":""}]
["1 -  Tipologia di richiedente",null,"punteggio max",17,"RICHIEDENTE",null,"ISTRUTTORIA",{"$f":"CONCATENATE(I6,\" - \",I7,\" - \",I14,\" - \",I17,\" - \",I18,\" - \",I22,\" - \",I43,\" - \",I44,\" - \",I45,\" - \",I46,\" - \",I47,I48,\" - \",I51,\" - \",I52,\" - \",I53)","v":"  -   -   -   -   -   -   -   -   -   -    -   -   -  "}]
["Descrizione",null,"Modalità di attribuzione","punti","punteggio attribuito"]
["1.1","Imprese condotte da giovani agricoltori di cui all'art. 2, lett. n) del Reg. 1305/2013 che presentino la domanda di aiuto entro i 5 anni dal primo insediamento.","Per l'attribuzione del punteggio dovrà essere soddisfatta la seguente condizione: alla data di rilascio sul portale SIAN della domanda di aiuto, il richiedente (titolare di ditta individuale o rappresentante legale nel caso delle società) non deve avere un'età superiore a 40 anni (41 anni non compiuti), non deve essersi insediato da più di 5 anni e deve avere adeguate qualifiche e competenze professionali",10,false,{"$f":"+IF(E6=TRUE,D6,0)","v":0},null,null,{"$f":"+IF(AND(H6<>0,F6=0),\"verifica criterio 1.1\",\" \")","v":" "},{"$f":"+IF(I6<>\" \",\"V\",1)","v":1}]
["1.2","Titolo di studio e formazione","Titolare o rappresentante legale  con titolo di studio universitario del vecchio ordinamento o laurea magistrale (già specialistica) attinente al settore agrario, forestale o veterinario, come riconosciuto dalla classificazione normativa vigente",5,7,{"$f":"+IF(E7=1,D7,IF(E7=2,D8,IF(E7=3,D9,IF(E7=4,D10,IF(E7=5,D11,IF(E7=6,D12,IF(E7=7,D13,IF(E7=7,D14,0))))))))","v":0},null,null,{"$f":"+IF(AND(H7<>0,F7=0),\"verifica criterio 1.2\",\" \")","v":" "},{"$f":"+IF(I7<>\" \",\"V\",1)","v":1}]
[null,null,"Titolare o rappresentante legale con titolo di studio universitario triennale attinente al settore agrario, forestale o veterinario, come riconosciuto dalla classificazione normativa vigente",4]
[null,null,"Titolare o rappresentante legale con titolo di studio quinquennale di scuola secondaria di secondo grado attinente al settore agrario",3]
[null,null,"Titolare o rappresentante legale con titolo di studio universitario del vecchio ordinamento o laurea magistrale (già specialistica) attinente altri settori",2]
[null,null,"Titolare o rappresentante legale con titolo di studio universitario triennale attinente altri settori.",1]
[null,null,"Attestazione per 100 ore di formazione con profitto in materie agrarie, forestali e zootecniche",1]
[null,null,"nessun titolo da valutare",0]
["1.3","Adesione alla rete del lavoro agricolo di qualità","Adesione, alla data del rilascio della domanda di sostegno, alla rete del lavoro agricolo di qualità del lavoro agricolo di cui alla legge n. 199 del 2016",2,false,{"$f":"IF(E14=TRUE,D14,0)","v":0},null,null,{"$f":"+IF(AND(H14<>0,F14=0),\"verifica criterio 1.3\",\" \")","v":" "},{"$f":"+IF(I14<>\" \",\"V\",1)","v":1}]
["2 - Localizzazione geografica",null,"punteggio max",7,"RICHIEDENTE",null,"ISTRUTTORIA"]
["Descrizione",null,"Modalità di attribuzione","punti","punteggio attribuito"]
["2.1","Imprese operanti in zone montane o con vincoli naturali o altri vincoli specifici, classificati tali dalla normativa comunitaria e nazionale che disciplina la materia","Il requisito è accertato sul fascicolo aziendale. \nIl punteggio è attribuibile se la maggior parte della SAU (>50%) ricade nel territorio regionale riconosciuto come zona montana o con vincoli naturali o altri vincoli specifici ai sensi del Reg. (UE) 1305/13 art. 32 (allegato 1 PSR CAMPANIA 2014/2020)",7,3,{"$f":"+IF(E17=1,D17,(IF(E17=2,D18,0)))","v":0},null,null,{"$f":"+IF(AND(H17<>0,F17=0),\"verifica criterio 2.1\",\" \")","v":" "},{"$f":"+IF(I17<>\" \",\"V\",1)","v":1}]
["2.2","imprese operanti in zone vulnerabili ai nitrati ","Il requisito è accertato sul fascicolo aziendale / zonizzazione regionale. \nIl punteggio è attribuibile se la maggior parte della SAU (>50%) ricade nelle zone vulnerabili ai nitrati ",5,null,null,null,null,{"$f":"+IF(AND(H18<>0,F18=0),\"verifica criterio 2.2\",\" \")","v":" "},{"$f":"+IF(I18<>\" \",\"V\",1)","v":1}]
[null,null,"assenza di condizioni sufficienti per la premialità"]
["3 - Caratteristiche tecniche del progetto/filiere",null,"punteggio max",45,"RICHIEDENTE",null,"ISTRUTTORIA"]
["Descrizione",null,"Modalità di attribuzione","punti","punteggio attribuito"]
[3,"\nFavorire lo sviluppo delle filiere e la realizzazione di progetti compatibili con le caratteristiche produttive dell’azienda","L’assegnazione del punteggio è basata sulle caratteristiche dell’investimento che si intende realizzare in corrispondenza alla filiera produttiva. Le filiere individuate sono: - Florovivaismo - Olivicola - Viticola - Frutta in guscio - Cerealicola - Ortofrutticola - Lattiero casearia – Carne. Nel lattiero caseario sono inclusi la produzione di latte vaccino, ovi-caprino e bufalino. Relativamente ai bufalini, la loro inclusione nella filiera lattiero casearia è ammessa esclusivamente per quei progetti che prevedono l’introduzione, per la prima volta dell’allevamento di bufale nel proprio indirizzo produttivo aziendale. \nNel comparto produzione carne sono inclusi gli allevamenti: bovino, suino, ovicaprino, cunicolo, avicolo da carne e per produzione di uova. Le piante medicinali e/o officinali, le aromatiche e la canapa sono incluse nella filiera florovivaistica. \nAi fini della assegnazione del punteggio si valutano tutti gli investimenti con il grado di priorità definito dall’abbinamento investimento – settore produttivo. \nIl punteggio è calcolato con la media dei punteggi delle varie tipologie di investimenti previsti dall’azienda ponderata sulla base dell’incidenza della spesa ammissibile per l’investimento specifico sulla spesa ammissibile totale. \nLa spesa per il singolo investimento può essere associata ad una sola tipologia di investimento. \nSe l'investimento viene utilizzato per il riconoscimento della premialità di cui al criterio 7, la relativa spesa andrà inserita come altro investimento nella griglia del presente criterio.",null,null,{"$f":"ROUND(INDEX(Calcolo_Punteggio!$A$1:$T$60,VLOOKUP(\"Totale complessivo\",Calcolo_Punteggio!$A$1:$T$60,20,FALSE),+HLOOKUP(\"Punteggio totale\",Calcolo_Punteggio!$A$2:$S$60,59,FALSE)),2)","v":0},null,null,{"$f":"+IF(AND(H22<>0,F22=0),\"verifica criterio 3\",\" \")","v":" "},{"$f":"+IF(I22<>\" \",\"V\",1)","v":1}]
["4 - Dimensione economica dell'azienda",null,"punteggio max",9,"RICHIEDENTE",null,"ISTRUTTORIA"]
["Descrizione",null,"Modalità di attribuzione","punti","punteggio attribuito"]
[3,"Favorire imprese con produzione standard compresa in range definiti","L’assegnazione del punteggio è basata sulle caratteristiche dell’azienda al momento della presentazione dell’istanza di aiuto.\nLa valutazione è effettuata sulla produzione standard aziendale come da piano colturale del fascicolo aziendale calcolata, mediante la procedura automatizzata disponibile, denominata Class CE- lite messa a disposizione dal CREA, con riferimento alle superfici, alla loro destinazione produttiva ed agli allevamenti e alla localizzazione aziendale.\nFermo restando il riferimento al fascicolo aziendale, per il calcolo dovranno essere utilizzati i valori medi dell’ultimo triennio"]
[null,null,"Aziende ubicate prevalentemente nei territori delle macroaree A e B, con produzione standard:"]
[null,null,"Da 15.000 euro fino a 60.000 euro ",9,6,{"$f":"+IF(E27=1,D27,IF(E27=2,D28,IF(E27=3,D29,IF(E27=4,D31,IF(E27=5,D32,IF(E27=6,D33,0))))))","v":0},null,"Output digitale del Prodotto Standard aziendale (produzioni vegetali e produzioni zootecniche) calcolato con l’applicativo Class CE Lite"]
[null,null,"Maggiore di 60.000 euro fino a 100.000 euro ",4]
[null,null,"Oltre 100.000 euro ",0]
[null,null,"Aziende ubicate prevalentemente nei territori delle macroaree C e D, con produzione standard da:"]
[null,null,"Da 12.000 euro fino a 40.000 euro",9]
[null,null,"Maggiore di 40.000 euro fino a 100.000 euro",4]
[null,null,"Oltre 100.000 euro ",0]
["5 - Caratteristiche economiche del progetto",null,"punteggio max",9,"RICHIEDENTE",null,"ISTRUTTORIA"]
["Descrizione",null,"Modalità di attribuzione","punti","punteggio attribuito"]
[4,"Favorire la realizzazione di progetti compatibili con le possibilità di spesa delle aziende","Valutazione del Business Plan presentato che deve avere un RO maggiore di zero nell’anno di entrata a regime del progetto."]
[null,null,"incremento della redditività aziendale, in termini di reddito operativo ≥ 30%",9,4,{"$f":"+IF(E37=1,D37,IF(E37=2,D38,IF(E37=3,D39,D40)))","v":0},null,"BPOL"]
[null,null,"incremento della redditività aziendale, in termini di reddito operativo ≥ 20 e < 30%",6]
[null,null,"incremento della redditività aziendale, in termini di reddito operativo ≥10 e < 20%",3]
[null,null,"Incremento della redditività aziendale <10%",0]
["6 - Qualità delle produzioni dei comparti produttivi ",null,"punteggio max",8,"RICHIEDENTE",null,"ISTRUTTORIA"]
["Descrizione",null,"Modalità di attribuzione","punti","punteggio attribuito"]
["6.1","Prodotti aderenti ai regimi di qualità di cui articolo 16 paragrafo 1 regolamento 1305/2013 la cui produzione ricade nel territorio della Regione Campania ","Il punteggio sarà attribuito solo in presenza di almeno una produzione aziendale certificata, con una DOP e/o una IGP, alla data di rilascio della domanda di sostegno ",3,false,{"$f":"IF(E43=TRUE,D43,0)","v":0},null,null,{"$f":"+IF(AND(H43<>0,F43=0),\"verifica criterio 6.1\",\" \")","v":" "},{"$f":"+IF(I43<>\" \",\"V\",1)","v":1}]
["6.2",null,"L’assegnazione del punteggio è basata sulla dimostrazione dell’iscrizione, alla data di rilascio della domanda di sostegno, delle produzioni aderenti alle DOP e IGP ai consorzi di tutela",2,false,{"$f":"IF(E44=TRUE,D44,0)","v":0},null,null,{"$f":"+IF(AND(H44<>0,F44=0),\"verifica criterio 6.2\",\" \")","v":" "},{"$f":"+IF(I44<>\" \",\"V\",1)","v":1}]
["6.3",null,"L’assegnazione del punteggio è data dalla presenza, alla data di rilascio della domanda di sostegno, del certificato di conformità (o certificato equivalente ai sensi dell'art. 35 del Reg. 2018/848), per produzioni biologiche, compresa la zootecnia.  Sono escluse le certificazioni per prodotti in conversione. Il punteggio sarà attribuito solo in presenza di almeno una produzione aziendale interamente certificata",5,false,{"$f":"IF(E45=FALSE,0,(IF(AND(E45=TRUE,E47=FALSE),D45,\"criterio 6.3 non cumulabile con 6.5\")))","v":0},null,null,{"$f":"+IF(AND(H45<>0,F45=0),\"verifica criterio 6.3\",\" \")","v":" "},1,null,null,{"$f":"IF(AND(G45<>0,G47<>0),\"criterio 6.3 non cumulabile con 6.5\",\"\")","v":""}]
["6.4",null,"L’assegnazione del punteggio è data dal possesso, alla data di rilascio della domanda di sostegno, del documento giustificativo di adesione dell'intera azienda (ad esclusione della zootecnia), ai sistemi di produzione certificata biologica Reg. CE 834/07 e 889/08 s.m. e i. (o certificato equivalente ai sensi dell'art. 35 del Reg. 2018/848)",3,false,{"$f":"IF(E46=FALSE,0,(IF(AND(E46=TRUE,E47=FALSE),D46,\"criterio 6.4 non cumulabile con 6.5\")))","v":0},null,null,{"$f":"+IF(AND(H46<>0,F46=0),\"verifica criterio 6.4\",\" \")","v":" "},1,null,null,{"$f":"IF(AND(G46<>0,G47<>0),\"criterio 6.4 non cumulabile con 6.5\",\"\")","v":""}]
["6.5",null,"L’assegnazione del punteggio è data dal possesso, alla data di rilascio della domanda di sostegno, della certificazione di adesione dell'intera azienda al Sistema Qualità Nazionale Produzione Integrata di cui alla legge n. 4 del 3 febbraio 2011",2,false,{"$f":"IF(E47=FALSE,0,(IF(AND(E47=TRUE,E46=FALSE,E45=FALSE),D47,IF(AND(E47=FALSE,E46=FALSE,E45=FALSE),0,IF(AND(E47=TRUE,OR(E46=TRUE,E45=TRUE)),\"criterio 6.5 non cumulabile con il 6.3 e con il 6.4\")))))","v":0},null,null,{"$f":"+IF(AND(H47<>0,F47=0),\"verifica criterio 6.5\",\" \")","v":" "},1,null,null,{"$f":"IF(AND(G47<>0,G46<>0,G45<>0),\"criterio 6.5 non cumulabile con il 6.3 e il 6.4\",IF(AND(G47<>0,G46<>0),\"criterio 6.5 non cumulabile con 6.4\",IF(AND(G47<>0,G45<>0),\"criterio 6.5 non cumulabile con 6.3\",\"\")))","v":""}]
["6.6",null,"L’impegno ad assicurare almeno una coltura /strutture aziendali per almeno un rischio, previsto dal piano assicurativo nazionale vigente, per tutto il periodo d’impegno. Il requisito deve essere dimostrato con la trasmissione del certificato assicurativo entro la data di emissione della DICA (Decisione Individuale di Concessione dell’Aiuto)",2,false,0,null,null,{"$f":"+IF(AND(H48<>0,F48=0),\"verifica criterio 6.6\",\" \")","v":" "},1]
["7 - Investimenti strategici",null,"punteggio max",5,"RICHIEDENTE",null,"ISTRUTTORIA"]
["Descrizione",null,"Modalità di attribuzione","punti","punteggio attribuito"]
["7.1","Innovazione orientata alla sostenibilità ambientale, alla produzione di energia da fonti rinnovabili ed all'attenuazione dei cambiamenti climatici","Realizzazione di impianti per la produzione di energia da fonti rinnovabili per il soddisfacimento dell’intero fabbisogno di energia elettrica aziendale pre-investimento. Il punteggio può essere attribuito solo per consumi pre-investimento ≥ 2.000 kWh/anno",5,false,{"$f":"+IF(AND(E54=TRUE,E53=FALSE,E52=FALSE,E51=FALSE),0,IF(AND(E54=FALSE,OR(E53=TRUE,E52=TRUE,E51=TRUE)),5,0))","v":0},null,null,{"$f":"+IF(AND(H51<>0,F51=0),\"verifica criterio 7.1\",\" \")","v":" "},{"$f":"+IF(I51<>\" \",\"V\",1)","v":1}]
["7.2",null,"Acquisto macchine/attrezzature coerenti con l’attuazione delle misure agroclimatico ambientali (misure 10 o 11 del PSR CAMPANIA) di cui all'elenco allegato al bando",5,false,null,null,null,{"$f":"+IF(AND(H52<>0,F52=0),\"verifica criterio 7.2\",\" \")","v":" "},{"$f":"+IF(I52<>\" \",\"V\",1)","v":1}]
["7.3",null,"Sostituzione dell’intera superficie delle coperture aziendali contenenti amianto. Tale premialità è concedibile solo per le ditte che non abbiano avuto ordinanze di sostituzione delle coperture contenenti amianto, da parte degli Enti preposti al controllo.",5,false,null,null,null,{"$f":"+IF(AND(H53<>0,F53=0),\"verifica criterio 7.3\",\" \")","v":" "},1]
[null,null,"nessun investimento da valutare",null,false]
[null,null,"TOTALE PUNTEGGIO",null,null,{"$f":"+F6+F7+F14+F17+F22+F27+F37+IF(SUM(F43:F48)<=8,SUM(F43:F48),8)+F51","v":0},{"$f":"+G6+G7+G14+G17+G22+G27+G37+IF(SUM(G43:G48)<=8,SUM(G43:G48),8)+G51","v":0},{"$f":"IF(F55=0,\"Scheda non compilata\",IF(F55<$I55,\"Punteggio minimo non raggiunto\",\"Punteggio minimo raggiunto\"))","v":"Scheda non compilata"},40,null,null,{"$f":"IF(G55=0,\"Istruttoria non compilata\",IF(G55<$I55,\"Punteggio minimo non raggiunto\",\"Punteggio minimo raggiunto\"))","v":"Istruttoria non compilata"}]
[null,null,"TOTALE PROGETTO",null,null,{"$f":"+F22+F27+F37+IF(SUM(F43:F48)<=8,SUM(F43:F48),8)+F51","v":0},{"$f":"+G22+G27+G37+IF(SUM(G43:G48)<=8,SUM(G43:G48),8)+G51","v":0},{"$f":"IF(F56=0,\"Scheda non compilata\",IF(F56<$I56,\"Punteggio minimo non raggiunto\",\"Punteggio minimo raggiunto\"))","v":"Scheda non compilata"},24,null,null,{"$f":"IF(G56=0,\"Istruttoria non compilata\",IF(G56<$I56,\"Punteggio minimo non raggiunto\",\"Punteggio minimo raggiunto\"))","v":"Istruttoria non compilata"}]
[]
[]
["NOTE AGGIUNTIVE RICHIEDENTE",null,null,null,null,null,"NOTE AGGIUNTIVE ISTRUTTORE"]
[]
["data,",{"$f":"TODAY()","v":"2022-08-10"},"Firma"]

{"sheet":"CR_3_GRIGLIA","index":1,"n_rows":22,"n_cols":11,"rows_kept":22,"cut":false,"hidden":false,"merged":[]}
["codice investimento","INVESTIMENTI",null,"Cerealicola","Ortofrutticola","Frutta in guscio","Florovivaismo","Olivicola","Viticola","Lattiero casearia","Carne"]
[null,null,null,1,2,3,4,5,6,7,8]
["411000A001","realizzazione di miglioramenti fondiari: \nper impianti di fruttiferi anche comprensivi di impianti irrigui\n",1,null,35,45,null,45,45]
["411000A002","realizzazione di miglioramenti fondiari:\n- per migliorare la gestione dei pascoli aziendali anche con strutture di ingegneria naturalistica, realizzazione abbeveratoi, strutture di ricovero in legno amovibili per la gestione dell’allevamento nella fase di pascolo\n- sistemazioni dei terreni aziendali con strutture di ingegneria naturalistica per evitare l’erosione del suolo (escluso drenaggi)\n- invasi in terra realizzati nelle macroaree C o D",2,35,null,45,null,35,35,45,45]
["411000A003","Ristrutturazione/ammodernamento di fabbricati da utilizzare esclusivamente per la prima lavorazione, trasformazione o commercializzazione dei prodotti agricoli e dell’allevamento provenienti dall’attività aziendale. (il punteggio è attribuito se il progetto di investimento comprende l'acquisto di macchine, attrezzature e impianti produttivi destinati alla prima lavorazione, trasformazione o commercializzazione non inferiore al 25 % della spesa ammessa per la ristrutturazione/ammodernamento del fabbricato).",3,35,35,45,45,45,45,35,35]
["411000A004","Costruzione ex novo di fabbricati da utilizzare esclusivamente per la prima lavorazione, trasformazione o commercializzazione dei prodotti agricoli e dell’allevamento provenienti dall’attività aziendale. (il punteggio è attribuito se il progetto di investimento comprende l'acquisto di macchine, attrezzature e impianti produttivi destinati alla prima lavorazione, trasformazione o commercializzazione non inferiore al 25 % della spesa ammessa per la costruzione del fabbricato)",4,30,30,35,45,35,35,30,30]
["411000A005","Realizzazione di impianti (macchine/attrezzature) per la refrigerazione, selezione, essiccazione, confezionamento, trasformazione, commercializzazione dei prodotti agricoli e dell’allevamento provenienti dall’attività aziendale",5,35,35,35,45,45,45,45,45]
["411000A006","Ristrutturazione/ammodernamento di strutture a servizio della produzione zootecnica: stalla con impianti idonei al miglioramento del microclima, sala mungitura, locale refrigerazione, impianti e attrezzature per la rimozione delle deiezioni dalla stalla e separatori solido/liquido, paddock (esclusi fienili e depositi); strutture per allevamenti avicoli senza gabbia",6,null,null,null,null,null,null,45,45]
["411000A007","Costruzione ex novo di strutture a servizio della produzione zootecnica: stalla con impianti idonei al miglioramento del microclima, sala mungitura, locale refrigerazione, impianti e attrezzature per la rimozione delle deiezioni dalla stalla e separatori solido/liquido, paddock (esclusi fienili e depositi)",7,null,null,null,null,null,null,35,35]
["411000A008","Costruzione e/o ristrutturazione e/o Ammodernamento di impianti serricoli: \n- sistemi gestionali di coltivazione, anche in fuori suolo, efficientamento energetico, impianti, macchine, attrezzature, strumentazione e sensoristica multiparametrica, per la gestione delle variabili microclimatiche, della luce, dei principali aspetti chimico-fisici del sistema aria, acqua, piante; \n- impianti, attrezzature e servizi in avanserra (art. 9 Regolamento 6/12/2013 n. 8)",8,null,35,null,45]
["411000A009","Trattrici/macchine/attrezzature innovative incluse nell’elenco allegato al bando",9,20,20,20,45,20,20,20,20]
["411000A010","Impianti anticracking, impianti antibrina, pergolati, impianti di ombreggiamento per la tutela delle caratteristiche merceologiche ed organolettiche delle produzioni vegetali",10,null,45,null,45,null,45]
["411000A011","Realizzazione di strade poderali, stradoni drenanti negli impianti serricoli, spazi per la manovra dei mezzi agricoli, recinzioni e altri investimenti non declarati alle voci precedenti",11]
[]
[null,"Priorità","Punteggio"]
[null,"Altamente strategica - verde (V)",45]
[null,"Strategica - rosso (S)",35]
[null,"Alta – arancio (A)",30]
[null,"Media-giallo (M)",20]
[null,"Bassa- bianco (B)",0]
[]
[null,"Il punteggio complessivo è calcolato come media dei punteggi delle varie tipologie d’investimento previste dall’azienda ponderata per la spesa ammissibile totale\n(escluso le spese generali). \nAd esempio, in un progetto dove gli investimenti, in termini di spesa ammissibile  (spesa ammissibile investimento/spesa ammissibile totale progetto), sono suddivisi in:\nInvestimenti S: 35%\nInvestimenti A: 30%\nInvestimenti M: 35%\nIl punteggio è determinato con la seguente modalità di calcolo:\n0,35*(punteggio priorità S)+0,30*(punteggio priorità A)+0,20*(punteggio priorità M)\nIl punteggio deve essere arrotondato alla seconda cifra decimale\n"]

{"sheet":"Dettaglio_Investimenti","index":2,"n_rows":504,"n_cols":10,"rows_kept":504,"cut":false,"hidden":false,"merged":[]}
["ID","codice investimento","Investimento","Settore","sub intervento in domanda di sostegno","Importo","Tipo Investimento","% Investimento","Punteggio TipoInvestimento","Punteggio Pesato"]
[1,null,{"$f":"+IF(B2=\"\",\"\",VLOOKUP(B2,CR_3_GRIGLIA!$A$3:$B$13,2,FALSE))","v":""},null,null,null,{"$f":"+IF(I2=\"\",\"\",IF(I2=CR_3_GRIGLIA!$C$16,CR_3_GRIGLIA!$B$16,IF(I2=CR_3_GRIGLIA!$C$17,CR_3_GRIGLIA!$B$17,IF(I2=CR_3_GRIGLIA!$C$18,CR_3_GRIGLIA!$B$18,IF(I2=CR_3_GRIGLIA!$C$19,CR_3_GRIGLIA!$B$19,CR_3_GRIGLIA!$B$20)))))","v":""},{"$f":"IFERROR(IF(F2=\"\",\"\",F2/$F$504),0)","v":""},{"$f":"+IF(D2=\"\",\"\",IF(C2=\"\",0,INDEX(CR_3_GRIGLIA!$D$3:$K$13,+VLOOKUP(B2,CR_3_GRIGLIA!$A$3:$C$13,3,FALSE),+HLOOKUP(D2,CR_3_GRIGLIA!$D$1:$K$2,2,FALSE))))","v":""},{"$f":"IFERROR(IF(I2=\"\",\"\",I2*F2/$F$504),0)","v":""}]
[2,null,{"$f":"+IF(B3=\"\",\"\",VLOOKUP(B3,CR_3_GRIGLIA!$A$3:$B$13,2,FALSE))","v":""},null,null,null,{"$f":"+IF(I3=\"\",\"\",IF(I3=CR_3_GRIGLIA!$C$16,CR_3_GRIGLIA!$B$16,IF(I3=CR_3_GRIGLIA!$C$17,CR_3_GRIGLIA!$B$17,IF(I3=CR_3_GRIGLIA!$C$18,CR_3_GRIGLIA!$B$18,IF(I3=CR_3_GRIGLIA!$C$19,CR_3_GRIGLIA!$B$19,CR_3_GRIGLIA!$B$20)))))","v":""},{"$f":"IFERROR(IF(F3=\"\",\"\",F3/$F$504),0)","v":""},{"$f":"+IF(D3=\"\",\"\",IF(C3=\"\",0,INDEX(CR_3_GRIGLIA!$D$3:$K$13,+VLOOKUP(B3,CR_3_GRIGLIA!$A$3:$C$13,3,FALSE),+HLOOKUP(D3,CR_3_GRIGLIA!$D$1:$K$2,2,FALSE))))","v":""},{"$f":"IFERROR(IF(I3=\"\",\"\",I3*F3/$F$504),0)","v":""}]
[3,null,{"$f":"+IF(B4=\"\",\"\",VLOOKUP(B4,CR_3_GRIGLIA!$A$3:$B$13,2,FALSE))","v":""},null,null,null,{"$f":"+IF(I4=\"\",\"\",IF(I4=CR_3_GRIGLIA!$C$16,CR_3_GRIGLIA!$B$16,IF(I4=CR_3_GRIGLIA!$C$17,CR_3_GRIGLIA!$B$17,IF(I4=CR_3_GRIGLIA!$C$18,CR_3_GRIGLIA!$B$18,IF(I4=CR_3_GRIGLIA!$C$19,CR_3_GRIGLIA!$B$19,CR_3_GRIGLIA!$B$20)))))","v":""},"",{"$f":"+IF(D4=\"\",\"\",IF(C4=\"\",0,INDEX(CR_3_GRIGLIA!$D$3:$K$13,+VLOOKUP(B4,CR_3_GRIGLIA!$A$3:$C$13,3,FALSE),+HLOOKUP(D4,CR_3_GRIGLIA!$D$1:$K$2,2,FALSE))))","v":""},""]
[4,null,{"$f":"+IF(B5=\"\",\"\",VLOOKUP(B5,CR_3_GRIGLIA!$A$3:$B$13,2,FALSE))","v":""},null,null,null,{"$f":"+IF(I5=\"\",\"\",IF(I5=CR_3_GRIGLIA!$C$16,CR_3_GRIGLIA!$B$16,IF(I5=CR_3_GRIGLIA!$C$17,CR_3_GRIGLIA!$B$17,IF(I5=CR_3_GRIGLIA!$C$18,CR_3_GRIGLIA!$B$18,IF(I5=CR_3_GRIGLIA!$C$19,CR_3_GRIGLIA!$B$19,CR_3_GRIGLIA!$B$20)))))","v":""},"",{"$f":"+IF(D5=\"\",\"\",IF(C5=\"\",0,INDEX(CR_3_GRIGLIA!$D$3:$K$13,+VLOOKUP(B5,CR_3_GRIGLIA!$A$3:$C$13,3,FALSE),+HLOOKUP(D5,CR_3_GRIGLIA!$D$1:$K$2,2,FALSE))))","v":""},""]
[5,null,{"$f":"+IF(B6=\"\",\"\",VLOOKUP(B6,CR_3_GRIGLIA!$A$3:$B$13,2,FALSE))","v":""},null,null,null,{"$f":"+IF(I6=\"\",\"\",IF(I6=CR_3_GRIGLIA!$C$16,CR_3_GRIGLIA!$B$16,IF(I6=CR_3_GRIGLIA!$C$17,CR_3_GRIGLIA!$B$17,IF(I6=CR_3_GRIGLIA!$C$18,CR_3_GRIGLIA!$B$18,IF(I6=CR_3_GRIGLIA!$C$19,CR_3_GRIGLIA!$B$19,CR_3_GRIGLIA!$B$20)))))","v":""},"",{"$f":"+IF(D6=\"\",\"\",IF(C6=\"\",0,INDEX(CR_3_GRIGLIA!$D$3:$K$13,+VLOOKUP(B6,CR_3_GRIGLIA!$A$3:$C$13,3,FALSE),+HLOOKUP(D6,CR_3_GRIGLIA!$D$1:$K$2,2,FALSE))))","v":""},""]
[6,null,{"$f":"+IF(B7=\"\",\"\",VLOOKUP(B7,CR_3_GRIGLIA!$A$3:$B$13,2,FALSE))","v":""},null,null,null,{"$f":"+IF(I7=\"\",\"\",IF(I7=CR_3_GRIGLIA!$C$16,CR_3_GRIGLIA!$B$16,IF(I7=CR_3_GRIGLIA!$C$17,CR_3_GRIGLIA!$B$17,IF(I7=CR_3_GRIGLIA!$C$18,CR_3_GRIGLIA!$B$18,IF(I7=CR_3_GRIGLIA!$C$19,CR_3_GRIGLIA!$B$19,CR_3_GRIGLIA!$B$20)))))","v":""},"",{"$f":"+IF(D7=\"\",\"\",IF(C7=\"\",0,INDEX(CR_3_GRIGLIA!$D$3:$K$13,+VLOOKUP(B7,CR_3_GRIGLIA!$A$3:$C$13,3,FALSE),+HLOOKUP(D7,CR_3_GRIGLIA!$D$1:$K$2,2,FALSE))))","v":""},""]
[7,null,{"$f":"+IF(B8=\"\",\"\",VLOOKUP(B8,CR_3_GRIGLIA!$A$3:$B$13,2,FALSE))","v":""},null,null,null,{"$f":"+IF(I8=\"\",\"\",IF(I8=CR_3_GRIGLIA!$C$16,CR_3_GRIGLIA!$B$16,IF(I8=CR_3_GRIGLIA!$C$17,CR_3_GRIGLIA!$B$17,IF(I8=CR_3_GRIGLIA!$C$18,CR_3_GRIGLIA!$B$18,IF(I8=CR_3_GRIGLIA!$C$19,CR_3_GRIGLIA!$B$19,CR_3_GRIGLIA!$B$20)))))","v":""},"",{"$f":"+IF(D8=\"\",\"\",IF(C8=\"\",0,INDEX(CR_3_GRIGLIA!$D$3:$K$13,+VLOOKUP(B8,CR_3_GRIGLIA!$A$3:$C$13,3,FALSE),+HLOOKUP(D8,CR_3_GRIGLIA!$D$1:$K$2,2,FALSE))))","v":""},""]
[8,null,{"$f":"+IF(B9=\"\",\"\",VLOOKUP(B9,CR_3_GRIGLIA!$A$3:$B$13,2,FALSE))","v":""},null,null,null,{"$f":"+IF(I9=\"\",\"\",IF(I9=CR_3_GRIGLIA!$C$16,CR_3_GRIGLIA!$B$16,IF(I9=CR_3_GRIGLIA!$C$17,CR_3_GRIGLIA!$B$17,IF(I9=CR_3_GRIGLIA!$C$18,CR_3_GRIGLIA!$B$18,IF(I9=CR_3_GRIGLIA!$C$19,CR_3_GRIGLIA!$B$19,CR_3_GRIGLIA!$B$20)))))","v":""},"",{"$f":"+IF(D9=\"\",\"\",IF(C9=\"\",0,INDEX(CR_3_GRIGLIA!$D$3:$K$13,+VLOOKUP(B9,CR_3_GRIGLIA!$A$3:$C$13,3,FALSE),+HLOOKUP(D9,CR_3_GRIGLIA!$D$1:$K$2,2,FALSE))))","v":""},""]
[9,null,{"$f":"+IF(B10=\"\",\"\",VLOOKUP(B10,CR_3_GRIGLIA!$A$3:$B$13,2,FALSE))","v":""},null,null,null,{"$f":"+IF(I10=\"\",\"\",IF(I10=CR_3_GRIGLIA!$C$16,CR_3_GRIGLIA!$B$16,IF(I10=CR_3_GRIGLIA!$C$17,CR_3_GRIGLIA!$B$17,IF(I10=CR_3_GRIGLIA!$C$18,CR_3_GRIGLIA!$B$18,IF(I10=CR_3_GRIGLIA!$C$19,CR_3_GRIGLIA!$B$19,CR_3_GRIGLIA!$B$20)))))","v":""},"",{"$f":"+IF(D10=\"\",\"\",IF(C10=\"\",0,INDEX(CR_3_GRIGLIA!$D$3:$K$13,+VLOOKUP(B10,CR_3_GRIGLIA!$A$3:$C$13,3,FALSE),+HLOOKUP(D10,CR_3_GRIGLIA!$D$1:$K$2,2,FALSE))))","v":""},""]
[10,null,{"$f":"+IF(B11=\"\",\"\",VLOOKUP(B11,CR_3_GRIGLIA!$A$3:$B$13,2,FALSE))","v":""},null,null,null,{"$f":"+IF(I11=\"\",\"\",IF(I11=CR_3_GRIGLIA!$C$16,CR_3_GRIGLIA!$B$16,IF(I11=CR_3_GRIGLIA!$C$17,CR_3_GRIGLIA!$B$17,IF(I11=CR_3_GRIGLIA!$C$18,CR_3_GRIGLIA!$B$18,IF(I11=CR_3_GRIGLIA!$C$19,CR_3_GRIGLIA!$B$19,CR_3_GRIGLIA!$B$20)))))","v":""},"",{"$f":"+IF(D11=\"\",\"\",IF(C11=\"\",0,INDEX(CR_3_GRIGLIA!$D$3:$K$13,+VLOOKUP(B11,CR_3_GRIGLIA!$A$3:$C$13,3,FALSE),+HLOOKUP(D11,CR_3_GRIGLIA!$D$1:$K$2,2,FALSE))))","v":""},""]
[11,null,{"$f":"+IF(B12=\"\",\"\",VLOOKUP(B12,CR_3_GRIGLIA!$A$3:$B$13,2,FALSE))","v":""},null,null,null,{"$f":"+IF(I12=\"\",\"\",IF(I12=CR_3_GRIGLIA!$C$16,CR_3_GRIGLIA!$B$16,IF(I12=CR_3_GRIGLIA!$C$17,CR_3_GRIGLIA!$B$17,IF(I12=CR_3_GRIGLIA!$C$18,CR_3_GRIGLIA!$B$18,IF(I12=CR_3_GRIGLIA!$C$19,CR_3_GRIGLIA!$B$19,CR_3_GRIGLIA!$B$20)))))","v":""},"",{"$f":"+IF(D12=\"\",\"\",IF(C12=\"\",0,INDEX(CR_3_GRIGLIA!$D$3:$K$13,+VLOOKUP(B12,CR_3_GRIGLIA!$A$3:$C$13,3,FALSE),+HLOOKUP(D12,CR_3_GRIGLIA!$D$1:$K$2,2,FALSE))))","v":""},""]
[12,null,{"$f":"+IF(B13=\"\",\"\",VLOOKUP(B13,CR_3_GRIGLIA!$A$3:$B$13,2,FALSE))","v":""},null,null,null,{"$f":"+IF(I13=\"\",\"\",IF(I13=CR_3_GRIGLIA!$C$16,CR_3_GRIGLIA!$B$16,IF(I13=CR_3_GRIGLIA!$C$17,CR_3_GRIGLIA!$B$17,IF(I13=CR_3_GRIGLIA!$C$18,CR_3_GRIGLIA!$B$18,IF(I13=CR_3_GRIGLIA!$C$19,CR_3_GRIGLIA!$B$19,CR_3_GRIGLIA!$B$20)))))","v":""},"",{"$f":"+IF(D13=\"\",\"\",IF(C13=\"\",0,INDEX(CR_3_GRIGLIA!$D$3:$K$13,+VLOOKUP(B13,CR_3_GRIGLIA!$A$3:$C$13,3,FALSE),+HLOOKUP(D13,CR_3_GRIGLIA!$D$1:$K$2,2,FALSE))))","v":""},""]
[13,null,{"$f":"+IF(B14=\"\",\"\",VLOOKUP(B14,CR_3_GRIGLIA!$A$3:$B$13,2,FALSE))","v":""},null,null,null,{"$f":"+IF(I14=\"\",\"\",IF(I14=CR_3_GRIGLIA!$C$16,CR_3_GRIGLIA!$B$16,IF(I14=CR_3_GRIGLIA!$C$17,CR_3_GRIGLIA!$B$17,IF(I14=CR_3_GRIGLIA!$C$18,CR_3_GRIGLIA!$B$18,IF(I14=CR_3_GRIGLIA!$C$19,CR_3_GRIGLIA!$B$19,CR_3_GRIGLIA!$B$20)))))","v":""},"",{"$f":"+IF(D14=\"\",\"\",IF(C14=\"\",0,INDEX(CR_3_GRIGLIA!$D$3:$K$13,+VLOOKUP(B14,CR_3_GRIGLIA!$A$3:$C$13,3,FALSE),+HLOOKUP(D14,CR_3_GRIGLIA!$D$1:$K$2,2,FALSE))))","v":""},""]
[14,null,{"$f":"+IF(B15=\"\",\"\",VLOOKUP(B15,CR_3_GRIGLIA!$A$3:$B$13,2,FALSE))","v":""},null,null,null,{"$f":"+IF(I15=\"\",\"\",IF(I15=CR_3_GRIGLIA!$C$16,CR_3_GRIGLIA!$B$16,IF(I15=CR_3_GRIGLIA!$C$17,CR_3_GRIGLIA!$B$17,IF(I15=CR_3_GRIGLIA!$C$18,CR_3_GRIGLIA!$B$18,IF(I15=CR_3_GRIGLIA!$C$19,CR_3_GRIGLIA!$B$19,CR_3_GRIGLIA!$B$20)))))","v":""},"",{"$f":"+IF(D15=\"\",\"\",IF(C15=\"\",0,INDEX(CR_3_GRIGLIA!$D$3:$K$13,+VLOOKUP(B15,CR_3_GRIGLIA!$A$3:$C$13,3,FALSE),+HLOOKUP(D15,CR_3_GRIGLIA!$D$1:$K$2,2,FALSE))))","v":""},""]
[15,null,{"$f":"+IF(B16=\"\",\"\",VLOOKUP(B16,CR_3_GRIGLIA!$A$3:$B$13,2,FALSE))","v":""},null,null,null,{"$f":"+IF(I16=\"\",\"\",IF(I16=CR_3_GRIGLIA!$C$16,CR_3_GRIGLIA!$B$16,IF(I16=CR_3_GRIGLIA!$C$17,CR_3_GRIGLIA!$B$17,IF(I16=CR_3_GRIGLIA!$C$18,CR_3_GRIGLIA!$B$18,IF(I16=CR_3_GRIGLIA!$C$19,CR_3_GRIGLIA!$B$19,CR_3_GRIGLIA!$B$20)))))","v":""},"",{"$f":"+IF(D16=\"\",\"\",IF(C16=\"\",0,INDEX(CR_3_GRIGLIA!$D$3:$K$13,+VLOOKUP(B16,CR_3_GRIGLIA!$A$3:$C$13,3,FALSE),+HLOOKUP(D16,CR_3_GRIGLIA!$D$1:$K$2,2,FALSE))))","v":""},""]
[16,null,{"$f":"+IF(B17=\"\",\"\",VLOOKUP(B17,CR_3_GRIGLIA!$A$3:$B$13,2,FALSE))","v":""},null,null,null,{"$f":"+IF(I17=\"\",\"\",IF(I17=CR_3_GRIGLIA!$C$16,CR_3_GRIGLIA!$B$16,IF(I17=CR_3_GRIGLIA!$C$17,CR_3_GRIGLIA!$B$17,IF(I17=CR_3_GRIGLIA!$C$18,CR_3_GRIGLIA!$B$18,IF(I17=CR_3_GRIGLIA!$C$19,CR_3_GRIGLIA!$B$19,CR_3_GRIGLIA!$B$20)))))","v":""},"",{"$f":"+IF(D17=\"\",\"\",IF(C17=\"\",0,INDEX(CR_3_GRIGLIA!$D$3:$K$13,+VLOOKUP(B17,CR_3_GRIGLIA!$A$3:$C$13,3,FALSE),+HLOOKUP(D17,CR_3_GRIGLIA!$D$1:$K$2,2,FALSE))))","v":""},""]
[17,null,{"$f":"+IF(B18=\"\",\"\",VLOOKUP(B18,CR_3_GRIGLIA!$A$3:$B$13,2,FALSE))","v":""},null,null,null,{"$f":"+IF(I18=\"\",\"\",IF(I18=CR_3_GRIGLIA!$C$16,CR_3_GRIGLIA!$B$16,IF(I18=CR_3_GRIGLIA!$C$17,CR_3_GRIGLIA!$B$17,IF(I18=CR_3_GRIGLIA!$C$18,CR_3_GRIGLIA!$B$18,IF(I18=CR_3_GRIGLIA!$C$19,CR_3_GRIGLIA!$B$19,CR_3_GRIGLIA!$B$20)))))","v":""},"",{"$f":"+IF(D18=\"\",\"\",IF(C18=\"\",0,INDEX(CR_3_GRIGLIA!$D$3:$K$13,+VLOOKUP(B18,CR_3_GRIGLIA!$A$3:$C$13,3,FALSE),+HLOOKUP(D18,CR_3_GRIGLIA!$D$1:$K$2,2,FALSE))))","v":""},""]
[18,null,{"$f":"+IF(B19=\"\",\"\",VLOOKUP(B19,CR_3_GRIGLIA!$A$3:$B$13,2,FALSE))","v":""},null,null,null,{"$f":"+IF(I19=\"\",\"\",IF(I19=CR_3_GRIGLIA!$C$16,CR_3_GRIGLIA!$B$16,IF(I19=CR_3_GRIGLIA!$C$17,CR_3_GRIGLIA!$B$17,IF(I19=CR_3_GRIGLIA!$C$18,CR_3_GRIGLIA!$B$18,IF(I19=CR_3_GRIGLIA!$C$19,CR_3_GRIGLIA!$B$19,CR_3_GRIGLIA!$B$20)))))","v":""},"",{"$f":"+IF(D19=\"\",\"\",IF(C19=\"\",0,INDEX(CR_3_GRIGLIA!$D$3:$K$13,+VLOOKUP(B19,CR_3_GRIGLIA!$A$3:$C$13,3,FALSE),+HLOOKUP(D19,CR_3_GRIGLIA!$D$1:$K$2,2,FALSE))))","v":""},""]
[19,null,{"$f":"+IF(B20=\"\",\"\",VLOOKUP(B20,CR_3_GRIGLIA!$A$3:$B$13,2,FALSE))","v":""},null,null,null,{"$f":"+IF(I20=\"\",\"\",IF(I20=CR_3_GRIGLIA!$C$16,CR_3_GRIGLIA!$B$16,IF(I20=CR_3_GRIGLIA!$C$17,CR_3_GRIGLIA!$B$17,IF(I20=CR_3_GRIGLIA!$C$18,CR_3_GRIGLIA!$B$18,IF(I20=CR_3_GRIGLIA!$C$19,CR_3_GRIGLIA!$B$19,CR_3_GRIGLIA!$B$20)))))","v":""},"",{"$f":"+IF(D20=\"\",\"\",IF(C20=\"\",0,INDEX(CR_3_GRIGLIA!$D$3:$K$13,+VLOOKUP(B20,CR_3_GRIGLIA!$A$3:$C$13,3,FALSE),+HLOOKUP(D20,CR_3_GRIGLIA!$D$1:$K$2,2,FALSE))))","v":""},""]
[20,null,{"$f":"+IF(B21=\"\",\"\",VLOOKUP(B21,CR_3_GRIGLIA!$A$3:$B$13,2,FALSE))","v":""},null,null,null,{"$f":"+IF(I21=\"\",\"\",IF(I21=CR_3_GRIGLIA!$C$16,CR_3_GRIGLIA!$B$16,IF(I21=CR_3_GRIGLIA!$C$17,CR_3_GRIGLIA!$B$17,IF(I21=CR_3_GRIGLIA!$C$18,CR_3_GRIGLIA!$B$18,IF(I21=CR_3_GRIGLIA!$C$19,CR_3_GRIGLIA!$B$19,CR_3_GRIGLIA!$B$20)))))","v":""},"",{"$f":"+IF(D21=\"\",\"\",IF(C21=\"\",0,INDEX(CR_3_GRIGLIA!$D$3:$K$13,+VLOOKUP(B21,CR_3_GRIGLIA!$A$3:$C$13,3,FALSE),+HLOOKUP(D21,CR_3_GRIGLIA!$D$1:$K$2,2,FALSE))))","v":""},""]
[21,null,{"$f":"+IF(B22=\"\",\"\",VLOOKUP(B22,CR_3_GRIGLIA!$A$3:$B$13,2,FALSE))","v":""},null,null,null,{"$f":"+IF(I22=\"\",\"\",IF(I22=CR_3_GRIGLIA!$C$16,CR_3_GRIGLIA!$B$16,IF(I22=CR_3_GRIGLIA!$C$17,CR_3_GRIGLIA!$B$17,IF(I22=CR_3_GRIGLIA!$C$18,CR_3_GRIGLIA!$B$18,IF(I22=CR_3_GRIGLIA!$C$19,CR_3_GRIGLIA!$B$19,CR_3_GRIGLIA!$B$20)))))","v":""},"",{"$f":"+IF(D22=\"\",\"\",IF(C22=\"\",0,INDEX(CR_3_GRIGLIA!$D$3:$K$13,+VLOOKUP(B22,CR_3_GRIGLIA!$A$3:$C$13,3,FALSE),+HLOOKUP(D22,CR_3_GRIGLIA!$D$1:$K$2,2,FALSE))))","v":""},""]
[22,null,{"$f":"+IF(B23=\"\",\"\",VLOOKUP(B23,CR_3_GRIGLIA!$A$3:$B$13,2,FALSE))","v":""},null,null,null,{"$f":"+IF(I23=\"\",\"\",IF(I23=CR_3_GRIGLIA!$C$16,CR_3_GRIGLIA!$B$16,IF(I23=CR_3_GRIGLIA!$C$17,CR_3_GRIGLIA!$B$17,IF(I23=CR_3_GRIGLIA!$C$18,CR_3_GRIGLIA!$B$18,IF(I23=CR_3_GRIGLIA!$C$19,CR_3_GRIGLIA!$B$19,CR_3_GRIGLIA!$B$20)))))","v":""},"",{"$f":"+IF(D23=\"\",\"\",IF(C23=\"\",0,INDEX(CR_3_GRIGLIA!$D$3:$K$13,+VLOOKUP(B23,CR_3_GRIGLIA!$A$3:$C$13,3,FALSE),+HLOOKUP(D23,CR_3_GRIGLIA!$D$1:$K$2,2,FALSE))))","v":""},""]
[23,null,{"$f":"+IF(B24=\"\",\"\",VLOOKUP(B24,CR_3_GRIGLIA!$A$3:$B$13,2,FALSE))","v":""},null,null,null,{"$f":"+IF(I24=\"\",\"\",IF(I24=CR_3_GRIGLIA!$C$16,CR_3_GRIGLIA!$B$16,IF(I24=CR_3_GRIGLIA!$C$17,CR_3_GRIGLIA!$B$17,IF(I24=CR_3_GRIGLIA!$C$18,CR_3_GRIGLIA!$B$18,IF(I24=CR_3_GRIGLIA!$C$19,CR_3_GRIGLIA!$B$19,CR_3_GRIGLIA!$B$20)))))","v":""},"",{"$f":"+IF(D24=\"\",\"\",IF(C24=\"\",0,INDEX(CR_3_GRIGLIA!$D$3:$K$13,+VLOOKUP(B24,CR_3_GRIGLIA!$A$3:$C$13,3,FALSE),+HLOOKUP(D24,CR_3_GRIGLIA!$D$1:$K$2,2,FALSE))))","v":""},""]
[24,null,{"$f":"+IF(B25=\"\",\"\",VLOOKUP(B25,CR_3_GRIGLIA!$A$3:$B$13,2,FALSE))","v":""},null,null,null,{"$f":"+IF(I25=\"\",\"\",IF(I25=CR_3_GRIGLIA!$C$16,CR_3_GRIGLIA!$B$16,IF(I25=CR_3_GRIGLIA!$C$17,CR_3_GRIGLIA!$B$17,IF(I25=CR_3_GRIGLIA!$C$18,CR_3_GRIGLIA!$B$18,IF(I25=CR_3_GRIGLIA!$C$19,CR_3_GRIGLIA!$B$19,CR_3_GRIGLIA!$B$20)))))","v":""},"",{"$f":"+IF(D25=\"\",\"\",IF(C25=\"\",0,INDEX(CR_3_GRIGLIA!$D$3:$K$13,+VLOOKUP(B25,CR_3_GRIGLIA!$A$3:$C$13,3,FALSE),+HLOOKUP(D25,CR_3_GRIGLIA!$D$1:$K$2,2,FALSE))))","v":""},""]
[25,null,{"$f":"+IF(B26=\"\",\"\",VLOOKUP(B26,CR_3_GRIGLIA!$A$3:$B$13,2,FALSE))","v":""},null,null,null,{"$f":"+IF(I26=\"\",\"\",IF(I26=CR_3_GRIGLIA!$C$16,CR_3_GRIGLIA!$B$16,IF(I26=CR_3_GRIGLIA!$C$17,CR_3_GRIGLIA!$B$17,IF(I26=CR_3_GRIGLIA!$C$18,CR_3_GRIGLIA!$B$18,IF(I26=CR_3_GRIGLIA!$C$19,CR_3_GRIGLIA!$B$19,CR_3_GRIGLIA!$B$20)))))","v":""},"",{"$f":"+IF(D26=\"\",\"\",IF(C26=\"\",0,INDEX(CR_3_GRIGLIA!$D$3:$K$13,+VLOOKUP(B26,CR_3_GRIGLIA!$A$3:$C$13,3,FALSE),+HLOOKUP(D26,CR_3_GRIGLIA!$D$1:$K$2,2,FALSE))))","v":""},""]
[26,null,{"$f":"+IF(B27=\"\",\"\",VLOOKUP(B27,CR_3_GRIGLIA!$A$3:$B$13,2,FALSE))","v":""},null,null,null,{"$f":"+IF(I27=\"\",\"\",IF(I27=CR_3_GRIGLIA!$C$16,CR_3_GRIGLIA!$B$16,IF(I27=CR_3_GRIGLIA!$C$17,CR_3_GRIGLIA!$B$17,IF(I27=CR_3_GRIGLIA!$C$18,CR_3_GRIGLIA!$B$18,IF(I27=CR_3_GRIGLIA!$C$19,CR_3_GRIGLIA!$B$19,CR_3_GRIGLIA!$B$20)))))","v":""},"",{"$f":"+IF(D27=\"\",\"\",IF(C27=\"\",0,INDEX(CR_3_GRIGLIA!$D$3:$K$13,+VLOOKUP(B27,CR_3_GRIGLIA!$A$3:$C$13,3,FALSE),+HLOOKUP(D27,CR_3_GRIGLIA!$D$1:$K$2,2,FALSE))))","v":""},""]
[27,null,{"$f":"+IF(B28=\"\",\"\",VLOOKUP(B28,CR_3_GRIGLIA!$A$3:$B$13,2,FALSE))","v":""},null,null,null,{"$f":"+IF(I28=\"\",\"\",IF(I28=CR_3_GRIGLIA!$C$16,CR_3_GRIGLIA!$B$16,IF(I28=CR_3_GRIGLIA!$C$17,CR_3_GRIGLIA!$B$17,IF(I28=CR_3_GRIGLIA!$C$18,CR_3_GRIGLIA!$B$18,IF(I28=CR_3_GRIGLIA!$C$19,CR_3_GRIGLIA!$B$19,CR_3_GRIGLIA!$B$20)))))","v":""},"",{"$f":"+IF(D28=\"\",\"\",IF(C28=\"\",0,INDEX(CR_3_GRIGLIA!$D$3:$K$13,+VLOOKUP(B28,CR_3_GRIGLIA!$A$3:$C$13,3,FALSE),+HLOOKUP(D28,CR_3_GRIGLIA!$D$1:$K$2,2,FALSE))))","v":""},""]
[28,null,{"$f":"+IF(B29=\"\",\"\",VLOOKUP(B29,CR_3_GRIGLIA!$A$3:$B$13,2,FALSE))","v":""},null,null,null,{"$f":"+IF(I29=\"\",\"\",IF(I29=CR_3_GRIGLIA!$C$16,CR_3_GRIGLIA!$B$16,IF(I29=CR_3_GRIGLIA!$C$17,CR_3_GRIGLIA!$B$17,IF(I29=CR_3_GRIGLIA!$C$18,CR_3_GRIGLIA!$B$18,IF(I29=CR_3_GRIGLIA!$C$19,CR_3_GRIGLIA!$B$19,CR_3_GRIGLIA!$B$20)))))","v":""},"",{"$f":"+IF(D29=\"\",\"\",IF(C29=\"\",0,INDEX(CR_3_GRIGLIA!$D$3:$K$13,+VLOOKUP(B29,CR_3_GRIGLIA!$A$3:$C$13,3,FALSE),+HLOOKUP(D29,CR_3_GRIGLIA!$D$1:$K$2,2,FALSE))))","v":""},""]
[29,null,{"$f":"+IF(B30=\"\",\"\",VLOOKUP(B30,CR_3_GRIGLIA!$A$3:$B$13,2,FALSE))","v":""},null,null,null,{"$f":"+IF(I30=\"\",\"\",IF(I30=CR_3_GRIGLIA!$C$16,CR_3_GRIGLIA!$B$16,IF(I30=CR_3_GRIGLIA!$C$17,CR_3_GRIGLIA!$B$17,IF(I30=CR_3_GRIGLIA!$C$18,CR_3_GRIGLIA!$B$18,IF(I30=CR_3_GRIGLIA!$C$19,CR_3_GRIGLIA!$B$19,CR_3_GRIGLIA!$B$20)))))","v":""},"",{"$f":"+IF(D30=\"\",\"\",IF(C30=\"\",0,INDEX(CR_3_GRIGLIA!$D$3:$K$13,+VLOOKUP(B30,CR_3_GRIGLIA!$A$3:$C$13,3,FALSE),+HLOOKUP(D30,CR_3_GRIGLIA!$D$1:$K$2,2,FALSE))))","v":""},""]
[30,null,{"$f":"+IF(B31=\"\",\"\",VLOOKUP(B31,CR_3_GRIGLIA!$A$3:$B$13,2,FALSE))","v":""},null,null,null,{"$f":"+IF(I31=\"\",\"\",IF(I31=CR_3_GRIGLIA!$C$16,CR_3_GRIGLIA!$B$16,IF(I31=CR_3_GRIGLIA!$C$17,CR_3_GRIGLIA!$B$17,IF(I31=CR_3_GRIGLIA!$C$18,CR_3_GRIGLIA!$B$18,IF(I31=CR_3_GRIGLIA!$C$19,CR_3_GRIGLIA!$B$19,CR_3_GRIGLIA!$B$20)))))","v":""},"",{"$f":"+IF(D31=\"\",\"\",IF(C31=\"\",0,INDEX(CR_3_GRIGLIA!$D$3:$K$13,+VLOOKUP(B31,CR_3_GRIGLIA!$A$3:$C$13,3,FALSE),+HLOOKUP(D31,CR_3_GRIGLIA!$D$1:$K$2,2,FALSE))))","v":""},""]
[31,null,{"$f":"+IF(B32=\"\",\"\",VLOOKUP(B32,CR_3_GRIGLIA!$A$3:$B$13,2,FALSE))","v":""},null,null,null,{"$f":"+IF(I32=\"\",\"\",IF(I32=CR_3_GRIGLIA!$C$16,CR_3_GRIGLIA!$B$16,IF(I32=CR_3_GRIGLIA!$C$17,CR_3_GRIGLIA!$B$17,IF(I32=CR_3_GRIGLIA!$C$18,CR_3_GRIGLIA!$B$18,IF(I32=CR_3_GRIGLIA!$C$19,CR_3_GRIGLIA!$B$19,CR_3_GRIGLIA!$B$20)))))","v":""},"",{"$f":"+IF(D32=\"\",\"\",IF(C32=\"\",0,INDEX(CR_3_GRIGLIA!$D$3:$K$13,+VLOOKUP(B32,CR_3_GRIGLIA!$A$3:$C$13,3,FALSE),+HLOOKUP(D32,CR_3_GRIGLIA!$D$1:$K$2,2,FALSE))))","v":""},""]
[32,null,{"$f":"+IF(B33=\"\",\"\",VLOOKUP(B33,CR_3_GRIGLIA!$A$3:$B$13,2,FALSE))","v":""},null,null,null,{"$f":"+IF(I33=\"\",\"\",IF(I33=CR_3_GRIGLIA!$C$16,CR_3_GRIGLIA!$B$16,IF(I33=CR_3_GRIGLIA!$C$17,CR_3_GRIGLIA!$B$17,IF(I33=CR_3_GRIGLIA!$C$18,CR_3_GRIGLIA!$B$18,IF(I33=CR_3_GRIGLIA!$C$19,CR_3_GRIGLIA!$B$19,CR_3_GRIGLIA!$B$20)))))","v":""},"",{"$f":"+IF(D33=\"\",\"\",IF(C33=\"\",0,INDEX(CR_3_GRIGLIA!$D$3:$K$13,+VLOOKUP(B33,CR_3_GRIGLIA!$A$3:$C$13,3,FALSE),+HLOOKUP(D33,CR_3_GRIGLIA!$D$1:$K$2,2,FALSE))))","v":""},""]
[33,null,{"$f":"+IF(B34=\"\",\"\",VLOOKUP(B34,CR_3_GRIGLIA!$A$3:$B$13,2,FALSE))","v":""},null,null,null,{"$f":"+IF(I34=\"\",\"\",IF(I34=CR_3_GRIGLIA!$C$16,CR_3_GRIGLIA!$B$16,IF(I34=CR_3_GRIGLIA!$C$17,CR_3_GRIGLIA!$B$17,IF(I34=CR_3_GRIGLIA!$C$18,CR_3_GRIGLIA!$B$18,IF(I34=CR_3_GRIGLIA!$C$19,CR_3_GRIGLIA!$B$19,CR_3_GRIGLIA!$B$20)))))","v":""},"",{"$f":"+IF(D34=\"\",\"\",IF(C34=\"\",0,INDEX(CR_3_GRIGLIA!$D$3:$K$13,+VLOOKUP(B34,CR_3_GRIGLIA!$A$3:$C$13,3,FALSE),+HLOOKUP(D34,CR_3_GRIGLIA!$D$1:$K$2,2,FALSE))))","v":""},""]
[34,null,{"$f":"+IF(B35=\"\",\"\",VLOOKUP(B35,CR_3_GRIGLIA!$A$3:$B$13,2,FALSE))","v":""},null,null,null,{"$f":"+IF(I35=\"\",\"\",IF(I35=CR_3_GRIGLIA!$C$16,CR_3_GRIGLIA!$B$16,IF(I35=CR_3_GRIGLIA!$C$17,CR_3_GRIGLIA!$B$17,IF(I35=CR_3_GRIGLIA!$C$18,CR_3_GRIGLIA!$B$18,IF(I35=CR_3_GRIGLIA!$C$19,CR_3_GRIGLIA!$B$19,CR_3_GRIGLIA!$B$20)))))","v":""},"",{"$f":"+IF(D35=\"\",\"\",IF(C35=\"\",0,INDEX(CR_3_GRIGLIA!$D$3:$K$13,+VLOOKUP(B35,CR_3_GRIGLIA!$A$3:$C$13,3,FALSE),+HLOOKUP(D35,CR_3_GRIGLIA!$D$1:$K$2,2,FALSE))))","v":""},""]
[35,null,{"$f":"+IF(B36=\"\",\"\",VLOOKUP(B36,CR_3_GRIGLIA!$A$3:$B$13,2,FALSE))","v":""},null,null,null,{"$f":"+IF(I36=\"\",\"\",IF(I36=CR_3_GRIGLIA!$C$16,CR_3_GRIGLIA!$B$16,IF(I36=CR_3_GRIGLIA!$C$17,CR_3_GRIGLIA!$B$17,IF(I36=CR_3_GRIGLIA!$C$18,CR_3_GRIGLIA!$B$18,IF(I36=CR_3_GRIGLIA!$C$19,CR_3_GRIGLIA!$B$19,CR_3_GRIGLIA!$B$20)))))","v":""},"",{"$f":"+IF(D36=\"\",\"\",IF(C36=\"\",0,INDEX(CR_3_GRIGLIA!$D$3:$K$13,+VLOOKUP(B36,CR_3_GRIGLIA!$A$3:$C$13,3,FALSE),+HLOOKUP(D36,CR_3_GRIGLIA!$D$1:$K$2,2,FALSE))))","v":""},""]
[36,null,{"$f":"+IF(B37=\"\",\"\",VLOOKUP(B37,CR_3_GRIGLIA!$A$3:$B$13,2,FALSE))","v":""},null,null,null,{"$f":"+IF(I37=\"\",\"\",IF(I37=CR_3_GRIGLIA!$C$16,CR_3_GRIGLIA!$B$16,IF(I37=CR_3_GRIGLIA!$C$17,CR_3_GRIGLIA!$B$17,IF(I37=CR_3_GRIGLIA!$C$18,CR_3_GRIGLIA!$B$18,IF(I37=CR_3_GRIGLIA!$C$19,CR_3_GRIGLIA!$B$19,CR_3_GRIGLIA!$B$20)))))","v":""},"",{"$f":"+IF(D37=\"\",\"\",IF(C37=\"\",0,INDEX(CR_3_GRIGLIA!$D$3:$K$13,+VLOOKUP(B37,CR_3_GRIGLIA!$A$3:$C$13,3,FALSE),+HLOOKUP(D37,CR_3_GRIGLIA!$D$1:$K$2,2,FALSE))))","v":""},""]
[37,null,{"$f":"+IF(B38=\"\",\"\",VLOOKUP(B38,CR_3_GRIGLIA!$A$3:$B$13,2,FALSE))","v":""},null,null,null,{"$f":"+IF(I38=\"\",\"\",IF(I38=CR_3_GRIGLIA!$C$16,CR_3_GRIGLIA!$B$16,IF(I38=CR_3_GRIGLIA!$C$17,CR_3_GRIGLIA!$B$17,IF(I38=CR_3_GRIGLIA!$C$18,CR_3_GRIGLIA!$B$18,IF(I38=CR_3_GRIGLIA!$C$19,CR_3_GRIGLIA!$B$19,CR_3_GRIGLIA!$B$20)))))","v":""},"",{"$f":"+IF(D38=\"\",\"\",IF(C38=\"\",0,INDEX(CR_3_GRIGLIA!$D$3:$K$13,+VLOOKUP(B38,CR_3_GRIGLIA!$A$3:$C$13,3,FALSE),+HLOOKUP(D38,CR_3_GRIGLIA!$D$1:$K$2,2,FALSE))))","v":""},""]
[38,null,{"$f":"+IF(B39=\"\",\"\",VLOOKUP(B39,CR_3_GRIGLIA!$A$3:$B$13,2,FALSE))","v":""},null,null,null,{"$f":"+IF(I39=\"\",\"\",IF(I39=CR_3_GRIGLIA!$C$16,CR_3_GRIGLIA!$B$16,IF(I39=CR_3_GRIGLIA!$C$17,CR_3_GRIGLIA!$B$17,IF(I39=CR_3_GRIGLIA!$C$18,CR_3_GRIGLIA!$B$18,IF(I39=CR_3_GRIGLIA!$C$19,CR_3_GRIGLIA!$B$19,CR_3_GRIGLIA!$B$20)))))","v":""},"",{"$f":"+IF(D39=\"\",\"\",IF(C39=\"\",0,INDEX(CR_3_GRIGLIA!$D$3:$K$13,+VLOOKUP(B39,CR_3_GRIGLIA!$A$3:$C$13,3,FALSE),+HLOOKUP(D39,CR_3_GRIGLIA!$D$1:$K$2,2,FALSE))))","v":""},""]
[39,null,{"$f":"+IF(B40=\"\",\"\",VLOOKUP(B40,CR_3_GRIGLIA!$A$3:$B$13,2,FALSE))","v":""},null,null,null,{"$f":"+IF(I40=\"\",\"\",IF(I40=CR_3_GRIGLIA!$C$16,CR_3_GRIGLIA!$B$16,IF(I40=CR_3_GRIGLIA!$C$17,CR_3_GRIGLIA!$B$17,IF(I40=CR_3_GRIGLIA!$C$18,CR_3_GRIGLIA!$B$18,IF(I40=CR_3_GRIGLIA!$C$19,CR_3_GRIGLIA!$B$19,CR_3_GRIGLIA!$B$20)))))","v":""},"",{"$f":"+IF(D40=\"\",\"\",IF(C40=\"\",0,INDEX(CR_3_GRIGLIA!$D$3:$K$13,+VLOOKUP(B40,CR_3_GRIGLIA!$A$3:$C$13,3,FALSE),+HLOOKUP(D40,CR_3_GRIGLIA!$D$1:$K$2,2,FALSE))))","v":""},""]
[40,null,{"$f":"+IF(B41=\"\",\"\",VLOOKUP(B41,CR_3_GRIGLIA!$A$3:$B$13,2,FALSE))","v":""},null,null,null,{"$f":"+IF(I41=\"\",\"\",IF(I41=CR_3_GRIGLIA!$C$16,CR_3_GRIGLIA!$B$16,IF(I41=CR_3_GRIGLIA!$C$17,CR_3_GRIGLIA!$B$17,IF(I41=CR_3_GRIGLIA!$C$18,CR_3_GRIGLIA!$B$18,IF(I41=CR_3_GRIGLIA!$C$19,CR_3_GRIGLIA!$B$19,CR_3_GRIGLIA!$B$20)))))","v":""},"",{"$f":"+IF(D41=\"\",\"\",IF(C41=\"\",0,INDEX(CR_3_GRIGLIA!$D$3:$K$13,+VLOOKUP(B41,CR_3_GRIGLIA!$A$3:$C$13,3,FALSE),+HLOOKUP(D41,CR_3_GRIGLIA!$D$1:$K$2,2,FALSE))))","v":""},""]
[41,null,{"$f":"+IF(B42=\"\",\"\",VLOOKUP(B42,CR_3_GRIGLIA!$A$3:$B$13,2,FALSE))","v":""},null,null,null,{"$f":"+IF(I42=\"\",\"\",IF(I42=CR_3_GRIGLIA!$C$16,CR_3_GRIGLIA!$B$16,IF(I42=CR_3_GRIGLIA!$C$17,CR_3_GRIGLIA!$B$17,IF(I42=CR_3_GRIGLIA!$C$18,CR_3_GRIGLIA!$B$18,IF(I42=CR_3_GRIGLIA!$C$19,CR_3_GRIGLIA!$B$19,CR_3_GRIGLIA!$B$20)))))","v":""},"",{"$f":"+IF(D42=\"\",\"\",IF(C42=\"\",0,INDEX(CR_3_GRIGLIA!$D$3:$K$13,+VLOOKUP(B42,CR_3_GRIGLIA!$A$3:$C$13,3,FALSE),+HLOOKUP(D42,CR_3_GRIGLIA!$D$1:$K$2,2,FALSE))))","v":""},""]
[42,null,{"$f":"+IF(B43=\"\",\"\",VLOOKUP(B43,CR_3_GRIGLIA!$A$3:$B$13,2,FALSE))","v":""},null,null,null,{"$f":"+IF(I43=\"\",\"\",IF(I43=CR_3_GRIGLIA!$C$16,CR_3_GRIGLIA!$B$16,IF(I43=CR_3_GRIGLIA!$C$17,CR_3_GRIGLIA!$B$17,IF(I43=CR_3_GRIGLIA!$C$18,CR_3_GRIGLIA!$B$18,IF(I43=CR_3_GRIGLIA!$C$19,CR_3_GRIGLIA!$B$19,CR_3_GRIGLIA!$B$20)))))","v":""},"",{"$f":"+IF(D43=\"\",\"\",IF(C43=\"\",0,INDEX(CR_3_GRIGLIA!$D$3:$K$13,+VLOOKUP(B43,CR_3_GRIGLIA!$A$3:$C$13,3,FALSE),+HLOOKUP(D43,CR_3_GRIGLIA!$D$1:$K$2,2,FALSE))))","v":""},""]
[43,null,{"$f":"+IF(B44=\"\",\"\",VLOOKUP(B44,CR_3_GRIGLIA!$A$3:$B$13,2,FALSE))","v":""},null,null,null,{"$f":"+IF(I44=\"\",\"\",IF(I44=CR_3_GRIGLIA!$C$16,CR_3_GRIGLIA!$B$16,IF(I44=CR_3_GRIGLIA!$C$17,CR_3_GRIGLIA!$B$17,IF(I44=CR_3_GRIGLIA!$C$18,CR_3_GRIGLIA!$B$18,IF(I44=CR_3_GRIGLIA!$C$19,CR_3_GRIGLIA!$B$19,CR_3_GRIGLIA!$B$20)))))","v":""},"",{"$f":"+IF(D44=\"\",\"\",IF(C44=\"\",0,INDEX(CR_3_GRIGLIA!$D$3:$K$13,+VLOOKUP(B44,CR_3_GRIGLIA!$A$3:$C$13,3,FALSE),+HLOOKUP(D44,CR_3_GRIGLIA!$D$1:$K$2,2,FALSE))))","v":""},""]
[44,null,{"$f":"+IF(B45=\"\",\"\",VLOOKUP(B45,CR_3_GRIGLIA!$A$3:$B$13,2,FALSE))","v":""},null,null,null,{"$f":"+IF(I45=\"\",\"\",IF(I45=CR_3_GRIGLIA!$C$16,CR_3_GRIGLIA!$B$16,IF(I45=CR_3_GRIGLIA!$C$17,CR_3_GRIGLIA!$B$17,IF(I45=CR_3_GRIGLIA!$C$18,CR_3_GRIGLIA!$B$18,IF(I45=CR_3_GRIGLIA!$C$19,CR_3_GRIGLIA!$B$19,CR_3_GRIGLIA!$B$20)))))","v":""},"",{"$f":"+IF(D45=\"\",\"\",IF(C45=\"\",0,INDEX(CR_3_GRIGLIA!$D$3:$K$13,+VLOOKUP(B45,CR_3_GRIGLIA!$A$3:$C$13,3,FALSE),+HLOOKUP(D45,CR_3_GRIGLIA!$D$1:$K$2,2,FALSE))))","v":""},""]
[45,null,{"$f":"+IF(B46=\"\",\"\",VLOOKUP(B46,CR_3_GRIGLIA!$A$3:$B$13,2,FALSE))","v":""},null,null,null,{"$f":"+IF(I46=\"\",\"\",IF(I46=CR_3_GRIGLIA!$C$16,CR_3_GRIGLIA!$B$16,IF(I46=CR_3_GRIGLIA!$C$17,CR_3_GRIGLIA!$B$17,IF(I46=CR_3_GRIGLIA!$C$18,CR_3_GRIGLIA!$B$18,IF(I46=CR_3_GRIGLIA!$C$19,CR_3_GRIGLIA!$B$19,CR_3_GRIGLIA!$B$20)))))","v":""},"",{"$f":"+IF(D46=\"\",\"\",IF(C46=\"\",0,INDEX(CR_3_GRIGLIA!$D$3:$K$13,+VLOOKUP(B46,CR_3_GRIGLIA!$A$3:$C$13,3,FALSE),+HLOOKUP(D46,CR_3_GRIGLIA!$D$1:$K$2,2,FALSE))))","v":""},""]
[46,null,{"$f":"+IF(B47=\"\",\"\",VLOOKUP(B47,CR_3_GRIGLIA!$A$3:$B$13,2,FALSE))","v":""},null,null,null,{"$f":"+IF(I47=\"\",\"\",IF(I47=CR_3_GRIGLIA!$C$16,CR_3_GRIGLIA!$B$16,IF(I47=CR_3_GRIGLIA!$C$17,CR_3_GRIGLIA!$B$17,IF(I47=CR_3_GRIGLIA!$C$18,CR_3_GRIGLIA!$B$18,IF(I47=CR_3_GRIGLIA!$C$19,CR_3_GRIGLIA!$B$19,CR_3_GRIGLIA!$B$20)))))","v":""},"",{"$f":"+IF(D47=\"\",\"\",IF(C47=\"\",0,INDEX(CR_3_GRIGLIA!$D$3:$K$13,+VLOOKUP(B47,CR_3_GRIGLIA!$A$3:$C$13,3,FALSE),+HLOOKUP(D47,CR_3_GRIGLIA!$D$1:$K$2,2,FALSE))))","v":""},""]
[47,null,{"$f":"+IF(B48=\"\",\"\",VLOOKUP(B48,CR_3_GRIGLIA!$A$3:$B$13,2,FALSE))","v":""},null,null,null,{"$f":"+IF(I48=\"\",\"\",IF(I48=CR_3_GRIGLIA!$C$16,CR_3_GRIGLIA!$B$16,IF(I48=CR_3_GRIGLIA!$C$17,CR_3_GRIGLIA!$B$17,IF(I48=CR_3_GRIGLIA!$C$18,CR_3_GRIGLIA!$B$18,IF(I48=CR_3_GRIGLIA!$C$19,CR_3_GRIGLIA!$B$19,CR_3_GRIGLIA!$B$20)))))","v":""},"",{"$f":"+IF(D48=\"\",\"\",IF(C48=\"\",0,INDEX(CR_3_GRIGLIA!$D$3:$K$13,+VLOOKUP(B48,CR_3_GRIGLIA!$A$3:$C$13,3,FALSE),+HLOOKUP(D48,CR_3_GRIGLIA!$D$1:$K$2,2,FALSE))))","v":""},""]
[48,null,{"$f":"+IF(B49=\"\",\"\",VLOOKUP(B49,CR_3_GRIGLIA!$A$3:$B$13,2,FALSE))","v":""},null,null,null,{"$f":"+IF(I49=\"\",\"\",IF(I49=CR_3_GRIGLIA!$C$16,CR_3_GRIGLIA!$B$16,IF(I49=CR_3_GRIGLIA!$C$17,CR_3_GRIGLIA!$B$17,IF(I49=CR_3_GRIGLIA!$C$18,CR_3_GRIGLIA!$B$18,IF(I49=CR_3_GRIGLIA!$C$19,CR_3_GRIGLIA!$B$19,CR_3_GRIGLIA!$B$20)))))","v":""},"",{"$f":"+IF(D49=\"\",\"\",IF(C49=\"\",0,INDEX(CR_3_GRIGLIA!$D$3:$K$13,+VLOOKUP(B49,CR_3_GRIGLIA!$A$3:$C$13,3,FALSE),+HLOOKUP(D49,CR_3_GRIGLIA!$D$1:$K$2,2,FALSE))))","v":""},""]
[49,null,{"$f":"+IF(B50=\"\",\"\",VLOOKUP(B50,CR_3_GRIGLIA!$A$3:$B$13,2,FALSE))","v":""},null,null,null,{"$f":"+IF(I50=\"\",\"\",IF(I50=CR_3_GRIGLIA!$C$16,CR_3_GRIGLIA!$B$16,IF(I50=CR_3_GRIGLIA!$C$17,CR_3_GRIGLIA!$B$17,IF(I50=CR_3_GRIGLIA!$C$18,CR_3_GRIGLIA!$B$18,IF(I50=CR_3_GRIGLIA!$C$19,CR_3_GRIGLIA!$B$19,CR_3_GRIGLIA!$B$20)))))","v":""},"",{"$f":"+IF(D50=\"\",\"\",IF(C50=\"\",0,INDEX(CR_3_GRIGLIA!$D$3:$K$13,+VLOOKUP(B50,CR_3_GRIGLIA!$A$3:$C$13,3,FALSE),+HLOOKUP(D50,CR_3_GRIGLIA!$D$1:$K$2,2,FALSE))))","v":""},""]
[50,null,{"$f":"+IF(B51=\"\",\"\",VLOOKUP(B51,CR_3_GRIGLIA!$A$3:$B$13,2,FALSE))","v":""},null,null,null,{"$f":"+IF(I51=\"\",\"\",IF(I51=CR_3_GRIGLIA!$C$16,CR_3_GRIGLIA!$B$16,IF(I51=CR_3_GRIGLIA!$C$17,CR_3_GRIGLIA!$B$17,IF(I51=CR_3_GRIGLIA!$C$18,CR_3_GRIGLIA!$B$18,IF(I51=CR_3_GRIGLIA!$C$19,CR_3_GRIGLIA!$B$19,CR_3_GRIGLIA!$B$20)))))","v":""},"",{"$f":"+IF(D51=\"\",\"\",IF(C51=\"\",0,INDEX(CR_3_GRIGLIA!$D$3:$K$13,+VLOOKUP(B51,CR_3_GRIGLIA!$A$3:$C$13,3,FALSE),+HLOOKUP(D51,CR_3_GRIGLIA!$D$1:$K$2,2,FALSE))))","v":""},""]
[51,null,{"$f":"+IF(B52=\"\",\"\",VLOOKUP(B52,CR_3_GRIGLIA!$A$3:$B$13,2,FALSE))","v":""},null,null,null,{"$f":"+IF(I52=\"\",\"\",IF(I52=CR_3_GRIGLIA!$C$16,CR_3_GRIGLIA!$B$16,IF(I52=CR_3_GRIGLIA!$C$17,CR_3_GRIGLIA!$B$17,IF(I52=CR_3_GRIGLIA!$C$18,CR_3_GRIGLIA!$B$18,IF(I52=CR_3_GRIGLIA!$C$19,CR_3_GRIGLIA!$B$19,CR_3_GRIGLIA!$B$20)))))","v":""},"",{"$f":"+IF(D52=\"\",\"\",IF(C52=\"\",0,INDEX(CR_3_GRIGLIA!$D$3:$K$13,+VLOOKUP(B52,CR_3_GRIGLIA!$A$3:$C$13,3,FALSE),+HLOOKUP(D52,CR_3_GRIGLIA!$D$1:$K$2,2,FALSE))))","v":""},""]
[52,null,{"$f":"+IF(B53=\"\",\"\",VLOOKUP(B53,CR_3_GRIGLIA!$A$3:$B$13,2,FALSE))","v":""},null,null,null,{"$f":"+IF(I53=\"\",\"\",IF(I53=CR_3_GRIGLIA!$C$16,CR_3_GRIGLIA!$B$16,IF(I53=CR_3_GRIGLIA!$C$17,CR_3_GRIGLIA!$B$17,IF(I53=CR_3_GRIGLIA!$C$18,CR_3_GRIGLIA!$B$18,IF(I53=CR_3_GRIGLIA!$C$19,CR_3_GRIGLIA!$B$19,CR_3_GRIGLIA!$B$20)))))","v":""},"",{"$f":"+IF(D53=\"\",\"\",IF(C53=\"\",0,INDEX(CR_3_GRIGLIA!$D$3:$K$13,+VLOOKUP(B53,CR_3_GRIGLIA!$A$3:$C$13,3,FALSE),+HLOOKUP(D53,CR_3_GRIGLIA!$D$1:$K$2,2,FALSE))))","v":""},""]
[53,null,{"$f":"+IF(B54=\"\",\"\",VLOOKUP(B54,CR_3_GRIGLIA!$A$3:$B$13,2,FALSE))","v":""},null,null,null,{"$f":"+IF(I54=\"\",\"\",IF(I54=CR_3_GRIGLIA!$C$16,CR_3_GRIGLIA!$B$16,IF(I54=CR_3_GRIGLIA!$C$17,CR_3_GRIGLIA!$B$17,IF(I54=CR_3_GRIGLIA!$C$18,CR_3_GRIGLIA!$B$18,IF(I54=CR_3_GRIGLIA!$C$19,CR_3_GRIGLIA!$B$19,CR_3_GRIGLIA!$B$20)))))","v":""},"",{"$f":"+IF(D54=\"\",\"\",IF(C54=\"\",0,INDEX(CR_3_GRIGLIA!$D$3:$K$13,+VLOOKUP(B54,CR_3_GRIGLIA!$A$3:$C$13,3,FALSE),+HLOOKUP(D54,CR_3_GRIGLIA!$D$1:$K$2,2,FALSE))))","v":""},""]
[54,null,{"$f":"+IF(B55=\"\",\"\",VLOOKUP(B55,CR_3_GRIGLIA!$A$3:$B$13,2,FALSE))","v":""},null,null,null,{"$f":"+IF(I55=\"\",\"\",IF(I55=CR_3_GRIGLIA!$C$16,CR_3_GRIGLIA!$B$16,IF(I55=CR_3_GRIGLIA!$C$17,CR_3_GRIGLIA!$B$17,IF(I55=CR_3_GRIGLIA!$C$18,CR_3_GRIGLIA!$B$18,IF(I55=CR_3_GRIGLIA!$C$19,CR_3_GRIGLIA!$B$19,CR_3_GRIGLIA!$B$20)))))","v":""},"",{"$f":"+IF(D55=\"\",\"\",IF(C55=\"\",0,INDEX(CR_3_GRIGLIA!$D$3:$K$13,+VLOOKUP(B55,CR_3_GRIGLIA!$A$3:$C$13,3,FALSE),+HLOOKUP(D55,CR_3_GRIGLIA!$D$1:$K$2,2,FALSE))))","v":""},""]
[55,null,{"$f":"+IF(B56=\"\",\"\",VLOOKUP(B56,CR_3_GRIGLIA!$A$3:$B$13,2,FALSE))","v":""},null,null,null,{"$f":"+IF(I56=\"\",\"\",IF(I56=CR_3_GRIGLIA!$C$16,CR_3_GRIGLIA!$B$16,IF(I56=CR_3_GRIGLIA!$C$17,CR_3_GRIGLIA!$B$17,IF(I56=CR_3_GRIGLIA!$C$18,CR_3_GRIGLIA!$B$18,IF(I56=CR_3_GRIGLIA!$C$19,CR_3_GRIGLIA!$B$19,CR_3_GRIGLIA!$B$20)))))","v":""},"",{"$f":"+IF(D56=\"\",\"\",IF(C56=\"\",0,INDEX(CR_3_GRIGLIA!$D$3:$K$13,+VLOOKUP(B56,CR_3_GRIGLIA!$A$3:$C$13,3,FALSE),+HLOOKUP(D56,CR_3_GRIGLIA!$D$1:$K$2,2,FALSE))))","v":""},""]
[56,null,{"$f":"+IF(B57=\"\",\"\",VLOOKUP(B57,CR_3_GRIGLIA!$A$3:$B$13,2,FALSE))","v":""},null,null,null,{"$f":"+IF(I57=\"\",\"\",IF(I57=CR_3_GRIGLIA!$C$16,CR_3_GRIGLIA!$B$16,IF(I57=CR_3_GRIGLIA!$C$17,CR_3_GRIGLIA!$B$17,IF(I57=CR_3_GRIGLIA!$C$18,CR_3_GRIGLIA!$B$18,IF(I57=CR_3_GRIGLIA!$C$19,CR_3_GRIGLIA!$B$19,CR_3_GRIGLIA!$B$20)))))","v":""},"",{"$f":"+IF(D57=\"\",\"\",IF(C57=\"\",0,INDEX(CR_3_GRIGLIA!$D$3:$K$13,+VLOOKUP(B57,CR_3_GRIGLIA!$A$3:$C$13,3,FALSE),+HLOOKUP(D57,CR_3_GRIGLIA!$D$1:$K$2,2,FALSE))))","v":""},""]
[57,null,{"$f":"+IF(B58=\"\",\"\",VLOOKUP(B58,CR_3_GRIGLIA!$A$3:$B$13,2,FALSE))","v":""},null,null,null,{"$f":"+IF(I58=\"\",\"\",IF(I58=CR_3_GRIGLIA!$C$16,CR_3_GRIGLIA!$B$16,IF(I58=CR_3_GRIGLIA!$C$17,CR_3_GRIGLIA!$B$17,IF(I58=CR_3_GRIGLIA!$C$18,CR_3_GRIGLIA!$B$18,IF(I58=CR_3_GRIGLIA!$C$19,CR_3_GRIGLIA!$B$19,CR_3_GRIGLIA!$B$20)))))","v":""},"",{"$f":"+IF(D58=\"\",\"\",IF(C58=\"\",0,INDEX(CR_3_GRIGLIA!$D$3:$K$13,+VLOOKUP(B58,CR_3_GRIGLIA!$A$3:$C$13,3,FALSE),+HLOOKUP(D58,CR_3_GRIGLIA!$D$1:$K$2,2,FALSE))))","v":""},""]
[58,null,{"$f":"+IF(B59=\"\",\"\",VLOOKUP(B59,CR_3_GRIGLIA!$A$3:$B$13,2,FALSE))","v":""},null,null,null,{"$f":"+IF(I59=\"\",\"\",IF(I59=CR_3_GRIGLIA!$C$16,CR_3_GRIGLIA!$B$16,IF(I59=CR_3_GRIGLIA!$C$17,CR_3_GRIGLIA!$B$17,IF(I59=CR_3_GRIGLIA!$C$18,CR_3_GRIGLIA!$B$18,IF(I59=CR_3_GRIGLIA!$C$19,CR_3_GRIGLIA!$B$19,CR_3_GRIGLIA!$B$20)))))","v":""},"",{"$f":"+IF(D59=\"\",\"\",IF(C59=\"\",0,INDEX(CR_3_GRIGLIA!$D$3:$K$13,+VLOOKUP(B59,CR_3_GRIGLIA!$A$3:$C$13,3,FALSE),+HLOOKUP(D59,CR_3_GRIGLIA!$D$1:$K$2,2,FALSE))))","v":""},""]
[59,null,{"$f":"+IF(B60=\"\",\"\",VLOOKUP(B60,CR_3_GRIGLIA!$A$3:$B$13,2,FALSE))","v":""},null,null,null,{"$f":"+IF(I60=\"\",\"\",IF(I60=CR_3_GRIGLIA!$C$16,CR_3_GRIGLIA!$B$16,IF(I60=CR_3_GRIGLIA!$C$17,CR_3_GRIGLIA!$B$17,IF(I60=CR_3_GRIGLIA!$C$18,CR_3_GRIGLIA!$B$18,IF(I60=CR_3_GRIGLIA!$C$19,CR_3_GRIGLIA!$B$19,CR_3_GRIGLIA!$B$20)))))","v":""},"",{"$f":"+IF(D60=\"\",\"\",IF(C60=\"\",0,INDEX(CR_3_GRIGLIA!$D$3:$K$13,+VLOOKUP(B60,CR_3_GRIGLIA!$A$3:$C$13,3,FALSE),+HLOOKUP(D60,CR_3_GRIGLIA!$D$1:$K$2,2,FALSE))))","v":""},""]
[60,null,{"$f":"+IF(B61=\"\",\"\",VLOOKUP(B61,CR_3_GRIGLIA!$A$3:$B$13,2,FALSE))","v":""},null,null,null,{"$f":"+IF(I61=\"\",\"\",IF(I61=CR_3_GRIGLIA!$C$16,CR_3_GRIGLIA!$B$16,IF(I61=CR_3_GRIGLIA!$C$17,CR_3_GRIGLIA!$B$17,IF(I61=CR_3_GRIGLIA!$C$18,CR_3_GRIGLIA!$B$18,IF(I61=CR_3_GRIGLIA!$C$19,CR_3_GRIGLIA!$B$19,CR_3_GRIGLIA!$B$20)))))","v":""},"",{"$f":"+IF(D61=\"\",\"\",IF(C61=\"\",0,INDEX(CR_3_GRIGLIA!$D$3:$K$13,+VLOOKUP(B61,CR_3_GRIGLIA!$A$3:$C$13,3,FALSE),+HLOOKUP(D61,CR_3_GRIGLIA!$D$1:$K$2,2,FALSE))))","v":""},""]
[61,null,{"$f":"+IF(B62=\"\",\"\",VLOOKUP(B62,CR_3_GRIGLIA!$A$3:$B$13,2,FALSE))","v":""},null,null,null,{"$f":"+IF(I62=\"\",\"\",IF(I62=CR_3_GRIGLIA!$C$16,CR_3_GRIGLIA!$B$16,IF(I62=CR_3_GRIGLIA!$C$17,CR_3_GRIGLIA!$B$17,IF(I62=CR_3_GRIGLIA!$C$18,CR_3_GRIGLIA!$B$18,IF(I62=CR_3_GRIGLIA!$C$19,CR_3_GRIGLIA!$B$19,CR_3_GRIGLIA!$B$20)))))","v":""},"",{"$f":"+IF(D62=\"\",\"\",IF(C62=\"\",0,INDEX(CR_3_GRIGLIA!$D$3:$K$13,+VLOOKUP(B62,CR_3_GRIGLIA!$A$3:$C$13,3,FALSE),+HLOOKUP(D62,CR_3_GRIGLIA!$D$1:$K$2,2,FALSE))))","v":""},""]
[62,null,{"$f":"+IF(B63=\"\",\"\",VLOOKUP(B63,CR_3_GRIGLIA!$A$3:$B$13,2,FALSE))","v":""},null,null,null,{"$f":"+IF(I63=\"\",\"\",IF(I63=CR_3_GRIGLIA!$C$16,CR_3_GRIGLIA!$B$16,IF(I63=CR_3_GRIGLIA!$C$17,CR_3_GRIGLIA!$B$17,IF(I63=CR_3_GRIGLIA!$C$18,CR_3_GRIGLIA!$B$18,IF(I63=CR_3_GRIGLIA!$C$19,CR_3_GRIGLIA!$B$19,CR_3_GRIGLIA!$B$20)))))","v":""},"",{"$f":"+IF(D63=\"\",\"\",IF(C63=\"\",0,INDEX(CR_3_GRIGLIA!$D$3:$K$13,+VLOOKUP(B63,CR_3_GRIGLIA!$A$3:$C$13,3,FALSE),+HLOOKUP(D63,CR_3_GRIGLIA!$D$1:$K$2,2,FALSE))))","v":""},""]
[63,null,{"$f":"+IF(B64=\"\",\"\",VLOOKUP(B64,CR_3_GRIGLIA!$A$3:$B$13,2,FALSE))","v":""},null,null,null,{"$f":"+IF(I64=\"\",\"\",IF(I64=CR_3_GRIGLIA!$C$16,CR_3_GRIGLIA!$B$16,IF(I64=CR_3_GRIGLIA!$C$17,CR_3_GRIGLIA!$B$17,IF(I64=CR_3_GRIGLIA!$C$18,CR_3_GRIGLIA!$B$18,IF(I64=CR_3_GRIGLIA!$C$19,CR_3_GRIGLIA!$B$19,CR_3_GRIGLIA!$B$20)))))","v":""},"",{"$f":"+IF(D64=\"\",\"\",IF(C64=\"\",0,INDEX(CR_3_GRIGLIA!$D$3:$K$13,+VLOOKUP(B64,CR_3_GRIGLIA!$A$3:$C$13,3,FALSE),+HLOOKUP(D64,CR_3_GRIGLIA!$D$1:$K$2,2,FALSE))))","v":""},""]
[64,null,{"$f":"+IF(B65=\"\",\"\",VLOOKUP(B65,CR_3_GRIGLIA!$A$3:$B$13,2,FALSE))","v":""},null,null,null,{"$f":"+IF(I65=\"\",\"\",IF(I65=CR_3_GRIGLIA!$C$16,CR_3_GRIGLIA!$B$16,IF(I65=CR_3_GRIGLIA!$C$17,CR_3_GRIGLIA!$B$17,IF(I65=CR_3_GRIGLIA!$C$18,CR_3_GRIGLIA!$B$18,IF(I65=CR_3_GRIGLIA!$C$19,CR_3_GRIGLIA!$B$19,CR_3_GRIGLIA!$B$20)))))","v":""},"",{"$f":"+IF(D65=\"\",\"\",IF(C65=\"\",0,INDEX(CR_3_GRIGLIA!$D$3:$K$13,+VLOOKUP(B65,CR_3_GRIGLIA!$A$3:$C$13,3,FALSE),+HLOOKUP(D65,CR_3_GRIGLIA!$D$1:$K$2,2,FALSE))))","v":""},""]
[65,null,{"$f":"+IF(B66=\"\",\"\",VLOOKUP(B66,CR_3_GRIGLIA!$A$3:$B$13,2,FALSE))","v":""},null,null,null,{"$f":"+IF(I66=\"\",\"\",IF(I66=CR_3_GRIGLIA!$C$16,CR_3_GRIGLIA!$B$16,IF(I66=CR_3_GRIGLIA!$C$17,CR_3_GRIGLIA!$B$17,IF(I66=CR_3_GRIGLIA!$C$18,CR_3_GRIGLIA!$B$18,IF(I66=CR_3_GRIGLIA!$C$19,CR_3_GRIGLIA!$B$19,CR_3_GRIGLIA!$B$20)))))","v":""},"",{"$f":"+IF(D66=\"\",\"\",IF(C66=\"\",0,INDEX(CR_3_GRIGLIA!$D$3:$K$13,+VLOOKUP(B66,CR_3_GRIGLIA!$A$3:$C$13,3,FALSE),+HLOOKUP(D66,CR_3_GRIGLIA!$D$1:$K$2,2,FALSE))))","v":""},""]
[66,null,{"$f":"+IF(B67=\"\",\"\",VLOOKUP(B67,CR_3_GRIGLIA!$A$3:$B$13,2,FALSE))","v":""},null,null,null,{"$f":"+IF(I67=\"\",\"\",IF(I67=CR_3_GRIGLIA!$C$16,CR_3_GRIGLIA!$B$16,IF(I67=CR_3_GRIGLIA!$C$17,CR_3_GRIGLIA!$B$17,IF(I67=CR_3_GRIGLIA!$C$18,CR_3_GRIGLIA!$B$18,IF(I67=CR_3_GRIGLIA!$C$19,CR_3_GRIGLIA!$B$19,CR_3_GRIGLIA!$B$20)))))","v":""},{"$f":"IFERROR(IF(F67=\"\",\"\",F67/$F$504),0)","v":""},{"$f":"+IF(D67=\"\",\"\",IF(C67=\"\",0,INDEX(CR_3_GRIGLIA!$D$3:$K$13,+VLOOKUP(B67,CR_3_GRIGLIA!$A$3:$C$13,3,FALSE),+HLOOKUP(D67,CR_3_GRIGLIA!$D$1:$K$2,2,FALSE))))","v":""},{"$f":"IFERROR(IF(I67=\"\",\"\",I67*F67/$F$504),0)","v":""}]
[67,null,{"$f":"+IF(B68=\"\",\"\",VLOOKUP(B68,CR_3_GRIGLIA!$A$3:$B$13,2,FALSE))","v":""},null,null,null,{"$f":"+IF(I68=\"\",\"\",IF(I68=CR_3_GRIGLIA!$C$16,CR_3_GRIGLIA!$B$16,IF(I68=CR_3_GRIGLIA!$C$17,CR_3_GRIGLIA!$B$17,IF(I68=CR_3_GRIGLIA!$C$18,CR_3_GRIGLIA!$B$18,IF(I68=CR_3_GRIGLIA!$C$19,CR_3_GRIGLIA!$B$19,CR_3_GRIGLIA!$B$20)))))","v":""},"",{"$f":"+IF(D68=\"\",\"\",IF(C68=\"\",0,INDEX(CR_3_GRIGLIA!$D$3:$K$13,+VLOOKUP(B68,CR_3_GRIGLIA!$A$3:$C$13,3,FALSE),+HLOOKUP(D68,CR_3_GRIGLIA!$D$1:$K$2,2,FALSE))))","v":""},""]
[68,null,{"$f":"+IF(B69=\"\",\"\",VLOOKUP(B69,CR_3_GRIGLIA!$A$3:$B$13,2,FALSE))","v":""},null,null,null,{"$f":"+IF(I69=\"\",\"\",IF(I69=CR_3_GRIGLIA!$C$16,CR_3_GRIGLIA!$B$16,IF(I69=CR_3_GRIGLIA!$C$17,CR_3_GRIGLIA!$B$17,IF(I69=CR_3_GRIGLIA!$C$18,CR_3_GRIGLIA!$B$18,IF(I69=CR_3_GRIGLIA!$C$19,CR_3_GRIGLIA!$B$19,CR_3_GRIGLIA!$B$20)))))","v":""},"",{"$f":"+IF(D69=\"\",\"\",IF(C69=\"\",0,INDEX(CR_3_GRIGLIA!$D$3:$K$13,+VLOOKUP(B69,CR_3_GRIGLIA!$A$3:$C$13,3,FALSE),+HLOOKUP(D69,CR_3_GRIGLIA!$D$1:$K$2,2,FALSE))))","v":""},""]
[69,null,{"$f":"+IF(B70=\"\",\"\",VLOOKUP(B70,CR_3_GRIGLIA!$A$3:$B$13,2,FALSE))","v":""},null,null,null,{"$f":"+IF(I70=\"\",\"\",IF(I70=CR_3_GRIGLIA!$C$16,CR_3_GRIGLIA!$B$16,IF(I70=CR_3_GRIGLIA!$C$17,CR_3_GRIGLIA!$B$17,IF(I70=CR_3_GRIGLIA!$C$18,CR_3_GRIGLIA!$B$18,IF(I70=CR_3_GRIGLIA!$C$19,CR_3_GRIGLIA!$B$19,CR_3_GRIGLIA!$B$20)))))","v":""},"",{"$f":"+IF(D70=\"\",\"\",IF(C70=\"\",0,INDEX(CR_3_GRIGLIA!$D$3:$K$13,+VLOOKUP(B70,CR_3_GRIGLIA!$A$3:$C$13,3,FALSE),+HLOOKUP(D70,CR_3_GRIGLIA!$D$1:$K$2,2,FALSE))))","v":""},""]
[70,null,{"$f":"+IF(B71=\"\",\"\",VLOOKUP(B71,CR_3_GRIGLIA!$A$3:$B$13,2,FALSE))","v":""},null,null,null,{"$f":"+IF(I71=\"\",\"\",IF(I71=CR_3_GRIGLIA!$C$16,CR_3_GRIGLIA!$B$16,IF(I71=CR_3_GRIGLIA!$C$17,CR_3_GRIGLIA!$B$17,IF(I71=CR_3_GRIGLIA!$C$18,CR_3_GRIGLIA!$B$18,IF(I71=CR_3_GRIGLIA!$C$19,CR_3_GRIGLIA!$B$19,CR_3_GRIGLIA!$B$20)))))","v":""},"",{"$f":"+IF(D71=\"\",\"\",IF(C71=\"\",0,INDEX(CR_3_GRIGLIA!$D$3:$K$13,+VLOOKUP(B71,CR_3_GRIGLIA!$A$3:$C$13,3,FALSE),+HLOOKUP(D71,CR_3_GRIGLIA!$D$1:$K$2,2,FALSE))))","v":""},""]
[71,null,{"$f":"+IF(B72=\"\",\"\",VLOOKUP(B72,CR_3_GRIGLIA!$A$3:$B$13,2,FALSE))","v":""},null,null,null,{"$f":"+IF(I72=\"\",\"\",IF(I72=CR_3_GRIGLIA!$C$16,CR_3_GRIGLIA!$B$16,IF(I72=CR_3_GRIGLIA!$C$17,CR_3_GRIGLIA!$B$17,IF(I72=CR_3_GRIGLIA!$C$18,CR_3_GRIGLIA!$B$18,IF(I72=CR_3_GRIGLIA!$C$19,CR_3_GRIGLIA!$B$19,CR_3_GRIGLIA!$B$20)))))","v":""},"",{"$f":"+IF(D72=\"\",\"\",IF(C72=\"\",0,INDEX(CR_3_GRIGLIA!$D$3:$K$13,+VLOOKUP(B72,CR_3_GRIGLIA!$A$3:$C$13,3,FALSE),+HLOOKUP(D72,CR_3_GRIGLIA!$D$1:$K$2,2,FALSE))))","v":""},""]
[72,null,{"$f":"+IF(B73=\"\",\"\",VLOOKUP(B73,CR_3_GRIGLIA!$A$3:$B$13,2,FALSE))","v":""},null,null,null,{"$f":"+IF(I73=\"\",\"\",IF(I73=CR_3_GRIGLIA!$C$16,CR_3_GRIGLIA!$B$16,IF(I73=CR_3_GRIGLIA!$C$17,CR_3_GRIGLIA!$B$17,IF(I73=CR_3_GRIGLIA!$C$18,CR_3_GRIGLIA!$B$18,IF(I73=CR_3_GRIGLIA!$C$19,CR_3_GRIGLIA!$B$19,CR_3_GRIGLIA!$B$20)))))","v":""},"",{"$f":"+IF(D73=\"\",\"\",IF(C73=\"\",0,INDEX(CR_3_GRIGLIA!$D$3:$K$13,+VLOOKUP(B73,CR_3_GRIGLIA!$A$3:$C$13,3,FALSE),+HLOOKUP(D73,CR_3_GRIGLIA!$D$1:$K$2,2,FALSE))))","v":""},""]
[73,null,{"$f":"+IF(B74=\"\",\"\",VLOOKUP(B74,CR_3_GRIGLIA!$A$3:$B$13,2,FALSE))","v":""},null,null,null,{"$f":"+IF(I74=\"\",\"\",IF(I74=CR_3_GRIGLIA!$C$16,CR_3_GRIGLIA!$B$16,IF(I74=CR_3_GRIGLIA!$C$17,CR_3_GRIGLIA!$B$17,IF(I74=CR_3_GRIGLIA!$C$18,CR_3_GRIGLIA!$B$18,IF(I74=CR_3_GRIGLIA!$C$19,CR_3_GRIGLIA!$B$19,CR_3_GRIGLIA!$B$20)))))","v":""},"",{"$f":"+IF(D74=\"\",\"\",IF(C74=\"\",0,INDEX(CR_3_GRIGLIA!$D$3:$K$13,+VLOOKUP(B74,CR_3_GRIGLIA!$A$3:$C$13,3,FALSE),+HLOOKUP(D74,CR_3_GRIGLIA!$D$1:$K$2,2,FALSE))))","v":""},""]
[74,null,{"$f":"+IF(B75=\"\",\"\",VLOOKUP(B75,CR_3_GRIGLIA!$A$3:$B$13,2,FALSE))","v":""},null,null,null,{"$f":"+IF(I75=\"\",\"\",IF(I75=CR_3_GRIGLIA!$C$16,CR_3_GRIGLIA!$B$16,IF(I75=CR_3_GRIGLIA!$C$17,CR_3_GRIGLIA!$B$17,IF(I75=CR_3_GRIGLIA!$C$18,CR_3_GRIGLIA!$B$18,IF(I75=CR_3_GRIGLIA!$C$19,CR_3_GRIGLIA!$B$19,CR_3_GRIGLIA!$B$20)))))","v":""},"",{"$f":"+IF(D75=\"\",\"\",IF(C75=\"\",0,INDEX(CR_3_GRIGLIA!$D$3:$K$13,+VLOOKUP(B75,CR_3_GRIGLIA!$A$3:$C$13,3,FALSE),+HLOOKUP(D75,CR_3_GRIGLIA!$D$1:$K$2,2,FALSE))))","v":""},""]
[75,null,{"$f":"+IF(B76=\"\",\"\",VLOOKUP(B76,CR_3_GRIGLIA!$A$3:$B$13,2,FALSE))","v":""},null,null,null,{"$f":"+IF(I76=\"\",\"\",IF(I76=CR_3_GRIGLIA!$C$16,CR_3_GRIGLIA!$B$16,IF(I76=CR_3_GRIGLIA!$C$17,CR_3_GRIGLIA!$B$17,IF(I76=CR_3_GRIGLIA!$C$18,CR_3_GRIGLIA!$B$18,IF(I76=CR_3_GRIGLIA!$C$19,CR_3_GRIGLIA!$B$19,CR_3_GRIGLIA!$B$20)))))","v":""},"",{"$f":"+IF(D76=\"\",\"\",IF(C76=\"\",0,INDEX(CR_3_GRIGLIA!$D$3:$K$13,+VLOOKUP(B76,CR_3_GRIGLIA!$A$3:$C$13,3,FALSE),+HLOOKUP(D76,CR_3_GRIGLIA!$D$1:$K$2,2,FALSE))))","v":""},""]
[76,null,{"$f":"+IF(B77=\"\",\"\",VLOOKUP(B77,CR_3_GRIGLIA!$A$3:$B$13,2,FALSE))","v":""},null,null,null,{"$f":"+IF(I77=\"\",\"\",IF(I77=CR_3_GRIGLIA!$C$16,CR_3_GRIGLIA!$B$16,IF(I77=CR_3_GRIGLIA!$C$17,CR_3_GRIGLIA!$B$17,IF(I77=CR_3_GRIGLIA!$C$18,CR_3_GRIGLIA!$B$18,IF(I77=CR_3_GRIGLIA!$C$19,CR_3_GRIGLIA!$B$19,CR_3_GRIGLIA!$B$20)))))","v":""},"",{"$f":"+IF(D77=\"\",\"\",IF(C77=\"\",0,INDEX(CR_3_GRIGLIA!$D$3:$K$13,+VLOOKUP(B77,CR_3_GRIGLIA!$A$3:$C$13,3,FALSE),+HLOOKUP(D77,CR_3_GRIGLIA!$D$1:$K$2,2,FALSE))))","v":""},""]
[77,null,{"$f":"+IF(B78=\"\",\"\",VLOOKUP(B78,CR_3_GRIGLIA!$A$3:$B$13,2,FALSE))","v":""},null,null,null,{"$f":"+IF(I78=\"\",\"\",IF(I78=CR_3_GRIGLIA!$C$16,CR_3_GRIGLIA!$B$16,IF(I78=CR_3_GRIGLIA!$C$17,CR_3_GRIGLIA!$B$17,IF(I78=CR_3_GRIGLIA!$C$18,CR_3_GRIGLIA!$B$18,IF(I78=CR_3_GRIGLIA!$C$19,CR_3_GRIGLIA!$B$19,CR_3_GRIGLIA!$B$20)))))","v":""},"",{"$f":"+IF(D78=\"\",\"\",IF(C78=\"\",0,INDEX(CR_3_GRIGLIA!$D$3:$K$13,+VLOOKUP(B78,CR_3_GRIGLIA!$A$3:$C$13,3,FALSE),+HLOOKUP(D78,CR_3_GRIGLIA!$D$1:$K$2,2,FALSE))))","v":""},""]
[78,null,{"$f":"+IF(B79=\"\",\"\",VLOOKUP(B79,CR_3_GRIGLIA!$A$3:$B$13,2,FALSE))","v":""},null,null,null,{"$f":"+IF(I79=\"\",\"\",IF(I79=CR_3_GRIGLIA!$C$16,CR_3_GRIGLIA!$B$16,IF(I79=CR_3_GRIGLIA!$C$17,CR_3_GRIGLIA!$B$17,IF(I79=CR_3_GRIGLIA!$C$18,CR_3_GRIGLIA!$B$18,IF(I79=CR_3_GRIGLIA!$C$19,CR_3_GRIGLIA!$B$19,CR_3_GRIGLIA!$B$20)))))","v":""},"",{"$f":"+IF(D79=\"\",\"\",IF(C79=\"\",0,INDEX(CR_3_GRIGLIA!$D$3:$K$13,+VLOOKUP(B79,CR_3_GRIGLIA!$A$3:$C$13,3,FALSE),+HLOOKUP(D79,CR_3_GRIGLIA!$D$1:$K$2,2,FALSE))))","v":""},""]
[79,null,{"$f":"+IF(B80=\"\",\"\",VLOOKUP(B80,CR_3_GRIGLIA!$A$3:$B$13,2,FALSE))","v":""},null,null,null,{"$f":"+IF(I80=\"\",\"\",IF(I80=CR_3_GRIGLIA!$C$16,CR_3_GRIGLIA!$B$16,IF(I80=CR_3_GRIGLIA!$C$17,CR_3_GRIGLIA!$B$17,IF(I80=CR_3_GRIGLIA!$C$18,CR_3_GRIGLIA!$B$18,IF(I80=CR_3_GRIGLIA!$C$19,CR_3_GRIGLIA!$B$19,CR_3_GRIGLIA!$B$20)))))","v":""},"",{"$f":"+IF(D80=\"\",\"\",IF(C80=\"\",0,INDEX(CR_3_GRIGLIA!$D$3:$K$13,+VLOOKUP(B80,CR_3_GRIGLIA!$A$3:$C$13,3,FALSE),+HLOOKUP(D80,CR_3_GRIGLIA!$D$1:$K$2,2,FALSE))))","v":""},""]
[80,null,{"$f":"+IF(B81=\"\",\"\",VLOOKUP(B81,CR_3_GRIGLIA!$A$3:$B$13,2,FALSE))","v":""},null,null,null,{"$f":"+IF(I81=\"\",\"\",IF(I81=CR_3_GRIGLIA!$C$16,CR_3_GRIGLIA!$B$16,IF(I81=CR_3_GRIGLIA!$C$17,CR_3_GRIGLIA!$B$17,IF(I81=CR_3_GRIGLIA!$C$18,CR_3_GRIGLIA!$B$18,IF(I81=CR_3_GRIGLIA!$C$19,CR_3_GRIGLIA!$B$19,CR_3_GRIGLIA!$B$20)))))","v":""},"",{"$f":"+IF(D81=\"\",\"\",IF(C81=\"\",0,INDEX(CR_3_GRIGLIA!$D$3:$K$13,+VLOOKUP(B81,CR_3_GRIGLIA!$A$3:$C$13,3,FALSE),+HLOOKUP(D81,CR_3_GRIGLIA!$D$1:$K$2,2,FALSE))))","v":""},""]
[81,null,{"$f":"+IF(B82=\"\",\"\",VLOOKUP(B82,CR_3_GRIGLIA!$A$3:$B$13,2,FALSE))","v":""},null,null,null,{"$f":"+IF(I82=\"\",\"\",IF(I82=CR_3_GRIGLIA!$C$16,CR_3_GRIGLIA!$B$16,IF(I82=CR_3_GRIGLIA!$C$17,CR_3_GRIGLIA!$B$17,IF(I82=CR_3_GRIGLIA!$C$18,CR_3_GRIGLIA!$B$18,IF(I82=CR_3_GRIGLIA!$C$19,CR_3_GRIGLIA!$B$19,CR_3_GRIGLIA!$B$20)))))","v":""},"",{"$f":"+IF(D82=\"\",\"\",IF(C82=\"\",0,INDEX(CR_3_GRIGLIA!$D$3:$K$13,+VLOOKUP(B82,CR_3_GRIGLIA!$A$3:$C$13,3,FALSE),+HLOOKUP(D82,CR_3_GRIGLIA!$D$1:$K$2,2,FALSE))))","v":""},""]
[82,null,{"$f":"+IF(B83=\"\",\"\",VLOOKUP(B83,CR_3_GRIGLIA!$A$3:$B$13,2,FALSE))","v":""},null,null,null,{"$f":"+IF(I83=\"\",\"\",IF(I83=CR_3_GRIGLIA!$C$16,CR_3_GRIGLIA!$B$16,IF(I83=CR_3_GRIGLIA!$C$17,CR_3_GRIGLIA!$B$17,IF(I83=CR_3_GRIGLIA!$C$18,CR_3_GRIGLIA!$B$18,IF(I83=CR_3_GRIGLIA!$C$19,CR_3_GRIGLIA!$B$19,CR_3_GRIGLIA!$B$20)))))","v":""},"",{"$f":"+IF(D83=\"\",\"\",IF(C83=\"\",0,INDEX(CR_3_GRIGLIA!$D$3:$K$13,+VLOOKUP(B83,CR_3_GRIGLIA!$A$3:$C$13,3,FALSE),+HLOOKUP(D83,CR_3_GRIGLIA!$D$1:$K$2,2,FALSE))))","v":""},""]
[83,null,{"$f":"+IF(B84=\"\",\"\",VLOOKUP(B84,CR_3_GRIGLIA!$A$3:$B$13,2,FALSE))","v":""},null,null,null,{"$f":"+IF(I84=\"\",\"\",IF(I84=CR_3_GRIGLIA!$C$16,CR_3_GRIGLIA!$B$16,IF(I84=CR_3_GRIGLIA!$C$17,CR_3_GRIGLIA!$B$17,IF(I84=CR_3_GRIGLIA!$C$18,CR_3_GRIGLIA!$B$18,IF(I84=CR_3_GRIGLIA!$C$19,CR_3_GRIGLIA!$B$19,CR_3_GRIGLIA!$B$20)))))","v":""},"",{"$f":"+IF(D84=\"\",\"\",IF(C84=\"\",0,INDEX(CR_3_GRIGLIA!$D$3:$K$13,+VLOOKUP(B84,CR_3_GRIGLIA!$A$3:$C$13,3,FALSE),+HLOOKUP(D84,CR_3_GRIGLIA!$D$1:$K$2,2,FALSE))))","v":""},""]
[84,null,{"$f":"+IF(B85=\"\",\"\",VLOOKUP(B85,CR_3_GRIGLIA!$A$3:$B$13,2,FALSE))","v":""},null,null,null,{"$f":"+IF(I85=\"\",\"\",IF(I85=CR_3_GRIGLIA!$C$16,CR_3_GRIGLIA!$B$16,IF(I85=CR_3_GRIGLIA!$C$17,CR_3_GRIGLIA!$B$17,IF(I85=CR_3_GRIGLIA!$C$18,CR_3_GRIGLIA!$B$18,IF(I85=CR_3_GRIGLIA!$C$19,CR_3_GRIGLIA!$B$19,CR_3_GRIGLIA!$B$20)))))","v":""},"",{"$f":"+IF(D85=\"\",\"\",IF(C85=\"\",0,INDEX(CR_3_GRIGLIA!$D$3:$K$13,+VLOOKUP(B85,CR_3_GRIGLIA!$A$3:$C$13,3,FALSE),+HLOOKUP(D85,CR_3_GRIGLIA!$D$1:$K$2,2,FALSE))))","v":""},""]
[85,null,{"$f":"+IF(B86=\"\",\"\",VLOOKUP(B86,CR_3_GRIGLIA!$A$3:$B$13,2,FALSE))","v":""},null,null,null,{"$f":"+IF(I86=\"\",\"\",IF(I86=CR_3_GRIGLIA!$C$16,CR_3_GRIGLIA!$B$16,IF(I86=CR_3_GRIGLIA!$C$17,CR_3_GRIGLIA!$B$17,IF(I86=CR_3_GRIGLIA!$C$18,CR_3_GRIGLIA!$B$18,IF(I86=CR_3_GRIGLIA!$C$19,CR_3_GRIGLIA!$B$19,CR_3_GRIGLIA!$B$20)))))","v":""},"",{"$f":"+IF(D86=\"\",\"\",IF(C86=\"\",0,INDEX(CR_3_GRIGLIA!$D$3:$K$13,+VLOOKUP(B86,CR_3_GRIGLIA!$A$3:$C$13,3,FALSE),+HLOOKUP(D86,CR_3_GRIGLIA!$D$1:$K$2,2,FALSE))))","v":""},""]
[86,null,{"$f":"+IF(B87=\"\",\"\",VLOOKUP(B87,CR_3_GRIGLIA!$A$3:$B$13,2,FALSE))","v":""},null,null,null,{"$f":"+IF(I87=\"\",\"\",IF(I87=CR_3_GRIGLIA!$C$16,CR_3_GRIGLIA!$B$16,IF(I87=CR_3_GRIGLIA!$C$17,CR_3_GRIGLIA!$B$17,IF(I87=CR_3_GRIGLIA!$C$18,CR_3_GRIGLIA!$B$18,IF(I87=CR_3_GRIGLIA!$C$19,CR_3_GRIGLIA!$B$19,CR_3_GRIGLIA!$B$20)))))","v":""},"",{"$f":"+IF(D87=\"\",\"\",IF(C87=\"\",0,INDEX(CR_3_GRIGLIA!$D$3:$K$13,+VLOOKUP(B87,CR_3_GRIGLIA!$A$3:$C$13,3,FALSE),+HLOOKUP(D87,CR_3_GRIGLIA!$D$1:$K$2,2,FALSE))))","v":""},""]
[87,null,{"$f":"+IF(B88=\"\",\"\",VLOOKUP(B88,CR_3_GRIGLIA!$A$3:$B$13,2,FALSE))","v":""},null,null,null,{"$f":"+IF(I88=\"\",\"\",IF(I88=CR_3_GRIGLIA!$C$16,CR_3_GRIGLIA!$B$16,IF(I88=CR_3_GRIGLIA!$C$17,CR_3_GRIGLIA!$B$17,IF(I88=CR_3_GRIGLIA!$C$18,CR_3_GRIGLIA!$B$18,IF(I88=CR_3_GRIGLIA!$C$19,CR_3_GRIGLIA!$B$19,CR_3_GRIGLIA!$B$20)))))","v":""},"",{"$f":"+IF(D88=\"\",\"\",IF(C88=\"\",0,INDEX(CR_3_GRIGLIA!$D$3:$K$13,+VLOOKUP(B88,CR_3_GRIGLIA!$A$3:$C$13,3,FALSE),+HLOOKUP(D88,CR_3_GRIGLIA!$D$1:$K$2,2,FALSE))))","v":""},""]
[88,null,{"$f":"+IF(B89=\"\",\"\",VLOOKUP(B89,CR_3_GRIGLIA!$A$3:$B$13,2,FALSE))","v":""},null,null,null,{"$f":"+IF(I89=\"\",\"\",IF(I89=CR_3_GRIGLIA!$C$16,CR_3_GRIGLIA!$B$16,IF(I89=CR_3_GRIGLIA!$C$17,CR_3_GRIGLIA!$B$17,IF(I89=CR_3_GRIGLIA!$C$18,CR_3_GRIGLIA!$B$18,IF(I89=CR_3_GRIGLIA!$C$19,CR_3_GRIGLIA!$B$19,CR_3_GRIGLIA!$B$20)))))","v":""},"",{"$f":"+IF(D89=\"\",\"\",IF(C89=\"\",0,INDEX(CR_3_GRIGLIA!$D$3:$K$13,+VLOOKUP(B89,CR_3_GRIGLIA!$A$3:$C$13,3,FALSE),+HLOOKUP(D89,CR_3_GRIGLIA!$D$1:$K$2,2,FALSE))))","v":""},""]
[89,null,{"$f":"+IF(B90=\"\",\"\",VLOOKUP(B90,CR_3_GRIGLIA!$A$3:$B$13,2,FALSE))","v":""},null,null,null,{"$f":"+IF(I90=\"\",\"\",IF(I90=CR_3_GRIGLIA!$C$16,CR_3_GRIGLIA!$B$16,IF(I90=CR_3_GRIGLIA!$C$17,CR_3_GRIGLIA!$B$17,IF(I90=CR_3_GRIGLIA!$C$18,CR_3_GRIGLIA!$B$18,IF(I90=CR_3_GRIGLIA!$C$19,CR_3_GRIGLIA!$B$19,CR_3_GRIGLIA!$B$20)))))","v":""},"",{"$f":"+IF(D90=\"\",\"\",IF(C90=\"\",0,INDEX(CR_3_GRIGLIA!$D$3:$K$13,+VLOOKUP(B90,CR_3_GRIGLIA!$A$3:$C$13,3,FALSE),+HLOOKUP(D90,CR_3_GRIGLIA!$D$1:$K$2,2,FALSE))))","v":""},""]
[90,null,{"$f":"+IF(B91=\"\",\"\",VLOOKUP(B91,CR_3_GRIGLIA!$A$3:$B$13,2,FALSE))","v":""},null,null,null,{"$f":"+IF(I91=\"\",\"\",IF(I91=CR_3_GRIGLIA!$C$16,CR_3_GRIGLIA!$B$16,IF(I91=CR_3_GRIGLIA!$C$17,CR_3_GRIGLIA!$B$17,IF(I91=CR_3_GRIGLIA!$C$18,CR_3_GRIGLIA!$B$18,IF(I91=CR_3_GRIGLIA!$C$19,CR_3_GRIGLIA!$B$19,CR_3_GRIGLIA!$B$20)))))","v":""},"",{"$f":"+IF(D91=\"\",\"\",IF(C91=\"\",0,INDEX(CR_3_GRIGLIA!$D$3:$K$13,+VLOOKUP(B91,CR_3_GRIGLIA!$A$3:$C$13,3,FALSE),+HLOOKUP(D91,CR_3_GRIGLIA!$D$1:$K$2,2,FALSE))))","v":""},""]
[91,null,{"$f":"+IF(B92=\"\",\"\",VLOOKUP(B92,CR_3_GRIGLIA!$A$3:$B$13,2,FALSE))","v":""},null,null,null,{"$f":"+IF(I92=\"\",\"\",IF(I92=CR_3_GRIGLIA!$C$16,CR_3_GRIGLIA!$B$16,IF(I92=CR_3_GRIGLIA!$C$17,CR_3_GRIGLIA!$B$17,IF(I92=CR_3_GRIGLIA!$C$18,CR_3_GRIGLIA!$B$18,IF(I92=CR_3_GRIGLIA!$C$19,CR_3_GRIGLIA!$B$19,CR_3_GRIGLIA!$B$20)))))","v":""},"",{"$f":"+IF(D92=\"\",\"\",IF(C92=\"\",0,INDEX(CR_3_GRIGLIA!$D$3:$K$13,+VLOOKUP(B92,CR_3_GRIGLIA!$A$3:$C$13,3,FALSE),+HLOOKUP(D92,CR_3_GRIGLIA!$D$1:$K$2,2,FALSE))))","v":""},""]
[92,null,{"$f":"+IF(B93=\"\",\"\",VLOOKUP(B93,CR_3_GRIGLIA!$A$3:$B$13,2,FALSE))","v":""},null,null,null,{"$f":"+IF(I93=\"\",\"\",IF(I93=CR_3_GRIGLIA!$C$16,CR_3_GRIGLIA!$B$16,IF(I93=CR_3_GRIGLIA!$C$17,CR_3_GRIGLIA!$B$17,IF(I93=CR_3_GRIGLIA!$C$18,CR_3_GRIGLIA!$B$18,IF(I93=CR_3_GRIGLIA!$C$19,CR_3_GRIGLIA!$B$19,CR_3_GRIGLIA!$B$20)))))","v":""},"",{"$f":"+IF(D93=\"\",\"\",IF(C93=\"\",0,INDEX(CR_3_GRIGLIA!$D$3:$K$13,+VLOOKUP(B93,CR_3_GRIGLIA!$A$3:$C$13,3,FALSE),+HLOOKUP(D93,CR_3_GRIGLIA!$D$1:$K$2,2,FALSE))))","v":""},""]
[93,null,{"$f":"+IF(B94=\"\",\"\",VLOOKUP(B94,CR_3_GRIGLIA!$A$3:$B$13,2,FALSE))","v":""},null,null,null,{"$f":"+IF(I94=\"\",\"\",IF(I94=CR_3_GRIGLIA!$C$16,CR_3_GRIGLIA!$B$16,IF(I94=CR_3_GRIGLIA!$C$17,CR_3_GRIGLIA!$B$17,IF(I94=CR_3_GRIGLIA!$C$18,CR_3_GRIGLIA!$B$18,IF(I94=CR_3_GRIGLIA!$C$19,CR_3_GRIGLIA!$B$19,CR_3_GRIGLIA!$B$20)))))","v":""},"",{"$f":"+IF(D94=\"\",\"\",IF(C94=\"\",0,INDEX(CR_3_GRIGLIA!$D$3:$K$13,+VLOOKUP(B94,CR_3_GRIGLIA!$A$3:$C$13,3,FALSE),+HLOOKUP(D94,CR_3_GRIGLIA!$D$1:$K$2,2,FALSE))))","v":""},""]
[94,null,{"$f":"+IF(B95=\"\",\"\",VLOOKUP(B95,CR_3_GRIGLIA!$A$3:$B$13,2,FALSE))","v":""},null,null,null,{"$f":"+IF(I95=\"\",\"\",IF(I95=CR_3_GRIGLIA!$C$16,CR_3_GRIGLIA!$B$16,IF(I95=CR_3_GRIGLIA!$C$17,CR_3_GRIGLIA!$B$17,IF(I95=CR_3_GRIGLIA!$C$18,CR_3_GRIGLIA!$B$18,IF(I95=CR_3_GRIGLIA!$C$19,CR_3_GRIGLIA!$B$19,CR_3_GRIGLIA!$B$20)))))","v":""},"",{"$f":"+IF(D95=\"\",\"\",IF(C95=\"\",0,INDEX(CR_3_GRIGLIA!$D$3:$K$13,+VLOOKUP(B95,CR_3_GRIGLIA!$A$3:$C$13,3,FALSE),+HLOOKUP(D95,CR_3_GRIGLIA!$D$1:$K$2,2,FALSE))))","v":""},""]
[95,null,{"$f":"+IF(B96=\"\",\"\",VLOOKUP(B96,CR_3_GRIGLIA!$A$3:$B$13,2,FALSE))","v":""},null,null,null,{"$f":"+IF(I96=\"\",\"\",IF(I96=CR_3_GRIGLIA!$C$16,CR_3_GRIGLIA!$B$16,IF(I96=CR_3_GRIGLIA!$C$17,CR_3_GRIGLIA!$B$17,IF(I96=CR_3_GRIGLIA!$C$18,CR_3_GRIGLIA!$B$18,IF(I96=CR_3_GRIGLIA!$C$19,CR_3_GRIGLIA!$B$19,CR_3_GRIGLIA!$B$20)))))","v":""},"",{"$f":"+IF(D96=\"\",\"\",IF(C96=\"\",0,INDEX(CR_3_GRIGLIA!$D$3:$K$13,+VLOOKUP(B96,CR_3_GRIGLIA!$A$3:$C$13,3,FALSE),+HLOOKUP(D96,CR_3_GRIGLIA!$D$1:$K$2,2,FALSE))))","v":""},""]
[96,null,{"$f":"+IF(B97=\"\",\"\",VLOOKUP(B97,CR_3_GRIGLIA!$A$3:$B$13,2,FALSE))","v":""},null,null,null,{"$f":"+IF(I97=\"\",\"\",IF(I97=CR_3_GRIGLIA!$C$16,CR_3_GRIGLIA!$B$16,IF(I97=CR_3_GRIGLIA!$C$17,CR_3_GRIGLIA!$B$17,IF(I97=CR_3_GRIGLIA!$C$18,CR_3_GRIGLIA!$B$18,IF(I97=CR_3_GRIGLIA!$C$19,CR_3_GRIGLIA!$B$19,CR_3_GRIGLIA!$B$20)))))","v":""},"",{"$f":"+IF(D97=\"\",\"\",IF(C97=\"\",0,INDEX(CR_3_GRIGLIA!$D$3:$K$13,+VLOOKUP(B97,CR_3_GRIGLIA!$A$3:$C$13,3,FALSE),+HLOOKUP(D97,CR_3_GRIGLIA!$D$1:$K$2,2,FALSE))))","v":""},""]
[97,null,{"$f":"+IF(B98=\"\",\"\",VLOOKUP(B98,CR_3_GRIGLIA!$A$3:$B$13,2,FALSE))","v":""},null,null,null,{"$f":"+IF(I98=\"\",\"\",IF(I98=CR_3_GRIGLIA!$C$16,CR_3_GRIGLIA!$B$16,IF(I98=CR_3_GRIGLIA!$C$17,CR_3_GRIGLIA!$B$17,IF(I98=CR_3_GRIGLIA!$C$18,CR_3_GRIGLIA!$B$18,IF(I98=CR_3_GRIGLIA!$C$19,CR_3_GRIGLIA!$B$19,CR_3_GRIGLIA!$B$20)))))","v":""},"",{"$f":"+IF(D98=\"\",\"\",IF(C98=\"\",0,INDEX(CR_3_GRIGLIA!$D$3:$K$13,+VLOOKUP(B98,CR_3_GRIGLIA!$A$3:$C$13,3,FALSE),+HLOOKUP(D98,CR_3_GRIGLIA!$D$1:$K$2,2,FALSE))))","v":""},""]
[98,null,{"$f":"+IF(B99=\"\",\"\",VLOOKUP(B99,CR_3_GRIGLIA!$A$3:$B$13,2,FALSE))","v":""},null,null,null,{"$f":"+IF(I99=\"\",\"\",IF(I99=CR_3_GRIGLIA!$C$16,CR_3_GRIGLIA!$B$16,IF(I99=CR_3_GRIGLIA!$C$17,CR_3_GRIGLIA!$B$17,IF(I99=CR_3_GRIGLIA!$C$18,CR_3_GRIGLIA!$B$18,IF(I99=CR_3_GRIGLIA!$C$19,CR_3_GRIGLIA!$B$19,CR_3_GRIGLIA!$B$20)))))","v":""},"",{"$f":"+IF(D99=\"\",\"\",IF(C99=\"\",0,INDEX(CR_3_GRIGLIA!$D$3:$K$13,+VLOOKUP(B99,CR_3_GRIGLIA!$A$3:$C$13,3,FALSE),+HLOOKUP(D99,CR_3_GRIGLIA!$D$1:$K$2,2,FALSE))))","v":""},""]
[99,null,{"$f":"+IF(B100=\"\",\"\",VLOOKUP(B100,CR_3_GRIGLIA!$A$3:$B$13,2,FALSE))","v":""},null,null,null,{"$f":"+IF(I100=\"\",\"\",IF(I100=CR_3_GRIGLIA!$C$16,CR_3_GRIGLIA!$B$16,IF(I100=CR_3_GRIGLIA!$C$17,CR_3_GRIGLIA!$B$17,IF(I100=CR_3_GRIGLIA!$C$18,CR_3_GRIGLIA!$B$18,IF(I100=CR_3_GRIGLIA!$C$19,CR_3_GRIGLIA!$B$19,CR_3_GRIGLIA!$B$20)))))","v":""},"",{"$f":"+IF(D100=\"\",\"\",IF(C100=\"\",0,INDEX(CR_3_GRIGLIA!$D$3:$K$13,+VLOOKUP(B100,CR_3_GRIGLIA!$A$3:$C$13,3,FALSE),+HLOOKUP(D100,CR_3_GRIGLIA!$D$1:$K$2,2,FALSE))))","v":""},""]
[100,null,{"$f":"+IF(B101=\"\",\"\",VLOOKUP(B101,CR_3_GRIGLIA!$A$3:$B$13,2,FALSE))","v":""},null,null,null,{"$f":"+IF(I101=\"\",\"\",IF(I101=CR_3_GRIGLIA!$C$16,CR_3_GRIGLIA!$B$16,IF(I101=CR_3_GRIGLIA!$C$17,CR_3_GRIGLIA!$B$17,IF(I101=CR_3_GRIGLIA!$C$18,CR_3_GRIGLIA!$B$18,IF(I101=CR_3_GRIGLIA!$C$19,CR_3_GRIGLIA!$B$19,CR_3_GRIGLIA!$B$20)))))","v":""},"",{"$f":"+IF(D101=\"\",\"\",IF(C101=\"\",0,INDEX(CR_3_GRIGLIA!$D$3:$K$13,+VLOOKUP(B101,CR_3_GRIGLIA!$A$3:$C$13,3,FALSE),+HLOOKUP(D101,CR_3_GRIGLIA!$D$1:$K$2,2,FALSE))))","v":""},""]
[101,null,{"$f":"+IF(B102=\"\",\"\",VLOOKUP(B102,CR_3_GRIGLIA!$A$3:$B$13,2,FALSE))","v":""},null,null,null,{"$f":"+IF(I102=\"\",\"\",IF(I102=CR_3_GRIGLIA!$C$16,CR_3_GRIGLIA!$B$16,IF(I102=CR_3_GRIGLIA!$C$17,CR_3_GRIGLIA!$B$17,IF(I102=CR_3_GRIGLIA!$C$18,CR_3_GRIGLIA!$B$18,IF(I102=CR_3_GRIGLIA!$C$19,CR_3_GRIGLIA!$B$19,CR_3_GRIGLIA!$B$20)))))","v":""},"",{"$f":"+IF(D102=\"\",\"\",IF(C102=\"\",0,INDEX(CR_3_GRIGLIA!$D$3:$K$13,+VLOOKUP(B102,CR_3_GRIGLIA!$A$3:$C$13,3,FALSE),+HLOOKUP(D102,CR_3_GRIGLIA!$D$1:$K$2,2,FALSE))))","v":""},""]
[102,null,{"$f":"+IF(B103=\"\",\"\",VLOOKUP(B103,CR_3_GRIGLIA!$A$3:$B$13,2,FALSE))","v":""},null,null,null,{"$f":"+IF(I103=\"\",\"\",IF(I103=CR_3_GRIGLIA!$C$16,CR_3_GRIGLIA!$B$16,IF(I103=CR_3_GRIGLIA!$C$17,CR_3_GRIGLIA!$B$17,IF(I103=CR_3_GRIGLIA!$C$18,CR_3_GRIGLIA!$B$18,IF(I103=CR_3_GRIGLIA!$C$19,CR_3_GRIGLIA!$B$19,CR_3_GRIGLIA!$B$20)))))","v":""},"",{"$f":"+IF(D103=\"\",\"\",IF(C103=\"\",0,INDEX(CR_3_GRIGLIA!$D$3:$K$13,+VLOOKUP(B103,CR_3_GRIGLIA!$A$3:$C$13,3,FALSE),+HLOOKUP(D103,CR_3_GRIGLIA!$D$1:$K$2,2,FALSE))))","v":""},""]
[103,null,{"$f":"+IF(B104=\"\",\"\",VLOOKUP(B104,CR_3_GRIGLIA!$A$3:$B$13,2,FALSE))","v":""},null,null,null,{"$f":"+IF(I104=\"\",\"\",IF(I104=CR_3_GRIGLIA!$C$16,CR_3_GRIGLIA!$B$16,IF(I104=CR_3_GRIGLIA!$C$17,CR_3_GRIGLIA!$B$17,IF(I104=CR_3_GRIGLIA!$C$18,CR_3_GRIGLIA!$B$18,IF(I104=CR_3_GRIGLIA!$C$19,CR_3_GRIGLIA!$B$19,CR_3_GRIGLIA!$B$20)))))","v":""},"",{"$f":"+IF(D104=\"\",\"\",IF(C104=\"\",0,INDEX(CR_3_GRIGLIA!$D$3:$K$13,+VLOOKUP(B104,CR_3_GRIGLIA!$A$3:$C$13,3,FALSE),+HLOOKUP(D104,CR_3_GRIGLIA!$D$1:$K$2,2,FALSE))))","v":""},""]
[104,null,{"$f":"+IF(B105=\"\",\"\",VLOOKUP(B105,CR_3_GRIGLIA!$A$3:$B$13,2,FALSE))","v":""},null,null,null,{"$f":"+IF(I105=\"\",\"\",IF(I105=CR_3_GRIGLIA!$C$16,CR_3_GRIGLIA!$B$16,IF(I105=CR_3_GRIGLIA!$C$17,CR_3_GRIGLIA!$B$17,IF(I105=CR_3_GRIGLIA!$C$18,CR_3_GRIGLIA!$B$18,IF(I105=CR_3_GRIGLIA!$C$19,CR_3_GRIGLIA!$B$19,CR_3_GRIGLIA!$B$20)))))","v":""},"",{"$f":"+IF(D105=\"\",\"\",IF(C105=\"\",0,INDEX(CR_3_GRIGLIA!$D$3:$K$13,+VLOOKUP(B105,CR_3_GRIGLIA!$A$3:$C$13,3,FALSE),+HLOOKUP(D105,CR_3_GRIGLIA!$D$1:$K$2,2,FALSE))))","v":""},""]
[105,null,{"$f":"+IF(B106=\"\",\"\",VLOOKUP(B106,CR_3_GRIGLIA!$A$3:$B$13,2,FALSE))","v":""},null,null,null,{"$f":"+IF(I106=\"\",\"\",IF(I106=CR_3_GRIGLIA!$C$16,CR_3_GRIGLIA!$B$16,IF(I106=CR_3_GRIGLIA!$C$17,CR_3_GRIGLIA!$B$17,IF(I106=CR_3_GRIGLIA!$C$18,CR_3_GRIGLIA!$B$18,IF(I106=CR_3_GRIGLIA!$C$19,CR_3_GRIGLIA!$B$19,CR_3_GRIGLIA!$B$20)))))","v":""},"",{"$f":"+IF(D106=\"\",\"\",IF(C106=\"\",0,INDEX(CR_3_GRIGLIA!$D$3:$K$13,+VLOOKUP(B106,CR_3_GRIGLIA!$A$3:$C$13,3,FALSE),+HLOOKUP(D106,CR_3_GRIGLIA!$D$1:$K$2,2,FALSE))))","v":""},""]
[106,null,{"$f":"+IF(B107=\"\",\"\",VLOOKUP(B107,CR_3_GRIGLIA!$A$3:$B$13,2,FALSE))","v":""},null,null,null,{"$f":"+IF(I107=\"\",\"\",IF(I107=CR_3_GRIGLIA!$C$16,CR_3_GRIGLIA!$B$16,IF(I107=CR_3_GRIGLIA!$C$17,CR_3_GRIGLIA!$B$17,IF(I107=CR_3_GRIGLIA!$C$18,CR_3_GRIGLIA!$B$18,IF(I107=CR_3_GRIGLIA!$C$19,CR_3_GRIGLIA!$B$19,CR_3_GRIGLIA!$B$20)))))","v":""},"",{"$f":"+IF(D107=\"\",\"\",IF(C107=\"\",0,INDEX(CR_3_GRIGLIA!$D$3:$K$13,+VLOOKUP(B107,CR_3_GRIGLIA!$A$3:$C$13,3,FALSE),+HLOOKUP(D107,CR_3_GRIGLIA!$D$1:$K$2,2,FALSE))))","v":""},""]
[107,null,{"$f":"+IF(B108=\"\",\"\",VLOOKUP(B108,CR_3_GRIGLIA!$A$3:$B$13,2,FALSE))","v":""},null,null,null,{"$f":"+IF(I108=\"\",\"\",IF(I108=CR_3_GRIGLIA!$C$16,CR_3_GRIGLIA!$B$16,IF(I108=CR_3_GRIGLIA!$C$17,CR_3_GRIGLIA!$B$17,IF(I108=CR_3_GRIGLIA!$C$18,CR_3_GRIGLIA!$B$18,IF(I108=CR_3_GRIGLIA!$C$19,CR_3_GRIGLIA!$B$19,CR_3_GRIGLIA!$B$20)))))","v":""},"",{"$f":"+IF(D108=\"\",\"\",IF(C108=\"\",0,INDEX(CR_3_GRIGLIA!$D$3:$K$13,+VLOOKUP(B108,CR_3_GRIGLIA!$A$3:$C$13,3,FALSE),+HLOOKUP(D108,CR_3_GRIGLIA!$D$1:$K$2,2,FALSE))))","v":""},""]
[108,null,{"$f":"+IF(B109=\"\",\"\",VLOOKUP(B109,CR_3_GRIGLIA!$A$3:$B$13,2,FALSE))","v":""},null,null,null,{"$f":"+IF(I109=\"\",\"\",IF(I109=CR_3_GRIGLIA!$C$16,CR_3_GRIGLIA!$B$16,IF(I109=CR_3_GRIGLIA!$C$17,CR_3_GRIGLIA!$B$17,IF(I109=CR_3_GRIGLIA!$C$18,CR_3_GRIGLIA!$B$18,IF(I109=CR_3_GRIGLIA!$C$19,CR_3_GRIGLIA!$B$19,CR_3_GRIGLIA!$B$20)))))","v":""},"",{"$f":"+IF(D109=\"\",\"\",IF(C109=\"\",0,INDEX(CR_3_GRIGLIA!$D$3:$K$13,+VLOOKUP(B109,CR_3_GRIGLIA!$A$3:$C$13,3,FALSE),+HLOOKUP(D109,CR_3_GRIGLIA!$D$1:$K$2,2,FALSE))))","v":""},""]
[109,null,{"$f":"+IF(B110=\"\",\"\",VLOOKUP(B110,CR_3_GRIGLIA!$A$3:$B$13,2,FALSE))","v":""},null,null,null,{"$f":"+IF(I110=\"\",\"\",IF(I110=CR_3_GRIGLIA!$C$16,CR_3_GRIGLIA!$B$16,IF(I110=CR_3_GRIGLIA!$C$17,CR_3_GRIGLIA!$B$17,IF(I110=CR_3_GRIGLIA!$C$18,CR_3_GRIGLIA!$B$18,IF(I110=CR_3_GRIGLIA!$C$19,CR_3_GRIGLIA!$B$19,CR_3_GRIGLIA!$B$20)))))","v":""},"",{"$f":"+IF(D110=\"\",\"\",IF(C110=\"\",0,INDEX(CR_3_GRIGLIA!$D$3:$K$13,+VLOOKUP(B110,CR_3_GRIGLIA!$A$3:$C$13,3,FALSE),+HLOOKUP(D110,CR_3_GRIGLIA!$D$1:$K$2,2,FALSE))))","v":""},""]
[110,null,{"$f":"+IF(B111=\"\",\"\",VLOOKUP(B111,CR_3_GRIGLIA!$A$3:$B$13,2,FALSE))","v":""},null,null,null,{"$f":"+IF(I111=\"\",\"\",IF(I111=CR_3_GRIGLIA!$C$16,CR_3_GRIGLIA!$B$16,IF(I111=CR_3_GRIGLIA!$C$17,CR_3_GRIGLIA!$B$17,IF(I111=CR_3_GRIGLIA!$C$18,CR_3_GRIGLIA!$B$18,IF(I111=CR_3_GRIGLIA!$C$19,CR_3_GRIGLIA!$B$19,CR_3_GRIGLIA!$B$20)))))","v":""},"",{"$f":"+IF(D111=\"\",\"\",IF(C111=\"\",0,INDEX(CR_3_GRIGLIA!$D$3:$K$13,+VLOOKUP(B111,CR_3_GRIGLIA!$A$3:$C$13,3,FALSE),+HLOOKUP(D111,CR_3_GRIGLIA!$D$1:$K$2,2,FALSE))))","v":""},""]
[111,null,{"$f":"+IF(B112=\"\",\"\",VLOOKUP(B112,CR_3_GRIGLIA!$A$3:$B$13,2,FALSE))","v":""},null,null,null,{"$f":"+IF(I112=\"\",\"\",IF(I112=CR_3_GRIGLIA!$C$16,CR_3_GRIGLIA!$B$16,IF(I112=CR_3_GRIGLIA!$C$17,CR_3_GRIGLIA!$B$17,IF(I112=CR_3_GRIGLIA!$C$18,CR_3_GRIGLIA!$B$18,IF(I112=CR_3_GRIGLIA!$C$19,CR_3_GRIGLIA!$B$19,CR_3_GRIGLIA!$B$20)))))","v":""},"",{"$f":"+IF(D112=\"\",\"\",IF(C112=\"\",0,INDEX(CR_3_GRIGLIA!$D$3:$K$13,+VLOOKUP(B112,CR_3_GRIGLIA!$A$3:$C$13,3,FALSE),+HLOOKUP(D112,CR_3_GRIGLIA!$D$1:$K$2,2,FALSE))))","v":""},""]
[112,null,{"$f":"+IF(B113=\"\",\"\",VLOOKUP(B113,CR_3_GRIGLIA!$A$3:$B$13,2,FALSE))","v":""},null,null,null,{"$f":"+IF(I113=\"\",\"\",IF(I113=CR_3_GRIGLIA!$C$16,CR_3_GRIGLIA!$B$16,IF(I113=CR_3_GRIGLIA!$C$17,CR_3_GRIGLIA!$B$17,IF(I113=CR_3_GRIGLIA!$C$18,CR_3_GRIGLIA!$B$18,IF(I113=CR_3_GRIGLIA!$C$19,CR_3_GRIGLIA!$B$19,CR_3_GRIGLIA!$B$20)))))","v":""},"",{"$f":"+IF(D113=\"\",\"\",IF(C113=\"\",0,INDEX(CR_3_GRIGLIA!$D$3:$K$13,+VLOOKUP(B113,CR_3_GRIGLIA!$A$3:$C$13,3,FALSE),+HLOOKUP(D113,CR_3_GRIGLIA!$D$1:$K$2,2,FALSE))))","v":""},""]
[113,null,{"$f":"+IF(B114=\"\",\"\",VLOOKUP(B114,CR_3_GRIGLIA!$A$3:$B$13,2,FALSE))","v":""},null,null,null,{"$f":"+IF(I114=\"\",\"\",IF(I114=CR_3_GRIGLIA!$C$16,CR_3_GRIGLIA!$B$16,IF(I114=CR_3_GRIGLIA!$C$17,CR_3_GRIGLIA!$B$17,IF(I114=CR_3_GRIGLIA!$C$18,CR_3_GRIGLIA!$B$18,IF(I114=CR_3_GRIGLIA!$C$19,CR_3_GRIGLIA!$B$19,CR_3_GRIGLIA!$B$20)))))","v":""},"",{"$f":"+IF(D114=\"\",\"\",IF(C114=\"\",0,INDEX(CR_3_GRIGLIA!$D$3:$K$13,+VLOOKUP(B114,CR_3_GRIGLIA!$A$3:$C$13,3,FALSE),+HLOOKUP(D114,CR_3_GRIGLIA!$D$1:$K$2,2,FALSE))))","v":""},""]
[114,null,{"$f":"+IF(B115=\"\",\"\",VLOOKUP(B115,CR_3_GRIGLIA!$A$3:$B$13,2,FALSE))","v":""},null,null,null,{"$f":"+IF(I115=\"\",\"\",IF(I115=CR_3_GRIGLIA!$C$16,CR_3_GRIGLIA!$B$16,IF(I115=CR_3_GRIGLIA!$C$17,CR_3_GRIGLIA!$B$17,IF(I115=CR_3_GRIGLIA!$C$18,CR_3_GRIGLIA!$B$18,IF(I115=CR_3_GRIGLIA!$C$19,CR_3_GRIGLIA!$B$19,CR_3_GRIGLIA!$B$20)))))","v":""},"",{"$f":"+IF(D115=\"\",\"\",IF(C115=\"\",0,INDEX(CR_3_GRIGLIA!$D$3:$K$13,+VLOOKUP(B115,CR_3_GRIGLIA!$A$3:$C$13,3,FALSE),+HLOOKUP(D115,CR_3_GRIGLIA!$D$1:$K$2,2,FALSE))))","v":""},""]
[115,null,{"$f":"+IF(B116=\"\",\"\",VLOOKUP(B116,CR_3_GRIGLIA!$A$3:$B$13,2,FALSE))","v":""},null,null,null,{"$f":"+IF(I116=\"\",\"\",IF(I116=CR_3_GRIGLIA!$C$16,CR_3_GRIGLIA!$B$16,IF(I116=CR_3_GRIGLIA!$C$17,CR_3_GRIGLIA!$B$17,IF(I116=CR_3_GRIGLIA!$C$18,CR_3_GRIGLIA!$B$18,IF(I116=CR_3_GRIGLIA!$C$19,CR_3_GRIGLIA!$B$19,CR_3_GRIGLIA!$B$20)))))","v":""},"",{"$f":"+IF(D116=\"\",\"\",IF(C116=\"\",0,INDEX(CR_3_GRIGLIA!$D$3:$K$13,+VLOOKUP(B116,CR_3_GRIGLIA!$A$3:$C$13,3,FALSE),+HLOOKUP(D116,CR_3_GRIGLIA!$D$1:$K$2,2,FALSE))))","v":""},""]
[116,null,{"$f":"+IF(B117=\"\",\"\",VLOOKUP(B117,CR_3_GRIGLIA!$A$3:$B$13,2,FALSE))","v":""},null,null,null,{"$f":"+IF(I117=\"\",\"\",IF(I117=CR_3_GRIGLIA!$C$16,CR_3_GRIGLIA!$B$16,IF(I117=CR_3_GRIGLIA!$C$17,CR_3_GRIGLIA!$B$17,IF(I117=CR_3_GRIGLIA!$C$18,CR_3_GRIGLIA!$B$18,IF(I117=CR_3_GRIGLIA!$C$19,CR_3_GRIGLIA!$B$19,CR_3_GRIGLIA!$B$20)))))","v":""},"",{"$f":"+IF(D117=\"\",\"\",IF(C117=\"\",0,INDEX(CR_3_GRIGLIA!$D$3:$K$13,+VLOOKUP(B117,CR_3_GRIGLIA!$A$3:$C$13,3,FALSE),+HLOOKUP(D117,CR_3_GRIGLIA!$D$1:$K$2,2,FALSE))))","v":""},""]
[117,null,{"$f":"+IF(B118=\"\",\"\",VLOOKUP(B118,CR_3_GRIGLIA!$A$3:$B$13,2,FALSE))","v":""},null,null,null,{"$f":"+IF(I118=\"\",\"\",IF(I118=CR_3_GRIGLIA!$C$16,CR_3_GRIGLIA!$B$16,IF(I118=CR_3_GRIGLIA!$C$17,CR_3_GRIGLIA!$B$17,IF(I118=CR_3_GRIGLIA!$C$18,CR_3_GRIGLIA!$B$18,IF(I118=CR_3_GRIGLIA!$C$19,CR_3_GRIGLIA!$B$19,CR_3_GRIGLIA!$B$20)))))","v":""},"",{"$f":"+IF(D118=\"\",\"\",IF(C118=\"\",0,INDEX(CR_3_GRIGLIA!$D$3:$K$13,+VLOOKUP(B118,CR_3_GRIGLIA!$A$3:$C$13,3,FALSE),+HLOOKUP(D118,CR_3_GRIGLIA!$D$1:$K$2,2,FALSE))))","v":""},""]
[118,null,{"$f":"+IF(B119=\"\",\"\",VLOOKUP(B119,CR_3_GRIGLIA!$A$3:$B$13,2,FALSE))","v":""},null,null,null,{"$f":"+IF(I119=\"\",\"\",IF(I119=CR_3_GRIGLIA!$C$16,CR_3_GRIGLIA!$B$16,IF(I119=CR_3_GRIGLIA!$C$17,CR_3_GRIGLIA!$B$17,IF(I119=CR_3_GRIGLIA!$C$18,CR_3_GRIGLIA!$B$18,IF(I119=CR_3_GRIGLIA!$C$19,CR_3_GRIGLIA!$B$19,CR_3_GRIGLIA!$B$20)))))","v":""},"",{"$f":"+IF(D119=\"\",\"\",IF(C119=\"\",0,INDEX(CR_3_GRIGLIA!$D$3:$K$13,+VLOOKUP(B119,CR_3_GRIGLIA!$A$3:$C$13,3,FALSE),+HLOOKUP(D119,CR_3_GRIGLIA!$D$1:$K$2,2,FALSE))))","v":""},""]
[119,null,{"$f":"+IF(B120=\"\",\"\",VLOOKUP(B120,CR_3_GRIGLIA!$A$3:$B$13,2,FALSE))","v":""},null,null,null,{"$f":"+IF(I120=\"\",\"\",IF(I120=CR_3_GRIGLIA!$C$16,CR_3_GRIGLIA!$B$16,IF(I120=CR_3_GRIGLIA!$C$17,CR_3_GRIGLIA!$B$17,IF(I120=CR_3_GRIGLIA!$C$18,CR_3_GRIGLIA!$B$18,IF(I120=CR_3_GRIGLIA!$C$19,CR_3_GRIGLIA!$B$19,CR_3_GRIGLIA!$B$20)))))","v":""},"",{"$f":"+IF(D120=\"\",\"\",IF(C120=\"\",0,INDEX(CR_3_GRIGLIA!$D$3:$K$13,+VLOOKUP(B120,CR_3_GRIGLIA!$A$3:$C$13,3,FALSE),+HLOOKUP(D120,CR_3_GRIGLIA!$D$1:$K$2,2,FALSE))))","v":""},""]
[120,null,{"$f":"+IF(B121=\"\",\"\",VLOOKUP(B121,CR_3_GRIGLIA!$A$3:$B$13,2,FALSE))","v":""},null,null,null,{"$f":"+IF(I121=\"\",\"\",IF(I121=CR_3_GRIGLIA!$C$16,CR_3_GRIGLIA!$B$16,IF(I121=CR_3_GRIGLIA!$C$17,CR_3_GRIGLIA!$B$17,IF(I121=CR_3_GRIGLIA!$C$18,CR_3_GRIGLIA!$B$18,IF(I121=CR_3_GRIGLIA!$C$19,CR_3_GRIGLIA!$B$19,CR_3_GRIGLIA!$B$20)))))","v":""},"",{"$f":"+IF(D121=\"\",\"\",IF(C121=\"\",0,INDEX(CR_3_GRIGLIA!$D$3:$K$13,+VLOOKUP(B121,CR_3_GRIGLIA!$A$3:$C$13,3,FALSE),+HLOOKUP(D121,CR_3_GRIGLIA!$D$1:$K$2,2,FALSE))))","v":""},""]
[121,null,{"$f":"+IF(B122=\"\",\"\",VLOOKUP(B122,CR_3_GRIGLIA!$A$3:$B$13,2,FALSE))","v":""},null,null,null,{"$f":"+IF(I122=\"\",\"\",IF(I122=CR_3_GRIGLIA!$C$16,CR_3_GRIGLIA!$B$16,IF(I122=CR_3_GRIGLIA!$C$17,CR_3_GRIGLIA!$B$17,IF(I122=CR_3_GRIGLIA!$C$18,CR_3_GRIGLIA!$B$18,IF(I122=CR_3_GRIGLIA!$C$19,CR_3_GRIGLIA!$B$19,CR_3_GRIGLIA!$B$20)))))","v":""},"",{"$f":"+IF(D122=\"\",\"\",IF(C122=\"\",0,INDEX(CR_3_GRIGLIA!$D$3:$K$13,+VLOOKUP(B122,CR_3_GRIGLIA!$A$3:$C$13,3,FALSE),+HLOOKUP(D122,CR_3_GRIGLIA!$D$1:$K$2,2,FALSE))))","v":""},""]
[122,null,{"$f":"+IF(B123=\"\",\"\",VLOOKUP(B123,CR_3_GRIGLIA!$A$3:$B$13,2,FALSE))","v":""},null,null,null,{"$f":"+IF(I123=\"\",\"\",IF(I123=CR_3_GRIGLIA!$C$16,CR_3_GRIGLIA!$B$16,IF(I123=CR_3_GRIGLIA!$C$17,CR_3_GRIGLIA!$B$17,IF(I123=CR_3_GRIGLIA!$C$18,CR_3_GRIGLIA!$B$18,IF(I123=CR_3_GRIGLIA!$C$19,CR_3_GRIGLIA!$B$19,CR_3_GRIGLIA!$B$20)))))","v":""},"",{"$f":"+IF(D123=\"\",\"\",IF(C123=\"\",0,INDEX(CR_3_GRIGLIA!$D$3:$K$13,+VLOOKUP(B123,CR_3_GRIGLIA!$A$3:$C$13,3,FALSE),+HLOOKUP(D123,CR_3_GRIGLIA!$D$1:$K$2,2,FALSE))))","v":""},""]
[123,null,{"$f":"+IF(B124=\"\",\"\",VLOOKUP(B124,CR_3_GRIGLIA!$A$3:$B$13,2,FALSE))","v":""},null,null,null,{"$f":"+IF(I124=\"\",\"\",IF(I124=CR_3_GRIGLIA!$C$16,CR_3_GRIGLIA!$B$16,IF(I124=CR_3_GRIGLIA!$C$17,CR_3_GRIGLIA!$B$17,IF(I124=CR_3_GRIGLIA!$C$18,CR_3_GRIGLIA!$B$18,IF(I124=CR_3_GRIGLIA!$C$19,CR_3_GRIGLIA!$B$19,CR_3_GRIGLIA!$B$20)))))","v":""},"",{"$f":"+IF(D124=\"\",\"\",IF(C124=\"\",0,INDEX(CR_3_GRIGLIA!$D$3:$K$13,+VLOOKUP(B124,CR_3_GRIGLIA!$A$3:$C$13,3,FALSE),+HLOOKUP(D124,CR_3_GRIGLIA!$D$1:$K$2,2,FALSE))))","v":""},""]
[124,null,{"$f":"+IF(B125=\"\",\"\",VLOOKUP(B125,CR_3_GRIGLIA!$A$3:$B$13,2,FALSE))","v":""},null,null,null,{"$f":"+IF(I125=\"\",\"\",IF(I125=CR_3_GRIGLIA!$C$16,CR_3_GRIGLIA!$B$16,IF(I125=CR_3_GRIGLIA!$C$17,CR_3_GRIGLIA!$B$17,IF(I125=CR_3_GRIGLIA!$C$18,CR_3_GRIGLIA!$B$18,IF(I125=CR_3_GRIGLIA!$C$19,CR_3_GRIGLIA!$B$19,CR_3_GRIGLIA!$B$20)))))","v":""},"",{"$f":"+IF(D125=\"\",\"\",IF(C125=\"\",0,INDEX(CR_3_GRIGLIA!$D$3:$K$13,+VLOOKUP(B125,CR_3_GRIGLIA!$A$3:$C$13,3,FALSE),+HLOOKUP(D125,CR_3_GRIGLIA!$D$1:$K$2,2,FALSE))))","v":""},""]
[125,null,{"$f":"+IF(B126=\"\",\"\",VLOOKUP(B126,CR_3_GRIGLIA!$A$3:$B$13,2,FALSE))","v":""},null,null,null,{"$f":"+IF(I126=\"\",\"\",IF(I126=CR_3_GRIGLIA!$C$16,CR_3_GRIGLIA!$B$16,IF(I126=CR_3_GRIGLIA!$C$17,CR_3_GRIGLIA!$B$17,IF(I126=CR_3_GRIGLIA!$C$18,CR_3_GRIGLIA!$B$18,IF(I126=CR_3_GRIGLIA!$C$19,CR_3_GRIGLIA!$B$19,CR_3_GRIGLIA!$B$20)))))","v":""},"",{"$f":"+IF(D126=\"\",\"\",IF(C126=\"\",0,INDEX(CR_3_GRIGLIA!$D$3:$K$13,+VLOOKUP(B126,CR_3_GRIGLIA!$A$3:$C$13,3,FALSE),+HLOOKUP(D126,CR_3_GRIGLIA!$D$1:$K$2,2,FALSE))))","v":""},""]
[126,null,{"$f":"+IF(B127=\"\",\"\",VLOOKUP(B127,CR_3_GRIGLIA!$A$3:$B$13,2,FALSE))","v":""},null,null,null,{"$f":"+IF(I127=\"\",\"\",IF(I127=CR_3_GRIGLIA!$C$16,CR_3_GRIGLIA!$B$16,IF(I127=CR_3_GRIGLIA!$C$17,CR_3_GRIGLIA!$B$17,IF(I127=CR_3_GRIGLIA!$C$18,CR_3_GRIGLIA!$B$18,IF(I127=CR_3_GRIGLIA!$C$19,CR_3_GRIGLIA!$B$19,CR_3_GRIGLIA!$B$20)))))","v":""},"",{"$f":"+IF(D127=\"\",\"\",IF(C127=\"\",0,INDEX(CR_3_GRIGLIA!$D$3:$K$13,+VLOOKUP(B127,CR_3_GRIGLIA!$A$3:$C$13,3,FALSE),+HLOOKUP(D127,CR_3_GRIGLIA!$D$1:$K$2,2,FALSE))))","v":""},""]
[127,null,{"$f":"+IF(B128=\"\",\"\",VLOOKUP(B128,CR_3_GRIGLIA!$A$3:$B$13,2,FALSE))","v":""},null,null,null,{"$f":"+IF(I128=\"\",\"\",IF(I128=CR_3_GRIGLIA!$C$16,CR_3_GRIGLIA!$B$16,IF(I128=CR_3_GRIGLIA!$C$17,CR_3_GRIGLIA!$B$17,IF(I128=CR_3_GRIGLIA!$C$18,CR_3_GRIGLIA!$B$18,IF(I128=CR_3_GRIGLIA!$C$19,CR_3_GRIGLIA!$B$19,CR_3_GRIGLIA!$B$20)))))","v":""},"",{"$f":"+IF(D128=\"\",\"\",IF(C128=\"\",0,INDEX(CR_3_GRIGLIA!$D$3:$K$13,+VLOOKUP(B128,CR_3_GRIGLIA!$A$3:$C$13,3,FALSE),+HLOOKUP(D128,CR_3_GRIGLIA!$D$1:$K$2,2,FALSE))))","v":""},""]
[128,null,{"$f":"+IF(B129=\"\",\"\",VLOOKUP(B129,CR_3_GRIGLIA!$A$3:$B$13,2,FALSE))","v":""},null,null,null,{"$f":"+IF(I129=\"\",\"\",IF(I129=CR_3_GRIGLIA!$C$16,CR_3_GRIGLIA!$B$16,IF(I129=CR_3_GRIGLIA!$C$17,CR_3_GRIGLIA!$B$17,IF(I129=CR_3_GRIGLIA!$C$18,CR_3_GRIGLIA!$B$18,IF(I129=CR_3_GRIGLIA!$C$19,CR_3_GRIGLIA!$B$19,CR_3_GRIGLIA!$B$20)))))","v":""},"",{"$f":"+IF(D129=\"\",\"\",IF(C129=\"\",0,INDEX(CR_3_GRIGLIA!$D$3:$K$13,+VLOOKUP(B129,CR_3_GRIGLIA!$A$3:$C$13,3,FALSE),+HLOOKUP(D129,CR_3_GRIGLIA!$D$1:$K$2,2,FALSE))))","v":""},""]
[129,null,{"$f":"+IF(B130=\"\",\"\",VLOOKUP(B130,CR_3_GRIGLIA!$A$3:$B$13,2,FALSE))","v":""},null,null,null,{"$f":"+IF(I130=\"\",\"\",IF(I130=CR_3_GRIGLIA!$C$16,CR_3_GRIGLIA!$B$16,IF(I130=CR_3_GRIGLIA!$C$17,CR_3_GRIGLIA!$B$17,IF(I130=CR_3_GRIGLIA!$C$18,CR_3_GRIGLIA!$B$18,IF(I130=CR_3_GRIGLIA!$C$19,CR_3_GRIGLIA!$B$19,CR_3_GRIGLIA!$B$20)))))","v":""},"",{"$f":"+IF(D130=\"\",\"\",IF(C130=\"\",0,INDEX(CR_3_GRIGLIA!$D$3:$K$13,+VLOOKUP(B130,CR_3_GRIGLIA!$A$3:$C$13,3,FALSE),+HLOOKUP(D130,CR_3_GRIGLIA!$D$1:$K$2,2,FALSE))))","v":""},""]
[130,null,{"$f":"+IF(B131=\"\",\"\",VLOOKUP(B131,CR_3_GRIGLIA!$A$3:$B$13,2,FALSE))","v":""},null,null,null,{"$f":"+IF(I131=\"\",\"\",IF(I131=CR_3_GRIGLIA!$C$16,CR_3_GRIGLIA!$B$16,IF(I131=CR_3_GRIGLIA!$C$17,CR_3_GRIGLIA!$B$17,IF(I131=CR_3_GRIGLIA!$C$18,CR_3_GRIGLIA!$B$18,IF(I131=CR_3_GRIGLIA!$C$19,CR_3_GRIGLIA!$B$19,CR_3_GRIGLIA!$B$20)))))","v":""},{"$f":"IFERROR(IF(F131=\"\",\"\",F131/$F$504),0)","v":""},{"$f":"+IF(D131=\"\",\"\",IF(C131=\"\",0,INDEX(CR_3_GRIGLIA!$D$3:$K$13,+VLOOKUP(B131,CR_3_GRIGLIA!$A$3:$C$13,3,FALSE),+HLOOKUP(D131,CR_3_GRIGLIA!$D$1:$K$2,2,FALSE))))","v":""},{"$f":"IFERROR(IF(I131=\"\",\"\",I131*F131/$F$504),0)","v":""}]
[131,null,{"$f":"+IF(B132=\"\",\"\",VLOOKUP(B132,CR_3_GRIGLIA!$A$3:$B$13,2,FALSE))","v":""},null,null,null,{"$f":"+IF(I132=\"\",\"\",IF(I132=CR_3_GRIGLIA!$C$16,CR_3_GRIGLIA!$B$16,IF(I132=CR_3_GRIGLIA!$C$17,CR_3_GRIGLIA!$B$17,IF(I132=CR_3_GRIGLIA!$C$18,CR_3_GRIGLIA!$B$18,IF(I132=CR_3_GRIGLIA!$C$19,CR_3_GRIGLIA!$B$19,CR_3_GRIGLIA!$B$20)))))","v":""},"",{"$f":"+IF(D132=\"\",\"\",IF(C132=\"\",0,INDEX(CR_3_GRIGLIA!$D$3:$K$13,+VLOOKUP(B132,CR_3_GRIGLIA!$A$3:$C$13,3,FALSE),+HLOOKUP(D132,CR_3_GRIGLIA!$D$1:$K$2,2,FALSE))))","v":""},""]
[132,null,{"$f":"+IF(B133=\"\",\"\",VLOOKUP(B133,CR_3_GRIGLIA!$A$3:$B$13,2,FALSE))","v":""},null,null,null,{"$f":"+IF(I133=\"\",\"\",IF(I133=CR_3_GRIGLIA!$C$16,CR_3_GRIGLIA!$B$16,IF(I133=CR_3_GRIGLIA!$C$17,CR_3_GRIGLIA!$B$17,IF(I133=CR_3_GRIGLIA!$C$18,CR_3_GRIGLIA!$B$18,IF(I133=CR_3_GRIGLIA!$C$19,CR_3_GRIGLIA!$B$19,CR_3_GRIGLIA!$B$20)))))","v":""},"",{"$f":"+IF(D133=\"\",\"\",IF(C133=\"\",0,INDEX(CR_3_GRIGLIA!$D$3:$K$13,+VLOOKUP(B133,CR_3_GRIGLIA!$A$3:$C$13,3,FALSE),+HLOOKUP(D133,CR_3_GRIGLIA!$D$1:$K$2,2,FALSE))))","v":""},""]
[133,null,{"$f":"+IF(B134=\"\",\"\",VLOOKUP(B134,CR_3_GRIGLIA!$A$3:$B$13,2,FALSE))","v":""},null,null,null,{"$f":"+IF(I134=\"\",\"\",IF(I134=CR_3_GRIGLIA!$C$16,CR_3_GRIGLIA!$B$16,IF(I134=CR_3_GRIGLIA!$C$17,CR_3_GRIGLIA!$B$17,IF(I134=CR_3_GRIGLIA!$C$18,CR_3_GRIGLIA!$B$18,IF(I134=CR_3_GRIGLIA!$C$19,CR_3_GRIGLIA!$B$19,CR_3_GRIGLIA!$B$20)))))","v":""},"",{"$f":"+IF(D134=\"\",\"\",IF(C134=\"\",0,INDEX(CR_3_GRIGLIA!$D$3:$K$13,+VLOOKUP(B134,CR_3_GRIGLIA!$A$3:$C$13,3,FALSE),+HLOOKUP(D134,CR_3_GRIGLIA!$D$1:$K$2,2,FALSE))))","v":""},""]
[134,null,{"$f":"+IF(B135=\"\",\"\",VLOOKUP(B135,CR_3_GRIGLIA!$A$3:$B$13,2,FALSE))","v":""},null,null,null,{"$f":"+IF(I135=\"\",\"\",IF(I135=CR_3_GRIGLIA!$C$16,CR_3_GRIGLIA!$B$16,IF(I135=CR_3_GRIGLIA!$C$17,CR_3_GRIGLIA!$B$17,IF(I135=CR_3_GRIGLIA!$C$18,CR_3_GRIGLIA!$B$18,IF(I135=CR_3_GRIGLIA!$C$19,CR_3_GRIGLIA!$B$19,CR_3_GRIGLIA!$B$20)))))","v":""},"",{"$f":"+IF(D135=\"\",\"\",IF(C135=\"\",0,INDEX(CR_3_GRIGLIA!$D$3:$K$13,+VLOOKUP(B135,CR_3_GRIGLIA!$A$3:$C$13,3,FALSE),+HLOOKUP(D135,CR_3_GRIGLIA!$D$1:$K$2,2,FALSE))))","v":""},""]
[135,null,{"$f":"+IF(B136=\"\",\"\",VLOOKUP(B136,CR_3_GRIGLIA!$A$3:$B$13,2,FALSE))","v":""},null,null,null,{"$f":"+IF(I136=\"\",\"\",IF(I136=CR_3_GRIGLIA!$C$16,CR_3_GRIGLIA!$B$16,IF(I136=CR_3_GRIGLIA!$C$17,CR_3_GRIGLIA!$B$17,IF(I136=CR_3_GRIGLIA!$C$18,CR_3_GRIGLIA!$B$18,IF(I136=CR_3_GRIGLIA!$C$19,CR_3_GRIGLIA!$B$19,CR_3_GRIGLIA!$B$20)))))","v":""},"",{"$f":"+IF(D136=\"\",\"\",IF(C136=\"\",0,INDEX(CR_3_GRIGLIA!$D$3:$K$13,+VLOOKUP(B136,CR_3_GRIGLIA!$A$3:$C$13,3,FALSE),+HLOOKUP(D136,CR_3_GRIGLIA!$D$1:$K$2,2,FALSE))))","v":""},""]
[136,null,{"$f":"+IF(B137=\"\",\"\",VLOOKUP(B137,CR_3_GRIGLIA!$A$3:$B$13,2,FALSE))","v":""},null,null,null,{"$f":"+IF(I137=\"\",\"\",IF(I137=CR_3_GRIGLIA!$C$16,CR_3_GRIGLIA!$B$16,IF(I137=CR_3_GRIGLIA!$C$17,CR_3_GRIGLIA!$B$17,IF(I137=CR_3_GRIGLIA!$C$18,CR_3_GRIGLIA!$B$18,IF(I137=CR_3_GRIGLIA!$C$19,CR_3_GRIGLIA!$B$19,CR_3_GRIGLIA!$B$20)))))","v":""},"",{"$f":"+IF(D137=\"\",\"\",IF(C137=\"\",0,INDEX(CR_3_GRIGLIA!$D$3:$K$13,+VLOOKUP(B137,CR_3_GRIGLIA!$A$3:$C$13,3,FALSE),+HLOOKUP(D137,CR_3_GRIGLIA!$D$1:$K$2,2,FALSE))))","v":""},""]
[137,null,{"$f":"+IF(B138=\"\",\"\",VLOOKUP(B138,CR_3_GRIGLIA!$A$3:$B$13,2,FALSE))","v":""},null,null,null,{"$f":"+IF(I138=\"\",\"\",IF(I138=CR_3_GRIGLIA!$C$16,CR_3_GRIGLIA!$B$16,IF(I138=CR_3_GRIGLIA!$C$17,CR_3_GRIGLIA!$B$17,IF(I138=CR_3_GRIGLIA!$C$18,CR_3_GRIGLIA!$B$18,IF(I138=CR_3_GRIGLIA!$C$19,CR_3_GRIGLIA!$B$19,CR_3_GRIGLIA!$B$20)))))","v":""},"",{"$f":"+IF(D138=\"\",\"\",IF(C138=\"\",0,INDEX(CR_3_GRIGLIA!$D$3:$K$13,+VLOOKUP(B138,CR_3_GRIGLIA!$A$3:$C$13,3,FALSE),+HLOOKUP(D138,CR_3_GRIGLIA!$D$1:$K$2,2,FALSE))))","v":""},""]
[138,null,{"$f":"+IF(B139=\"\",\"\",VLOOKUP(B139,CR_3_GRIGLIA!$A$3:$B$13,2,FALSE))","v":""},null,null,null,{"$f":"+IF(I139=\"\",\"\",IF(I139=CR_3_GRIGLIA!$C$16,CR_3_GRIGLIA!$B$16,IF(I139=CR_3_GRIGLIA!$C$17,CR_3_GRIGLIA!$B$17,IF(I139=CR_3_GRIGLIA!$C$18,CR_3_GRIGLIA!$B$18,IF(I139=CR_3_GRIGLIA!$C$19,CR_3_GRIGLIA!$B$19,CR_3_GRIGLIA!$B$20)))))","v":""},"",{"$f":"+IF(D139=\"\",\"\",IF(C139=\"\",0,INDEX(CR_3_GRIGLIA!$D$3:$K$13,+VLOOKUP(B139,CR_3_GRIGLIA!$A$3:$C$13,3,FALSE),+HLOOKUP(D139,CR_3_GRIGLIA!$D$1:$K$2,2,FALSE))))","v":""},""]
[139,null,{"$f":"+IF(B140=\"\",\"\",VLOOKUP(B140,CR_3_GRIGLIA!$A$3:$B$13,2,FALSE))","v":""},null,null,null,{"$f":"+IF(I140=\"\",\"\",IF(I140=CR_3_GRIGLIA!$C$16,CR_3_GRIGLIA!$B$16,IF(I140=CR_3_GRIGLIA!$C$17,CR_3_GRIGLIA!$B$17,IF(I140=CR_3_GRIGLIA!$C$18,CR_3_GRIGLIA!$B$18,IF(I140=CR_3_GRIGLIA!$C$19,CR_3_GRIGLIA!$B$19,CR_3_GRIGLIA!$B$20)))))","v":""},"",{"$f":"+IF(D140=\"\",\"\",IF(C140=\"\",0,INDEX(CR_3_GRIGLIA!$D$3:$K$13,+VLOOKUP(B140,CR_3_GRIGLIA!$A$3:$C$13,3,FALSE),+HLOOKUP(D140,CR_3_GRIGLIA!$D$1:$K$2,2,FALSE))))","v":""},""]
[140,null,{"$f":"+IF(B141=\"\",\"\",VLOOKUP(B141,CR_3_GRIGLIA!$A$3:$B$13,2,FALSE))","v":""},null,null,null,{"$f":"+IF(I141=\"\",\"\",IF(I141=CR_3_GRIGLIA!$C$16,CR_3_GRIGLIA!$B$16,IF(I141=CR_3_GRIGLIA!$C$17,CR_3_GRIGLIA!$B$17,IF(I141=CR_3_GRIGLIA!$C$18,CR_3_GRIGLIA!$B$18,IF(I141=CR_3_GRIGLIA!$C$19,CR_3_GRIGLIA!$B$19,CR_3_GRIGLIA!$B$20)))))","v":""},"",{"$f":"+IF(D141=\"\",\"\",IF(C141=\"\",0,INDEX(CR_3_GRIGLIA!$D$3:$K$13,+VLOOKUP(B141,CR_3_GRIGLIA!$A$3:$C$13,3,FALSE),+HLOOKUP(D141,CR_3_GRIGLIA!$D$1:$K$2,2,FALSE))))","v":""},""]
[141,null,{"$f":"+IF(B142=\"\",\"\",VLOOKUP(B142,CR_3_GRIGLIA!$A$3:$B$13,2,FALSE))","v":""},null,null,null,{"$f":"+IF(I142=\"\",\"\",IF(I142=CR_3_GRIGLIA!$C$16,CR_3_GRIGLIA!$B$16,IF(I142=CR_3_GRIGLIA!$C$17,CR_3_GRIGLIA!$B$17,IF(I142=CR_3_GRIGLIA!$C$18,CR_3_GRIGLIA!$B$18,IF(I142=CR_3_GRIGLIA!$C$19,CR_3_GRIGLIA!$B$19,CR_3_GRIGLIA!$B$20)))))","v":""},"",{"$f":"+IF(D142=\"\",\"\",IF(C142=\"\",0,INDEX(CR_3_GRIGLIA!$D$3:$K$13,+VLOOKUP(B142,CR_3_GRIGLIA!$A$3:$C$13,3,FALSE),+HLOOKUP(D142,CR_3_GRIGLIA!$D$1:$K$2,2,FALSE))))","v":""},""]
[142,null,{"$f":"+IF(B143=\"\",\"\",VLOOKUP(B143,CR_3_GRIGLIA!$A$3:$B$13,2,FALSE))","v":""},null,null,null,{"$f":"+IF(I143=\"\",\"\",IF(I143=CR_3_GRIGLIA!$C$16,CR_3_GRIGLIA!$B$16,IF(I143=CR_3_GRIGLIA!$C$17,CR_3_GRIGLIA!$B$17,IF(I143=CR_3_GRIGLIA!$C$18,CR_3_GRIGLIA!$B$18,IF(I143=CR_3_GRIGLIA!$C$19,CR_3_GRIGLIA!$B$19,CR_3_GRIGLIA!$B$20)))))","v":""},"",{"$f":"+IF(D143=\"\",\"\",IF(C143=\"\",0,INDEX(CR_3_GRIGLIA!$D$3:$K$13,+VLOOKUP(B143,CR_3_GRIGLIA!$A$3:$C$13,3,FALSE),+HLOOKUP(D143,CR_3_GRIGLIA!$D$1:$K$2,2,FALSE))))","v":""},""]
[143,null,{"$f":"+IF(B144=\"\",\"\",VLOOKUP(B144,CR_3_GRIGLIA!$A$3:$B$13,2,FALSE))","v":""},null,null,null,{"$f":"+IF(I144=\"\",\"\",IF(I144=CR_3_GRIGLIA!$C$16,CR_3_GRIGLIA!$B$16,IF(I144=CR_3_GRIGLIA!$C$17,CR_3_GRIGLIA!$B$17,IF(I144=CR_3_GRIGLIA!$C$18,CR_3_GRIGLIA!$B$18,IF(I144=CR_3_GRIGLIA!$C$19,CR_3_GRIGLIA!$B$19,CR_3_GRIGLIA!$B$20)))))","v":""},"",{"$f":"+IF(D144=\"\",\"\",IF(C144=\"\",0,INDEX(CR_3_GRIGLIA!$D$3:$K$13,+VLOOKUP(B144,CR_3_GRIGLIA!$A$3:$C$13,3,FALSE),+HLOOKUP(D144,CR_3_GRIGLIA!$D$1:$K$2,2,FALSE))))","v":""},""]
[144,null,{"$f":"+IF(B145=\"\",\"\",VLOOKUP(B145,CR_3_GRIGLIA!$A$3:$B$13,2,FALSE))","v":""},null,null,null,{"$f":"+IF(I145=\"\",\"\",IF(I145=CR_3_GRIGLIA!$C$16,CR_3_GRIGLIA!$B$16,IF(I145=CR_3_GRIGLIA!$C$17,CR_3_GRIGLIA!$B$17,IF(I145=CR_3_GRIGLIA!$C$18,CR_3_GRIGLIA!$B$18,IF(I145=CR_3_GRIGLIA!$C$19,CR_3_GRIGLIA!$B$19,CR_3_GRIGLIA!$B$20)))))","v":""},"",{"$f":"+IF(D145=\"\",\"\",IF(C145=\"\",0,INDEX(CR_3_GRIGLIA!$D$3:$K$13,+VLOOKUP(B145,CR_3_GRIGLIA!$A$3:$C$13,3,FALSE),+HLOOKUP(D145,CR_3_GRIGLIA!$D$1:$K$2,2,FALSE))))","v":""},""]
[145,null,{"$f":"+IF(B146=\"\",\"\",VLOOKUP(B146,CR_3_GRIGLIA!$A$3:$B$13,2,FALSE))","v":""},null,null,null,{"$f":"+IF(I146=\"\",\"\",IF(I146=CR_3_GRIGLIA!$C$16,CR_3_GRIGLIA!$B$16,IF(I146=CR_3_GRIGLIA!$C$17,CR_3_GRIGLIA!$B$17,IF(I146=CR_3_GRIGLIA!$C$18,CR_3_GRIGLIA!$B$18,IF(I146=CR_3_GRIGLIA!$C$19,CR_3_GRIGLIA!$B$19,CR_3_GRIGLIA!$B$20)))))","v":""},"",{"$f":"+IF(D146=\"\",\"\",IF(C146=\"\",0,INDEX(CR_3_GRIGLIA!$D$3:$K$13,+VLOOKUP(B146,CR_3_GRIGLIA!$A$3:$C$13,3,FALSE),+HLOOKUP(D146,CR_3_GRIGLIA!$D$1:$K$2,2,FALSE))))","v":""},""]
[146,null,{"$f":"+IF(B147=\"\",\"\",VLOOKUP(B147,CR_3_GRIGLIA!$A$3:$B$13,2,FALSE))","v":""},null,null,null,{"$f":"+IF(I147=\"\",\"\",IF(I147=CR_3_GRIGLIA!$C$16,CR_3_GRIGLIA!$B$16,IF(I147=CR_3_GRIGLIA!$C$17,CR_3_GRIGLIA!$B$17,IF(I147=CR_3_GRIGLIA!$C$18,CR_3_GRIGLIA!$B$18,IF(I147=CR_3_GRIGLIA!$C$19,CR_3_GRIGLIA!$B$19,CR_3_GRIGLIA!$B$20)))))","v":""},"",{"$f":"+IF(D147=\"\",\"\",IF(C147=\"\",0,INDEX(CR_3_GRIGLIA!$D$3:$K$13,+VLOOKUP(B147,CR_3_GRIGLIA!$A$3:$C$13,3,FALSE),+HLOOKUP(D147,CR_3_GRIGLIA!$D$1:$K$2,2,FALSE))))","v":""},""]
[147,null,{"$f":"+IF(B148=\"\",\"\",VLOOKUP(B148,CR_3_GRIGLIA!$A$3:$B$13,2,FALSE))","v":""},null,null,null,{"$f":"+IF(I148=\"\",\"\",IF(I148=CR_3_GRIGLIA!$C$16,CR_3_GRIGLIA!$B$16,IF(I148=CR_3_GRIGLIA!$C$17,CR_3_GRIGLIA!$B$17,IF(I148=CR_3_GRIGLIA!$C$18,CR_3_GRIGLIA!$B$18,IF(I148=CR_3_GRIGLIA!$C$19,CR_3_GRIGLIA!$B$19,CR_3_GRIGLIA!$B$20)))))","v":""},"",{"$f":"+IF(D148=\"\",\"\",IF(C148=\"\",0,INDEX(CR_3_GRIGLIA!$D$3:$K$13,+VLOOKUP(B148,CR_3_GRIGLIA!$A$3:$C$13,3,FALSE),+HLOOKUP(D148,CR_3_GRIGLIA!$D$1:$K$2,2,FALSE))))","v":""},""]
[148,null,{"$f":"+IF(B149=\"\",\"\",VLOOKUP(B149,CR_3_GRIGLIA!$A$3:$B$13,2,FALSE))","v":""},null,null,null,{"$f":"+IF(I149=\"\",\"\",IF(I149=CR_3_GRIGLIA!$C$16,CR_3_GRIGLIA!$B$16,IF(I149=CR_3_GRIGLIA!$C$17,CR_3_GRIGLIA!$B$17,IF(I149=CR_3_GRIGLIA!$C$18,CR_3_GRIGLIA!$B$18,IF(I149=CR_3_GRIGLIA!$C$19,CR_3_GRIGLIA!$B$19,CR_3_GRIGLIA!$B$20)))))","v":""},"",{"$f":"+IF(D149=\"\",\"\",IF(C149=\"\",0,INDEX(CR_3_GRIGLIA!$D$3:$K$13,+VLOOKUP(B149,CR_3_GRIGLIA!$A$3:$C$13,3,FALSE),+HLOOKUP(D149,CR_3_GRIGLIA!$D$1:$K$2,2,FALSE))))","v":""},""]
[149,null,{"$f":"+IF(B150=\"\",\"\",VLOOKUP(B150,CR_3_GRIGLIA!$A$3:$B$13,2,FALSE))","v":""},null,null,null,{"$f":"+IF(I150=\"\",\"\",IF(I150=CR_3_GRIGLIA!$C$16,CR_3_GRIGLIA!$B$16,IF(I150=CR_3_GRIGLIA!$C$17,CR_3_GRIGLIA!$B$17,IF(I150=CR_3_GRIGLIA!$C$18,CR_3_GRIGLIA!$B$18,IF(I150=CR_3_GRIGLIA!$C$19,CR_3_GRIGLIA!$B$19,CR_3_GRIGLIA!$B$20)))))","v":""},"",{"$f":"+IF(D150=\"\",\"\",IF(C150=\"\",0,INDEX(CR_3_GRIGLIA!$D$3:$K$13,+VLOOKUP(B150,CR_3_GRIGLIA!$A$3:$C$13,3,FALSE),+HLOOKUP(D150,CR_3_GRIGLIA!$D$1:$K$2,2,FALSE))))","v":""},""]
[150,null,{"$f":"+IF(B151=\"\",\"\",VLOOKUP(B151,CR_3_GRIGLIA!$A$3:$B$13,2,FALSE))","v":""},null,null,null,{"$f":"+IF(I151=\"\",\"\",IF(I151=CR_3_GRIGLIA!$C$16,CR_3_GRIGLIA!$B$16,IF(I151=CR_3_GRIGLIA!$C$17,CR_3_GRIGLIA!$B$17,IF(I151=CR_3_GRIGLIA!$C$18,CR_3_GRIGLIA!$B$18,IF(I151=CR_3_GRIGLIA!$C$19,CR_3_GRIGLIA!$B$19,CR_3_GRIGLIA!$B$20)))))","v":""},"",{"$f":"+IF(D151=\"\",\"\",IF(C151=\"\",0,INDEX(CR_3_GRIGLIA!$D$3:$K$13,+VLOOKUP(B151,CR_3_GRIGLIA!$A$3:$C$13,3,FALSE),+HLOOKUP(D151,CR_3_GRIGLIA!$D$1:$K$2,2,FALSE))))","v":""},""]
[151,null,{"$f":"+IF(B152=\"\",\"\",VLOOKUP(B152,CR_3_GRIGLIA!$A$3:$B$13,2,FALSE))","v":""},null,null,null,{"$f":"+IF(I152=\"\",\"\",IF(I152=CR_3_GRIGLIA!$C$16,CR_3_GRIGLIA!$B$16,IF(I152=CR_3_GRIGLIA!$C$17,CR_3_GRIGLIA!$B$17,IF(I152=CR_3_GRIGLIA!$C$18,CR_3_GRIGLIA!$B$18,IF(I152=CR_3_GRIGLIA!$C$19,CR_3_GRIGLIA!$B$19,CR_3_GRIGLIA!$B$20)))))","v":""},"",{"$f":"+IF(D152=\"\",\"\",IF(C152=\"\",0,INDEX(CR_3_GRIGLIA!$D$3:$K$13,+VLOOKUP(B152,CR_3_GRIGLIA!$A$3:$C$13,3,FALSE),+HLOOKUP(D152,CR_3_GRIGLIA!$D$1:$K$2,2,FALSE))))","v":""},""]
[152,null,{"$f":"+IF(B153=\"\",\"\",VLOOKUP(B153,CR_3_GRIGLIA!$A$3:$B$13,2,FALSE))","v":""},null,null,null,{"$f":"+IF(I153=\"\",\"\",IF(I153=CR_3_GRIGLIA!$C$16,CR_3_GRIGLIA!$B$16,IF(I153=CR_3_GRIGLIA!$C$17,CR_3_GRIGLIA!$B$17,IF(I153=CR_3_GRIGLIA!$C$18,CR_3_GRIGLIA!$B$18,IF(I153=CR_3_GRIGLIA!$C$19,CR_3_GRIGLIA!$B$19,CR_3_GRIGLIA!$B$20)))))","v":""},"",{"$f":"+IF(D153=\"\",\"\",IF(C153=\"\",0,INDEX(CR_3_GRIGLIA!$D$3:$K$13,+VLOOKUP(B153,CR_3_GRIGLIA!$A$3:$C$13,3,FALSE),+HLOOKUP(D153,CR_3_GRIGLIA!$D$1:$K$2,2,FALSE))))","v":""},""]
[153,null,{"$f":"+IF(B154=\"\",\"\",VLOOKUP(B154,CR_3_GRIGLIA!$A$3:$B$13,2,FALSE))","v":""},null,null,null,{"$f":"+IF(I154=\"\",\"\",IF(I154=CR_3_GRIGLIA!$C$16,CR_3_GRIGLIA!$B$16,IF(I154=CR_3_GRIGLIA!$C$17,CR_3_GRIGLIA!$B$17,IF(I154=CR_3_GRIGLIA!$C$18,CR_3_GRIGLIA!$B$18,IF(I154=CR_3_GRIGLIA!$C$19,CR_3_GRIGLIA!$B$19,CR_3_GRIGLIA!$B$20)))))","v":""},"",{"$f":"+IF(D154=\"\",\"\",IF(C154=\"\",0,INDEX(CR_3_GRIGLIA!$D$3:$K$13,+VLOOKUP(B154,CR_3_GRIGLIA!$A$3:$C$13,3,FALSE),+HLOOKUP(D154,CR_3_GRIGLIA!$D$1:$K$2,2,FALSE))))","v":""},""]
[154,null,{"$f":"+IF(B155=\"\",\"\",VLOOKUP(B155,CR_3_GRIGLIA!$A$3:$B$13,2,FALSE))","v":""},null,null,null,{"$f":"+IF(I155=\"\",\"\",IF(I155=CR_3_GRIGLIA!$C$16,CR_3_GRIGLIA!$B$16,IF(I155=CR_3_GRIGLIA!$C$17,CR_3_GRIGLIA!$B$17,IF(I155=CR_3_GRIGLIA!$C$18,CR_3_GRIGLIA!$B$18,IF(I155=CR_3_GRIGLIA!$C$19,CR_3_GRIGLIA!$B$19,CR_3_GRIGLIA!$B$20)))))","v":""},"",{"$f":"+IF(D155=\"\",\"\",IF(C155=\"\",0,INDEX(CR_3_GRIGLIA!$D$3:$K$13,+VLOOKUP(B155,CR_3_GRIGLIA!$A$3:$C$13,3,FALSE),+HLOOKUP(D155,CR_3_GRIGLIA!$D$1:$K$2,2,FALSE))))","v":""},""]
[155,null,{"$f":"+IF(B156=\"\",\"\",VLOOKUP(B156,CR_3_GRIGLIA!$A$3:$B$13,2,FALSE))","v":""},null,null,null,{"$f":"+IF(I156=\"\",\"\",IF(I156=CR_3_GRIGLIA!$C$16,CR_3_GRIGLIA!$B$16,IF(I156=CR_3_GRIGLIA!$C$17,CR_3_GRIGLIA!$B$17,IF(I156=CR_3_GRIGLIA!$C$18,CR_3_GRIGLIA!$B$18,IF(I156=CR_3_GRIGLIA!$C$19,CR_3_GRIGLIA!$B$19,CR_3_GRIGLIA!$B$20)))))","v":""},"",{"$f":"+IF(D156=\"\",\"\",IF(C156=\"\",0,INDEX(CR_3_GRIGLIA!$D$3:$K$13,+VLOOKUP(B156,CR_3_GRIGLIA!$A$3:$C$13,3,FALSE),+HLOOKUP(D156,CR_3_GRIGLIA!$D$1:$K$2,2,FALSE))))","v":""},""]
[156,null,{"$f":"+IF(B157=\"\",\"\",VLOOKUP(B157,CR_3_GRIGLIA!$A$3:$B$13,2,FALSE))","v":""},null,null,null,{"$f":"+IF(I157=\"\",\"\",IF(I157=CR_3_GRIGLIA!$C$16,CR_3_GRIGLIA!$B$16,IF(I157=CR_3_GRIGLIA!$C$17,CR_3_GRIGLIA!$B$17,IF(I157=CR_3_GRIGLIA!$C$18,CR_3_GRIGLIA!$B$18,IF(I157=CR_3_GRIGLIA!$C$19,CR_3_GRIGLIA!$B$19,CR_3_GRIGLIA!$B$20)))))","v":""},"",{"$f":"+IF(D157=\"\",\"\",IF(C157=\"\",0,INDEX(CR_3_GRIGLIA!$D$3:$K$13,+VLOOKUP(B157,CR_3_GRIGLIA!$A$3:$C$13,3,FALSE),+HLOOKUP(D157,CR_3_GRIGLIA!$D$1:$K$2,2,FALSE))))","v":""},""]
[157,null,{"$f":"+IF(B158=\"\",\"\",VLOOKUP(B158,CR_3_GRIGLIA!$A$3:$B$13,2,FALSE))","v":""},null,null,null,{"$f":"+IF(I158=\"\",\"\",IF(I158=CR_3_GRIGLIA!$C$16,CR_3_GRIGLIA!$B$16,IF(I158=CR_3_GRIGLIA!$C$17,CR_3_GRIGLIA!$B$17,IF(I158=CR_3_GRIGLIA!$C$18,CR_3_GRIGLIA!$B$18,IF(I158=CR_3_GRIGLIA!$C$19,CR_3_GRIGLIA!$B$19,CR_3_GRIGLIA!$B$20)))))","v":""},"",{"$f":"+IF(D158=\"\",\"\",IF(C158=\"\",0,INDEX(CR_3_GRIGLIA!$D$3:$K$13,+VLOOKUP(B158,CR_3_GRIGLIA!$A$3:$C$13,3,FALSE),+HLOOKUP(D158,CR_3_GRIGLIA!$D$1:$K$2,2,FALSE))))","v":""},""]
[158,null,{"$f":"+IF(B159=\"\",\"\",VLOOKUP(B159,CR_3_GRIGLIA!$A$3:$B$13,2,FALSE))","v":""},null,null,null,{"$f":"+IF(I159=\"\",\"\",IF(I159=CR_3_GRIGLIA!$C$16,CR_3_GRIGLIA!$B$16,IF(I159=CR_3_GRIGLIA!$C$17,CR_3_GRIGLIA!$B$17,IF(I159=CR_3_GRIGLIA!$C$18,CR_3_GRIGLIA!$B$18,IF(I159=CR_3_GRIGLIA!$C$19,CR_3_GRIGLIA!$B$19,CR_3_GRIGLIA!$B$20)))))","v":""},"",{"$f":"+IF(D159=\"\",\"\",IF(C159=\"\",0,INDEX(CR_3_GRIGLIA!$D$3:$K$13,+VLOOKUP(B159,CR_3_GRIGLIA!$A$3:$C$13,3,FALSE),+HLOOKUP(D159,CR_3_GRIGLIA!$D$1:$K$2,2,FALSE))))","v":""},""]
[159,null,{"$f":"+IF(B160=\"\",\"\",VLOOKUP(B160,CR_3_GRIGLIA!$A$3:$B$13,2,FALSE))","v":""},null,null,null,{"$f":"+IF(I160=\"\",\"\",IF(I160=CR_3_GRIGLIA!$C$16,CR_3_GRIGLIA!$B$16,IF(I160=CR_3_GRIGLIA!$C$17,CR_3_GRIGLIA!$B$17,IF(I160=CR_3_GRIGLIA!$C$18,CR_3_GRIGLIA!$B$18,IF(I160=CR_3_GRIGLIA!$C$19,CR_3_GRIGLIA!$B$19,CR_3_GRIGLIA!$B$20)))))","v":""},"",{"$f":"+IF(D160=\"\",\"\",IF(C160=\"\",0,INDEX(CR_3_GRIGLIA!$D$3:$K$13,+VLOOKUP(B160,CR_3_GRIGLIA!$A$3:$C$13,3,FALSE),+HLOOKUP(D160,CR_3_GRIGLIA!$D$1:$K$2,2,FALSE))))","v":""},""]
[160,null,{"$f":"+IF(B161=\"\",\"\",VLOOKUP(B161,CR_3_GRIGLIA!$A$3:$B$13,2,FALSE))","v":""},null,null,null,{"$f":"+IF(I161=\"\",\"\",IF(I161=CR_3_GRIGLIA!$C$16,CR_3_GRIGLIA!$B$16,IF(I161=CR_3_GRIGLIA!$C$17,CR_3_GRIGLIA!$B$17,IF(I161=CR_3_GRIGLIA!$C$18,CR_3_GRIGLIA!$B$18,IF(I161=CR_3_GRIGLIA!$C$19,CR_3_GRIGLIA!$B$19,CR_3_GRIGLIA!$B$20)))))","v":""},"",{"$f":"+IF(D161=\"\",\"\",IF(C161=\"\",0,INDEX(CR_3_GRIGLIA!$D$3:$K$13,+VLOOKUP(B161,CR_3_GRIGLIA!$A$3:$C$13,3,FALSE),+HLOOKUP(D161,CR_3_GRIGLIA!$D$1:$K$2,2,FALSE))))","v":""},""]
[161,null,{"$f":"+IF(B162=\"\",\"\",VLOOKUP(B162,CR_3_GRIGLIA!$A$3:$B$13,2,FALSE))","v":""},null,null,null,{"$f":"+IF(I162=\"\",\"\",IF(I162=CR_3_GRIGLIA!$C$16,CR_3_GRIGLIA!$B$16,IF(I162=CR_3_GRIGLIA!$C$17,CR_3_GRIGLIA!$B$17,IF(I162=CR_3_GRIGLIA!$C$18,CR_3_GRIGLIA!$B$18,IF(I162=CR_3_GRIGLIA!$C$19,CR_3_GRIGLIA!$B$19,CR_3_GRIGLIA!$B$20)))))","v":""},"",{"$f":"+IF(D162=\"\",\"\",IF(C162=\"\",0,INDEX(CR_3_GRIGLIA!$D$3:$K$13,+VLOOKUP(B162,CR_3_GRIGLIA!$A$3:$C$13,3,FALSE),+HLOOKUP(D162,CR_3_GRIGLIA!$D$1:$K$2,2,FALSE))))","v":""},""]
[162,null,{"$f":"+IF(B163=\"\",\"\",VLOOKUP(B163,CR_3_GRIGLIA!$A$3:$B$13,2,FALSE))","v":""},null,null,null,{"$f":"+IF(I163=\"\",\"\",IF(I163=CR_3_GRIGLIA!$C$16,CR_3_GRIGLIA!$B$16,IF(I163=CR_3_GRIGLIA!$C$17,CR_3_GRIGLIA!$B$17,IF(I163=CR_3_GRIGLIA!$C$18,CR_3_GRIGLIA!$B$18,IF(I163=CR_3_GRIGLIA!$C$19,CR_3_GRIGLIA!$B$19,CR_3_GRIGLIA!$B$20)))))","v":""},"",{"$f":"+IF(D163=\"\",\"\",IF(C163=\"\",0,INDEX(CR_3_GRIGLIA!$D$3:$K$13,+VLOOKUP(B163,CR_3_GRIGLIA!$A$3:$C$13,3,FALSE),+HLOOKUP(D163,CR_3_GRIGLIA!$D$1:$K$2,2,FALSE))))","v":""},""]
[163,null,{"$f":"+IF(B164=\"\",\"\",VLOOKUP(B164,CR_3_GRIGLIA!$A$3:$B$13,2,FALSE))","v":""},null,null,null,{"$f":"+IF(I164=\"\",\"\",IF(I164=CR_3_GRIGLIA!$C$16,CR_3_GRIGLIA!$B$16,IF(I164=CR_3_GRIGLIA!$C$17,CR_3_GRIGLIA!$B$17,IF(I164=CR_3_GRIGLIA!$C$18,CR_3_GRIGLIA!$B$18,IF(I164=CR_3_GRIGLIA!$C$19,CR_3_GRIGLIA!$B$19,CR_3_GRIGLIA!$B$20)))))","v":""},"",{"$f":"+IF(D164=\"\",\"\",IF(C164=\"\",0,INDEX(CR_3_GRIGLIA!$D$3:$K$13,+VLOOKUP(B164,CR_3_GRIGLIA!$A$3:$C$13,3,FALSE),+HLOOKUP(D164,CR_3_GRIGLIA!$D$1:$K$2,2,FALSE))))","v":""},""]
[164,null,{"$f":"+IF(B165=\"\",\"\",VLOOKUP(B165,CR_3_GRIGLIA!$A$3:$B$13,2,FALSE))","v":""},null,null,null,{"$f":"+IF(I165=\"\",\"\",IF(I165=CR_3_GRIGLIA!$C$16,CR_3_GRIGLIA!$B$16,IF(I165=CR_3_GRIGLIA!$C$17,CR_3_GRIGLIA!$B$17,IF(I165=CR_3_GRIGLIA!$C$18,CR_3_GRIGLIA!$B$18,IF(I165=CR_3_GRIGLIA!$C$19,CR_3_GRIGLIA!$B$19,CR_3_GRIGLIA!$B$20)))))","v":""},"",{"$f":"+IF(D165=\"\",\"\",IF(C165=\"\",0,INDEX(CR_3_GRIGLIA!$D$3:$K$13,+VLOOKUP(B165,CR_3_GRIGLIA!$A$3:$C$13,3,FALSE),+HLOOKUP(D165,CR_3_GRIGLIA!$D$1:$K$2,2,FALSE))))","v":""},""]
[165,null,{"$f":"+IF(B166=\"\",\"\",VLOOKUP(B166,CR_3_GRIGLIA!$A$3:$B$13,2,FALSE))","v":""},null,null,null,{"$f":"+IF(I166=\"\",\"\",IF(I166=CR_3_GRIGLIA!$C$16,CR_3_GRIGLIA!$B$16,IF(I166=CR_3_GRIGLIA!$C$17,CR_3_GRIGLIA!$B$17,IF(I166=CR_3_GRIGLIA!$C$18,CR_3_GRIGLIA!$B$18,IF(I166=CR_3_GRIGLIA!$C$19,CR_3_GRIGLIA!$B$19,CR_3_GRIGLIA!$B$20)))))","v":""},"",{"$f":"+IF(D166=\"\",\"\",IF(C166=\"\",0,INDEX(CR_3_GRIGLIA!$D$3:$K$13,+VLOOKUP(B166,CR_3_GRIGLIA!$A$3:$C$13,3,FALSE),+HLOOKUP(D166,CR_3_GRIGLIA!$D$1:$K$2,2,FALSE))))","v":""},""]
[166,null,{"$f":"+IF(B167=\"\",\"\",VLOOKUP(B167,CR_3_GRIGLIA!$A$3:$B$13,2,FALSE))","v":""},null,null,null,{"$f":"+IF(I167=\"\",\"\",IF(I167=CR_3_GRIGLIA!$C$16,CR_3_GRIGLIA!$B$16,IF(I167=CR_3_GRIGLIA!$C$17,CR_3_GRIGLIA!$B$17,IF(I167=CR_3_GRIGLIA!$C$18,CR_3_GRIGLIA!$B$18,IF(I167=CR_3_GRIGLIA!$C$19,CR_3_GRIGLIA!$B$19,CR_3_GRIGLIA!$B$20)))))","v":""},"",{"$f":"+IF(D167=\"\",\"\",IF(C167=\"\",0,INDEX(CR_3_GRIGLIA!$D$3:$K$13,+VLOOKUP(B167,CR_3_GRIGLIA!$A$3:$C$13,3,FALSE),+HLOOKUP(D167,CR_3_GRIGLIA!$D$1:$K$2,2,FALSE))))","v":""},""]
[167,null,{"$f":"+IF(B168=\"\",\"\",VLOOKUP(B168,CR_3_GRIGLIA!$A$3:$B$13,2,FALSE))","v":""},null,null,null,{"$f":"+IF(I168=\"\",\"\",IF(I168=CR_3_GRIGLIA!$C$16,CR_3_GRIGLIA!$B$16,IF(I168=CR_3_GRIGLIA!$C$17,CR_3_GRIGLIA!$B$17,IF(I168=CR_3_GRIGLIA!$C$18,CR_3_GRIGLIA!$B$18,IF(I168=CR_3_GRIGLIA!$C$19,CR_3_GRIGLIA!$B$19,CR_3_GRIGLIA!$B$20)))))","v":""},"",{"$f":"+IF(D168=\"\",\"\",IF(C168=\"\",0,INDEX(CR_3_GRIGLIA!$D$3:$K$13,+VLOOKUP(B168,CR_3_GRIGLIA!$A$3:$C$13,3,FALSE),+HLOOKUP(D168,CR_3_GRIGLIA!$D$1:$K$2,2,FALSE))))","v":""},""]
[168,null,{"$f":"+IF(B169=\"\",\"\",VLOOKUP(B169,CR_3_GRIGLIA!$A$3:$B$13,2,FALSE))","v":""},null,null,null,{"$f":"+IF(I169=\"\",\"\",IF(I169=CR_3_GRIGLIA!$C$16,CR_3_GRIGLIA!$B$16,IF(I169=CR_3_GRIGLIA!$C$17,CR_3_GRIGLIA!$B$17,IF(I169=CR_3_GRIGLIA!$C$18,CR_3_GRIGLIA!$B$18,IF(I169=CR_3_GRIGLIA!$C$19,CR_3_GRIGLIA!$B$19,CR_3_GRIGLIA!$B$20)))))","v":""},"",{"$f":"+IF(D169=\"\",\"\",IF(C169=\"\",0,INDEX(CR_3_GRIGLIA!$D$3:$K$13,+VLOOKUP(B169,CR_3_GRIGLIA!$A$3:$C$13,3,FALSE),+HLOOKUP(D169,CR_3_GRIGLIA!$D$1:$K$2,2,FALSE))))","v":""},""]
[169,null,{"$f":"+IF(B170=\"\",\"\",VLOOKUP(B170,CR_3_GRIGLIA!$A$3:$B$13,2,FALSE))","v":""},null,null,null,{"$f":"+IF(I170=\"\",\"\",IF(I170=CR_3_GRIGLIA!$C$16,CR_3_GRIGLIA!$B$16,IF(I170=CR_3_GRIGLIA!$C$17,CR_3_GRIGLIA!$B$17,IF(I170=CR_3_GRIGLIA!$C$18,CR_3_GRIGLIA!$B$18,IF(I170=CR_3_GRIGLIA!$C$19,CR_3_GRIGLIA!$B$19,CR_3_GRIGLIA!$B$20)))))","v":""},"",{"$f":"+IF(D170=\"\",\"\",IF(C170=\"\",0,INDEX(CR_3_GRIGLIA!$D$3:$K$13,+VLOOKUP(B170,CR_3_GRIGLIA!$A$3:$C$13,3,FALSE),+HLOOKUP(D170,CR_3_GRIGLIA!$D$1:$K$2,2,FALSE))))","v":""},""]
[170,null,{"$f":"+IF(B171=\"\",\"\",VLOOKUP(B171,CR_3_GRIGLIA!$A$3:$B$13,2,FALSE))","v":""},null,null,null,{"$f":"+IF(I171=\"\",\"\",IF(I171=CR_3_GRIGLIA!$C$16,CR_3_GRIGLIA!$B$16,IF(I171=CR_3_GRIGLIA!$C$17,CR_3_GRIGLIA!$B$17,IF(I171=CR_3_GRIGLIA!$C$18,CR_3_GRIGLIA!$B$18,IF(I171=CR_3_GRIGLIA!$C$19,CR_3_GRIGLIA!$B$19,CR_3_GRIGLIA!$B$20)))))","v":""},"",{"$f":"+IF(D171=\"\",\"\",IF(C171=\"\",0,INDEX(CR_3_GRIGLIA!$D$3:$K$13,+VLOOKUP(B171,CR_3_GRIGLIA!$A$3:$C$13,3,FALSE),+HLOOKUP(D171,CR_3_GRIGLIA!$D$1:$K$2,2,FALSE))))","v":""},""]
[171,null,{"$f":"+IF(B172=\"\",\"\",VLOOKUP(B172,CR_3_GRIGLIA!$A$3:$B$13,2,FALSE))","v":""},null,null,null,{"$f":"+IF(I172=\"\",\"\",IF(I172=CR_3_GRIGLIA!$C$16,CR_3_GRIGLIA!$B$16,IF(I172=CR_3_GRIGLIA!$C$17,CR_3_GRIGLIA!$B$17,IF(I172=CR_3_GRIGLIA!$C$18,CR_3_GRIGLIA!$B$18,IF(I172=CR_3_GRIGLIA!$C$19,CR_3_GRIGLIA!$B$19,CR_3_GRIGLIA!$B$20)))))","v":""},"",{"$f":"+IF(D172=\"\",\"\",IF(C172=\"\",0,INDEX(CR_3_GRIGLIA!$D$3:$K$13,+VLOOKUP(B172,CR_3_GRIGLIA!$A$3:$C$13,3,FALSE),+HLOOKUP(D172,CR_3_GRIGLIA!$D$1:$K$2,2,FALSE))))","v":""},""]
[172,null,{"$f":"+IF(B173=\"\",\"\",VLOOKUP(B173,CR_3_GRIGLIA!$A$3:$B$13,2,FALSE))","v":""},null,null,null,{"$f":"+IF(I173=\"\",\"\",IF(I173=CR_3_GRIGLIA!$C$16,CR_3_GRIGLIA!$B$16,IF(I173=CR_3_GRIGLIA!$C$17,CR_3_GRIGLIA!$B$17,IF(I173=CR_3_GRIGLIA!$C$18,CR_3_GRIGLIA!$B$18,IF(I173=CR_3_GRIGLIA!$C$19,CR_3_GRIGLIA!$B$19,CR_3_GRIGLIA!$B$20)))))","v":""},"",{"$f":"+IF(D173=\"\",\"\",IF(C173=\"\",0,INDEX(CR_3_GRIGLIA!$D$3:$K$13,+VLOOKUP(B173,CR_3_GRIGLIA!$A$3:$C$13,3,FALSE),+HLOOKUP(D173,CR_3_GRIGLIA!$D$1:$K$2,2,FALSE))))","v":""},""]
[173,null,{"$f":"+IF(B174=\"\",\"\",VLOOKUP(B174,CR_3_GRIGLIA!$A$3:$B$13,2,FALSE))","v":""},null,null,null,{"$f":"+IF(I174=\"\",\"\",IF(I174=CR_3_GRIGLIA!$C$16,CR_3_GRIGLIA!$B$16,IF(I174=CR_3_GRIGLIA!$C$17,CR_3_GRIGLIA!$B$17,IF(I174=CR_3_GRIGLIA!$C$18,CR_3_GRIGLIA!$B$18,IF(I174=CR_3_GRIGLIA!$C$19,CR_3_GRIGLIA!$B$19,CR_3_GRIGLIA!$B$20)))))","v":""},"",{"$f":"+IF(D174=\"\",\"\",IF(C174=\"\",0,INDEX(CR_3_GRIGLIA!$D$3:$K$13,+VLOOKUP(B174,CR_3_GRIGLIA!$A$3:$C$13,3,FALSE),+HLOOKUP(D174,CR_3_GRIGLIA!$D$1:$K$2,2,FALSE))))","v":""},""]
[174,null,{"$f":"+IF(B175=\"\",\"\",VLOOKUP(B175,CR_3_GRIGLIA!$A$3:$B$13,2,FALSE))","v":""},null,null,null,{"$f":"+IF(I175=\"\",\"\",IF(I175=CR_3_GRIGLIA!$C$16,CR_3_GRIGLIA!$B$16,IF(I175=CR_3_GRIGLIA!$C$17,CR_3_GRIGLIA!$B$17,IF(I175=CR_3_GRIGLIA!$C$18,CR_3_GRIGLIA!$B$18,IF(I175=CR_3_GRIGLIA!$C$19,CR_3_GRIGLIA!$B$19,CR_3_GRIGLIA!$B$20)))))","v":""},"",{"$f":"+IF(D175=\"\",\"\",IF(C175=\"\",0,INDEX(CR_3_GRIGLIA!$D$3:$K$13,+VLOOKUP(B175,CR_3_GRIGLIA!$A$3:$C$13,3,FALSE),+HLOOKUP(D175,CR_3_GRIGLIA!$D$1:$K$2,2,FALSE))))","v":""},""]
[175,null,{"$f":"+IF(B176=\"\",\"\",VLOOKUP(B176,CR_3_GRIGLIA!$A$3:$B$13,2,FALSE))","v":""},null,null,null,{"$f":"+IF(I176=\"\",\"\",IF(I176=CR_3_GRIGLIA!$C$16,CR_3_GRIGLIA!$B$16,IF(I176=CR_3_GRIGLIA!$C$17,CR_3_GRIGLIA!$B$17,IF(I176=CR_3_GRIGLIA!$C$18,CR_3_GRIGLIA!$B$18,IF(I176=CR_3_GRIGLIA!$C$19,CR_3_GRIGLIA!$B$19,CR_3_GRIGLIA!$B$20)))))","v":""},"",{"$f":"+IF(D176=\"\",\"\",IF(C176=\"\",0,INDEX(CR_3_GRIGLIA!$D$3:$K$13,+VLOOKUP(B176,CR_3_GRIGLIA!$A$3:$C$13,3,FALSE),+HLOOKUP(D176,CR_3_GRIGLIA!$D$1:$K$2,2,FALSE))))","v":""},""]
[176,null,{"$f":"+IF(B177=\"\",\"\",VLOOKUP(B177,CR_3_GRIGLIA!$A$3:$B$13,2,FALSE))","v":""},null,null,null,{"$f":"+IF(I177=\"\",\"\",IF(I177=CR_3_GRIGLIA!$C$16,CR_3_GRIGLIA!$B$16,IF(I177=CR_3_GRIGLIA!$C$17,CR_3_GRIGLIA!$B$17,IF(I177=CR_3_GRIGLIA!$C$18,CR_3_GRIGLIA!$B$18,IF(I177=CR_3_GRIGLIA!$C$19,CR_3_GRIGLIA!$B$19,CR_3_GRIGLIA!$B$20)))))","v":""},"",{"$f":"+IF(D177=\"\",\"\",IF(C177=\"\",0,INDEX(CR_3_GRIGLIA!$D$3:$K$13,+VLOOKUP(B177,CR_3_GRIGLIA!$A$3:$C$13,3,FALSE),+HLOOKUP(D177,CR_3_GRIGLIA!$D$1:$K$2,2,FALSE))))","v":""},""]
[177,null,{"$f":"+IF(B178=\"\",\"\",VLOOKUP(B178,CR_3_GRIGLIA!$A$3:$B$13,2,FALSE))","v":""},null,null,null,{"$f":"+IF(I178=\"\",\"\",IF(I178=CR_3_GRIGLIA!$C$16,CR_3_GRIGLIA!$B$16,IF(I178=CR_3_GRIGLIA!$C$17,CR_3_GRIGLIA!$B$17,IF(I178=CR_3_GRIGLIA!$C$18,CR_3_GRIGLIA!$B$18,IF(I178=CR_3_GRIGLIA!$C$19,CR_3_GRIGLIA!$B$19,CR_3_GRIGLIA!$B$20)))))","v":""},"",{"$f":"+IF(D178=\"\",\"\",IF(C178=\"\",0,INDEX(CR_3_GRIGLIA!$D$3:$K$13,+VLOOKUP(B178,CR_3_GRIGLIA!$A$3:$C$13,3,FALSE),+HLOOKUP(D178,CR_3_GRIGLIA!$D$1:$K$2,2,FALSE))))","v":""},""]
[178,null,{"$f":"+IF(B179=\"\",\"\",VLOOKUP(B179,CR_3_GRIGLIA!$A$3:$B$13,2,FALSE))","v":""},null,null,null,{"$f":"+IF(I179=\"\",\"\",IF(I179=CR_3_GRIGLIA!$C$16,CR_3_GRIGLIA!$B$16,IF(I179=CR_3_GRIGLIA!$C$17,CR_3_GRIGLIA!$B$17,IF(I179=CR_3_GRIGLIA!$C$18,CR_3_GRIGLIA!$B$18,IF(I179=CR_3_GRIGLIA!$C$19,CR_3_GRIGLIA!$B$19,CR_3_GRIGLIA!$B$20)))))","v":""},"",{"$f":"+IF(D179=\"\",\"\",IF(C179=\"\",0,INDEX(CR_3_GRIGLIA!$D$3:$K$13,+VLOOKUP(B179,CR_3_GRIGLIA!$A$3:$C$13,3,FALSE),+HLOOKUP(D179,CR_3_GRIGLIA!$D$1:$K$2,2,FALSE))))","v":""},""]
[179,null,{"$f":"+IF(B180=\"\",\"\",VLOOKUP(B180,CR_3_GRIGLIA!$A$3:$B$13,2,FALSE))","v":""},null,null,null,{"$f":"+IF(I180=\"\",\"\",IF(I180=CR_3_GRIGLIA!$C$16,CR_3_GRIGLIA!$B$16,IF(I180=CR_3_GRIGLIA!$C$17,CR_3_GRIGLIA!$B$17,IF(I180=CR_3_GRIGLIA!$C$18,CR_3_GRIGLIA!$B$18,IF(I180=CR_3_GRIGLIA!$C$19,CR_3_GRIGLIA!$B$19,CR_3_GRIGLIA!$B$20)))))","v":""},"",{"$f":"+IF(D180=\"\",\"\",IF(C180=\"\",0,INDEX(CR_3_GRIGLIA!$D$3:$K$13,+VLOOKUP(B180,CR_3_GRIGLIA!$A$3:$C$13,3,FALSE),+HLOOKUP(D180,CR_3_GRIGLIA!$D$1:$K$2,2,FALSE))))","v":""},""]
[180,null,{"$f":"+IF(B181=\"\",\"\",VLOOKUP(B181,CR_3_GRIGLIA!$A$3:$B$13,2,FALSE))","v":""},null,null,null,{"$f":"+IF(I181=\"\",\"\",IF(I181=CR_3_GRIGLIA!$C$16,CR_3_GRIGLIA!$B$16,IF(I181=CR_3_GRIGLIA!$C$17,CR_3_GRIGLIA!$B$17,IF(I181=CR_3_GRIGLIA!$C$18,CR_3_GRIGLIA!$B$18,IF(I181=CR_3_GRIGLIA!$C$19,CR_3_GRIGLIA!$B$19,CR_3_GRIGLIA!$B$20)))))","v":""},"",{"$f":"+IF(D181=\"\",\"\",IF(C181=\"\",0,INDEX(CR_3_GRIGLIA!$D$3:$K$13,+VLOOKUP(B181,CR_3_GRIGLIA!$A$3:$C$13,3,FALSE),+HLOOKUP(D181,CR_3_GRIGLIA!$D$1:$K$2,2,FALSE))))","v":""},""]
[181,null,{"$f":"+IF(B182=\"\",\"\",VLOOKUP(B182,CR_3_GRIGLIA!$A$3:$B$13,2,FALSE))","v":""},null,null,null,{"$f":"+IF(I182=\"\",\"\",IF(I182=CR_3_GRIGLIA!$C$16,CR_3_GRIGLIA!$B$16,IF(I182=CR_3_GRIGLIA!$C$17,CR_3_GRIGLIA!$B$17,IF(I182=CR_3_GRIGLIA!$C$18,CR_3_GRIGLIA!$B$18,IF(I182=CR_3_GRIGLIA!$C$19,CR_3_GRIGLIA!$B$19,CR_3_GRIGLIA!$B$20)))))","v":""},"",{"$f":"+IF(D182=\"\",\"\",IF(C182=\"\",0,INDEX(CR_3_GRIGLIA!$D$3:$K$13,+VLOOKUP(B182,CR_3_GRIGLIA!$A$3:$C$13,3,FALSE),+HLOOKUP(D182,CR_3_GRIGLIA!$D$1:$K$2,2,FALSE))))","v":""},""]
[182,null,{"$f":"+IF(B183=\"\",\"\",VLOOKUP(B183,CR_3_GRIGLIA!$A$3:$B$13,2,FALSE))","v":""},null,null,null,{"$f":"+IF(I183=\"\",\"\",IF(I183=CR_3_GRIGLIA!$C$16,CR_3_GRIGLIA!$B$16,IF(I183=CR_3_GRIGLIA!$C$17,CR_3_GRIGLIA!$B$17,IF(I183=CR_3_GRIGLIA!$C$18,CR_3_GRIGLIA!$B$18,IF(I183=CR_3_GRIGLIA!$C$19,CR_3_GRIGLIA!$B$19,CR_3_GRIGLIA!$B$20)))))","v":""},"",{"$f":"+IF(D183=\"\",\"\",IF(C183=\"\",0,INDEX(CR_3_GRIGLIA!$D$3:$K$13,+VLOOKUP(B183,CR_3_GRIGLIA!$A$3:$C$13,3,FALSE),+HLOOKUP(D183,CR_3_GRIGLIA!$D$1:$K$2,2,FALSE))))","v":""},""]
[183,null,{"$f":"+IF(B184=\"\",\"\",VLOOKUP(B184,CR_3_GRIGLIA!$A$3:$B$13,2,FALSE))","v":""},null,null,null,{"$f":"+IF(I184=\"\",\"\",IF(I184=CR_3_GRIGLIA!$C$16,CR_3_GRIGLIA!$B$16,IF(I184=CR_3_GRIGLIA!$C$17,CR_3_GRIGLIA!$B$17,IF(I184=CR_3_GRIGLIA!$C$18,CR_3_GRIGLIA!$B$18,IF(I184=CR_3_GRIGLIA!$C$19,CR_3_GRIGLIA!$B$19,CR_3_GRIGLIA!$B$20)))))","v":""},"",{"$f":"+IF(D184=\"\",\"\",IF(C184=\"\",0,INDEX(CR_3_GRIGLIA!$D$3:$K$13,+VLOOKUP(B184,CR_3_GRIGLIA!$A$3:$C$13,3,FALSE),+HLOOKUP(D184,CR_3_GRIGLIA!$D$1:$K$2,2,FALSE))))","v":""},""]
[184,null,{"$f":"+IF(B185=\"\",\"\",VLOOKUP(B185,CR_3_GRIGLIA!$A$3:$B$13,2,FALSE))","v":""},null,null,null,{"$f":"+IF(I185=\"\",\"\",IF(I185=CR_3_GRIGLIA!$C$16,CR_3_GRIGLIA!$B$16,IF(I185=CR_3_GRIGLIA!$C$17,CR_3_GRIGLIA!$B$17,IF(I185=CR_3_GRIGLIA!$C$18,CR_3_GRIGLIA!$B$18,IF(I185=CR_3_GRIGLIA!$C$19,CR_3_GRIGLIA!$B$19,CR_3_GRIGLIA!$B$20)))))","v":""},"",{"$f":"+IF(D185=\"\",\"\",IF(C185=\"\",0,INDEX(CR_3_GRIGLIA!$D$3:$K$13,+VLOOKUP(B185,CR_3_GRIGLIA!$A$3:$C$13,3,FALSE),+HLOOKUP(D185,CR_3_GRIGLIA!$D$1:$K$2,2,FALSE))))","v":""},""]
[185,null,{"$f":"+IF(B186=\"\",\"\",VLOOKUP(B186,CR_3_GRIGLIA!$A$3:$B$13,2,FALSE))","v":""},null,null,null,{"$f":"+IF(I186=\"\",\"\",IF(I186=CR_3_GRIGLIA!$C$16,CR_3_GRIGLIA!$B$16,IF(I186=CR_3_GRIGLIA!$C$17,CR_3_GRIGLIA!$B$17,IF(I186=CR_3_GRIGLIA!$C$18,CR_3_GRIGLIA!$B$18,IF(I186=CR_3_GRIGLIA!$C$19,CR_3_GRIGLIA!$B$19,CR_3_GRIGLIA!$B$20)))))","v":""},"",{"$f":"+IF(D186=\"\",\"\",IF(C186=\"\",0,INDEX(CR_3_GRIGLIA!$D$3:$K$13,+VLOOKUP(B186,CR_3_GRIGLIA!$A$3:$C$13,3,FALSE),+HLOOKUP(D186,CR_3_GRIGLIA!$D$1:$K$2,2,FALSE))))","v":""},""]
[186,null,{"$f":"+IF(B187=\"\",\"\",VLOOKUP(B187,CR_3_GRIGLIA!$A$3:$B$13,2,FALSE))","v":""},null,null,null,{"$f":"+IF(I187=\"\",\"\",IF(I187=CR_3_GRIGLIA!$C$16,CR_3_GRIGLIA!$B$16,IF(I187=CR_3_GRIGLIA!$C$17,CR_3_GRIGLIA!$B$17,IF(I187=CR_3_GRIGLIA!$C$18,CR_3_GRIGLIA!$B$18,IF(I187=CR_3_GRIGLIA!$C$19,CR_3_GRIGLIA!$B$19,CR_3_GRIGLIA!$B$20)))))","v":""},"",{"$f":"+IF(D187=\"\",\"\",IF(C187=\"\",0,INDEX(CR_3_GRIGLIA!$D$3:$K$13,+VLOOKUP(B187,CR_3_GRIGLIA!$A$3:$C$13,3,FALSE),+HLOOKUP(D187,CR_3_GRIGLIA!$D$1:$K$2,2,FALSE))))","v":""},""]
[187,null,{"$f":"+IF(B188=\"\",\"\",VLOOKUP(B188,CR_3_GRIGLIA!$A$3:$B$13,2,FALSE))","v":""},null,null,null,{"$f":"+IF(I188=\"\",\"\",IF(I188=CR_3_GRIGLIA!$C$16,CR_3_GRIGLIA!$B$16,IF(I188=CR_3_GRIGLIA!$C$17,CR_3_GRIGLIA!$B$17,IF(I188=CR_3_GRIGLIA!$C$18,CR_3_GRIGLIA!$B$18,IF(I188=CR_3_GRIGLIA!$C$19,CR_3_GRIGLIA!$B$19,CR_3_GRIGLIA!$B$20)))))","v":""},"",{"$f":"+IF(D188=\"\",\"\",IF(C188=\"\",0,INDEX(CR_3_GRIGLIA!$D$3:$K$13,+VLOOKUP(B188,CR_3_GRIGLIA!$A$3:$C$13,3,FALSE),+HLOOKUP(D188,CR_3_GRIGLIA!$D$1:$K$2,2,FALSE))))","v":""},""]
[188,null,{"$f":"+IF(B189=\"\",\"\",VLOOKUP(B189,CR_3_GRIGLIA!$A$3:$B$13,2,FALSE))","v":""},null,null,null,{"$f":"+IF(I189=\"\",\"\",IF(I189=CR_3_GRIGLIA!$C$16,CR_3_GRIGLIA!$B$16,IF(I189=CR_3_GRIGLIA!$C$17,CR_3_GRIGLIA!$B$17,IF(I189=CR_3_GRIGLIA!$C$18,CR_3_GRIGLIA!$B$18,IF(I189=CR_3_GRIGLIA!$C$19,CR_3_GRIGLIA!$B$19,CR_3_GRIGLIA!$B$20)))))","v":""},"",{"$f":"+IF(D189=\"\",\"\",IF(C189=\"\",0,INDEX(CR_3_GRIGLIA!$D$3:$K$13,+VLOOKUP(B189,CR_3_GRIGLIA!$A$3:$C$13,3,FALSE),+HLOOKUP(D189,CR_3_GRIGLIA!$D$1:$K$2,2,FALSE))))","v":""},""]
[189,null,{"$f":"+IF(B190=\"\",\"\",VLOOKUP(B190,CR_3_GRIGLIA!$A$3:$B$13,2,FALSE))","v":""},null,null,null,{"$f":"+IF(I190=\"\",\"\",IF(I190=CR_3_GRIGLIA!$C$16,CR_3_GRIGLIA!$B$16,IF(I190=CR_3_GRIGLIA!$C$17,CR_3_GRIGLIA!$B$17,IF(I190=CR_3_GRIGLIA!$C$18,CR_3_GRIGLIA!$B$18,IF(I190=CR_3_GRIGLIA!$C$19,CR_3_GRIGLIA!$B$19,CR_3_GRIGLIA!$B$20)))))","v":""},"",{"$f":"+IF(D190=\"\",\"\",IF(C190=\"\",0,INDEX(CR_3_GRIGLIA!$D$3:$K$13,+VLOOKUP(B190,CR_3_GRIGLIA!$A$3:$C$13,3,FALSE),+HLOOKUP(D190,CR_3_GRIGLIA!$D$1:$K$2,2,FALSE))))","v":""},""]
[190,null,{"$f":"+IF(B191=\"\",\"\",VLOOKUP(B191,CR_3_GRIGLIA!$A$3:$B$13,2,FALSE))","v":""},null,null,null,{"$f":"+IF(I191=\"\",\"\",IF(I191=CR_3_GRIGLIA!$C$16,CR_3_GRIGLIA!$B$16,IF(I191=CR_3_GRIGLIA!$C$17,CR_3_GRIGLIA!$B$17,IF(I191=CR_3_GRIGLIA!$C$18,CR_3_GRIGLIA!$B$18,IF(I191=CR_3_GRIGLIA!$C$19,CR_3_GRIGLIA!$B$19,CR_3_GRIGLIA!$B$20)))))","v":""},"",{"$f":"+IF(D191=\"\",\"\",IF(C191=\"\",0,INDEX(CR_3_GRIGLIA!$D$3:$K$13,+VLOOKUP(B191,CR_3_GRIGLIA!$A$3:$C$13,3,FALSE),+HLOOKUP(D191,CR_3_GRIGLIA!$D$1:$K$2,2,FALSE))))","v":""},""]
[191,null,{"$f":"+IF(B192=\"\",\"\",VLOOKUP(B192,CR_3_GRIGLIA!$A$3:$B$13,2,FALSE))","v":""},null,null,null,{"$f":"+IF(I192=\"\",\"\",IF(I192=CR_3_GRIGLIA!$C$16,CR_3_GRIGLIA!$B$16,IF(I192=CR_3_GRIGLIA!$C$17,CR_3_GRIGLIA!$B$17,IF(I192=CR_3_GRIGLIA!$C$18,CR_3_GRIGLIA!$B$18,IF(I192=CR_3_GRIGLIA!$C$19,CR_3_GRIGLIA!$B$19,CR_3_GRIGLIA!$B$20)))))","v":""},"",{"$f":"+IF(D192=\"\",\"\",IF(C192=\"\",0,INDEX(CR_3_GRIGLIA!$D$3:$K$13,+VLOOKUP(B192,CR_3_GRIGLIA!$A$3:$C$13,3,FALSE),+HLOOKUP(D192,CR_3_GRIGLIA!$D$1:$K$2,2,FALSE))))","v":""},""]
[192,null,{"$f":"+IF(B193=\"\",\"\",VLOOKUP(B193,CR_3_GRIGLIA!$A$3:$B$13,2,FALSE))","v":""},null,null,null,{"$f":"+IF(I193=\"\",\"\",IF(I193=CR_3_GRIGLIA!$C$16,CR_3_GRIGLIA!$B$16,IF(I193=CR_3_GRIGLIA!$C$17,CR_3_GRIGLIA!$B$17,IF(I193=CR_3_GRIGLIA!$C$18,CR_3_GRIGLIA!$B$18,IF(I193=CR_3_GRIGLIA!$C$19,CR_3_GRIGLIA!$B$19,CR_3_GRIGLIA!$B$20)))))","v":""},"",{"$f":"+IF(D193=\"\",\"\",IF(C193=\"\",0,INDEX(CR_3_GRIGLIA!$D$3:$K$13,+VLOOKUP(B193,CR_3_GRIGLIA!$A$3:$C$13,3,FALSE),+HLOOKUP(D193,CR_3_GRIGLIA!$D$1:$K$2,2,FALSE))))","v":""},""]
[193,null,{"$f":"+IF(B194=\"\",\"\",VLOOKUP(B194,CR_3_GRIGLIA!$A$3:$B$13,2,FALSE))","v":""},null,null,null,{"$f":"+IF(I194=\"\",\"\",IF(I194=CR_3_GRIGLIA!$C$16,CR_3_GRIGLIA!$B$16,IF(I194=CR_3_GRIGLIA!$C$17,CR_3_GRIGLIA!$B$17,IF(I194=CR_3_GRIGLIA!$C$18,CR_3_GRIGLIA!$B$18,IF(I194=CR_3_GRIGLIA!$C$19,CR_3_GRIGLIA!$B$19,CR_3_GRIGLIA!$B$20)))))","v":""},"",{"$f":"+IF(D194=\"\",\"\",IF(C194=\"\",0,INDEX(CR_3_GRIGLIA!$D$3:$K$13,+VLOOKUP(B194,CR_3_GRIGLIA!$A$3:$C$13,3,FALSE),+HLOOKUP(D194,CR_3_GRIGLIA!$D$1:$K$2,2,FALSE))))","v":""},""]
[194,null,{"$f":"+IF(B195=\"\",\"\",VLOOKUP(B195,CR_3_GRIGLIA!$A$3:$B$13,2,FALSE))","v":""},null,null,null,{"$f":"+IF(I195=\"\",\"\",IF(I195=CR_3_GRIGLIA!$C$16,CR_3_GRIGLIA!$B$16,IF(I195=CR_3_GRIGLIA!$C$17,CR_3_GRIGLIA!$B$17,IF(I195=CR_3_GRIGLIA!$C$18,CR_3_GRIGLIA!$B$18,IF(I195=CR_3_GRIGLIA!$C$19,CR_3_GRIGLIA!$B$19,CR_3_GRIGLIA!$B$20)))))","v":""},{"$f":"IFERROR(IF(F195=\"\",\"\",F195/$F$504),0)","v":""},{"$f":"+IF(D195=\"\",\"\",IF(C195=\"\",0,INDEX(CR_3_GRIGLIA!$D$3:$K$13,+VLOOKUP(B195,CR_3_GRIGLIA!$A$3:$C$13,3,FALSE),+HLOOKUP(D195,CR_3_GRIGLIA!$D$1:$K$2,2,FALSE))))","v":""},{"$f":"IFERROR(IF(I195=\"\",\"\",I195*F195/$F$504),0)","v":""}]
[195,null,{"$f":"+IF(B196=\"\",\"\",VLOOKUP(B196,CR_3_GRIGLIA!$A$3:$B$13,2,FALSE))","v":""},null,null,null,{"$f":"+IF(I196=\"\",\"\",IF(I196=CR_3_GRIGLIA!$C$16,CR_3_GRIGLIA!$B$16,IF(I196=CR_3_GRIGLIA!$C$17,CR_3_GRIGLIA!$B$17,IF(I196=CR_3_GRIGLIA!$C$18,CR_3_GRIGLIA!$B$18,IF(I196=CR_3_GRIGLIA!$C$19,CR_3_GRIGLIA!$B$19,CR_3_GRIGLIA!$B$20)))))","v":""},"",{"$f":"+IF(D196=\"\",\"\",IF(C196=\"\",0,INDEX(CR_3_GRIGLIA!$D$3:$K$13,+VLOOKUP(B196,CR_3_GRIGLIA!$A$3:$C$13,3,FALSE),+HLOOKUP(D196,CR_3_GRIGLIA!$D$1:$K$2,2,FALSE))))","v":""},""]
[196,null,{"$f":"+IF(B197=\"\",\"\",VLOOKUP(B197,CR_3_GRIGLIA!$A$3:$B$13,2,FALSE))","v":""},null,null,null,{"$f":"+IF(I197=\"\",\"\",IF(I197=CR_3_GRIGLIA!$C$16,CR_3_GRIGLIA!$B$16,IF(I197=CR_3_GRIGLIA!$C$17,CR_3_GRIGLIA!$B$17,IF(I197=CR_3_GRIGLIA!$C$18,CR_3_GRIGLIA!$B$18,IF(I197=CR_3_GRIGLIA!$C$19,CR_3_GRIGLIA!$B$19,CR_3_GRIGLIA!$B$20)))))","v":""},"",{"$f":"+IF(D197=\"\",\"\",IF(C197=\"\",0,INDEX(CR_3_GRIGLIA!$D$3:$K$13,+VLOOKUP(B197,CR_3_GRIGLIA!$A$3:$C$13,3,FALSE),+HLOOKUP(D197,CR_3_GRIGLIA!$D$1:$K$2,2,FALSE))))","v":""},""]
[197,null,{"$f":"+IF(B198=\"\",\"\",VLOOKUP(B198,CR_3_GRIGLIA!$A$3:$B$13,2,FALSE))","v":""},null,null,null,{"$f":"+IF(I198=\"\",\"\",IF(I198=CR_3_GRIGLIA!$C$16,CR_3_GRIGLIA!$B$16,IF(I198=CR_3_GRIGLIA!$C$17,CR_3_GRIGLIA!$B$17,IF(I198=CR_3_GRIGLIA!$C$18,CR_3_GRIGLIA!$B$18,IF(I198=CR_3_GRIGLIA!$C$19,CR_3_GRIGLIA!$B$19,CR_3_GRIGLIA!$B$20)))))","v":""},"",{"$f":"+IF(D198=\"\",\"\",IF(C198=\"\",0,INDEX(CR_3_GRIGLIA!$D$3:$K$13,+VLOOKUP(B198,CR_3_GRIGLIA!$A$3:$C$13,3,FALSE),+HLOOKUP(D198,CR_3_GRIGLIA!$D$1:$K$2,2,FALSE))))","v":""},""]
[198,null,{"$f":"+IF(B199=\"\",\"\",VLOOKUP(B199,CR_3_GRIGLIA!$A$3:$B$13,2,FALSE))","v":""},null,null,null,{"$f":"+IF(I199=\"\",\"\",IF(I199=CR_3_GRIGLIA!$C$16,CR_3_GRIGLIA!$B$16,IF(I199=CR_3_GRIGLIA!$C$17,CR_3_GRIGLIA!$B$17,IF(I199=CR_3_GRIGLIA!$C$18,CR_3_GRIGLIA!$B$18,IF(I199=CR_3_GRIGLIA!$C$19,CR_3_GRIGLIA!$B$19,CR_3_GRIGLIA!$B$20)))))","v":""},"",{"$f":"+IF(D199=\"\",\"\",IF(C199=\"\",0,INDEX(CR_3_GRIGLIA!$D$3:$K$13,+VLOOKUP(B199,CR_3_GRIGLIA!$A$3:$C$13,3,FALSE),+HLOOKUP(D199,CR_3_GRIGLIA!$D$1:$K$2,2,FALSE))))","v":""},""]
[199,null,{"$f":"+IF(B200=\"\",\"\",VLOOKUP(B200,CR_3_GRIGLIA!$A$3:$B$13,2,FALSE))","v":""},null,null,null,{"$f":"+IF(I200=\"\",\"\",IF(I200=CR_3_GRIGLIA!$C$16,CR_3_GRIGLIA!$B$16,IF(I200=CR_3_GRIGLIA!$C$17,CR_3_GRIGLIA!$B$17,IF(I200=CR_3_GRIGLIA!$C$18,CR_3_GRIGLIA!$B$18,IF(I200=CR_3_GRIGLIA!$C$19,CR_3_GRIGLIA!$B$19,CR_3_GRIGLIA!$B$20)))))","v":""},"",{"$f":"+IF(D200=\"\",\"\",IF(C200=\"\",0,INDEX(CR_3_GRIGLIA!$D$3:$K$13,+VLOOKUP(B200,CR_3_GRIGLIA!$A$3:$C$13,3,FALSE),+HLOOKUP(D200,CR_3_GRIGLIA!$D$1:$K$2,2,FALSE))))","v":""},""]
[200,null,{"$f":"+IF(B201=\"\",\"\",VLOOKUP(B201,CR_3_GRIGLIA!$A$3:$B$13,2,FALSE))","v":""},null,null,null,{"$f":"+IF(I201=\"\",\"\",IF(I201=CR_3_GRIGLIA!$C$16,CR_3_GRIGLIA!$B$16,IF(I201=CR_3_GRIGLIA!$C$17,CR_3_GRIGLIA!$B$17,IF(I201=CR_3_GRIGLIA!$C$18,CR_3_GRIGLIA!$B$18,IF(I201=CR_3_GRIGLIA!$C$19,CR_3_GRIGLIA!$B$19,CR_3_GRIGLIA!$B$20)))))","v":""},"",{"$f":"+IF(D201=\"\",\"\",IF(C201=\"\",0,INDEX(CR_3_GRIGLIA!$D$3:$K$13,+VLOOKUP(B201,CR_3_GRIGLIA!$A$3:$C$13,3,FALSE),+HLOOKUP(D201,CR_3_GRIGLIA!$D$1:$K$2,2,FALSE))))","v":""},""]
[201,null,{"$f":"+IF(B202=\"\",\"\",VLOOKUP(B202,CR_3_GRIGLIA!$A$3:$B$13,2,FALSE))","v":""},null,null,null,{"$f":"+IF(I202=\"\",\"\",IF(I202=CR_3_GRIGLIA!$C$16,CR_3_GRIGLIA!$B$16,IF(I202=CR_3_GRIGLIA!$C$17,CR_3_GRIGLIA!$B$17,IF(I202=CR_3_GRIGLIA!$C$18,CR_3_GRIGLIA!$B$18,IF(I202=CR_3_GRIGLIA!$C$19,CR_3_GRIGLIA!$B$19,CR_3_GRIGLIA!$B$20)))))","v":""},"",{"$f":"+IF(D202=\"\",\"\",IF(C202=\"\",0,INDEX(CR_3_GRIGLIA!$D$3:$K$13,+VLOOKUP(B202,CR_3_GRIGLIA!$A$3:$C$13,3,FALSE),+HLOOKUP(D202,CR_3_GRIGLIA!$D$1:$K$2,2,FALSE))))","v":""},""]
[202,null,{"$f":"+IF(B203=\"\",\"\",VLOOKUP(B203,CR_3_GRIGLIA!$A$3:$B$13,2,FALSE))","v":""},null,null,null,{"$f":"+IF(I203=\"\",\"\",IF(I203=CR_3_GRIGLIA!$C$16,CR_3_GRIGLIA!$B$16,IF(I203=CR_3_GRIGLIA!$C$17,CR_3_GRIGLIA!$B$17,IF(I203=CR_3_GRIGLIA!$C$18,CR_3_GRIGLIA!$B$18,IF(I203=CR_3_GRIGLIA!$C$19,CR_3_GRIGLIA!$B$19,CR_3_GRIGLIA!$B$20)))))","v":""},"",{"$f":"+IF(D203=\"\",\"\",IF(C203=\"\",0,INDEX(CR_3_GRIGLIA!$D$3:$K$13,+VLOOKUP(B203,CR_3_GRIGLIA!$A$3:$C$13,3,FALSE),+HLOOKUP(D203,CR_3_GRIGLIA!$D$1:$K$2,2,FALSE))))","v":""},""]
[203,null,{"$f":"+IF(B204=\"\",\"\",VLOOKUP(B204,CR_3_GRIGLIA!$A$3:$B$13,2,FALSE))","v":""},null,null,null,{"$f":"+IF(I204=\"\",\"\",IF(I204=CR_3_GRIGLIA!$C$16,CR_3_GRIGLIA!$B$16,IF(I204=CR_3_GRIGLIA!$C$17,CR_3_GRIGLIA!$B$17,IF(I204=CR_3_GRIGLIA!$C$18,CR_3_GRIGLIA!$B$18,IF(I204=CR_3_GRIGLIA!$C$19,CR_3_GRIGLIA!$B$19,CR_3_GRIGLIA!$B$20)))))","v":""},"",{"$f":"+IF(D204=\"\",\"\",IF(C204=\"\",0,INDEX(CR_3_GRIGLIA!$D$3:$K$13,+VLOOKUP(B204,CR_3_GRIGLIA!$A$3:$C$13,3,FALSE),+HLOOKUP(D204,CR_3_GRIGLIA!$D$1:$K$2,2,FALSE))))","v":""},""]
[204,null,{"$f":"+IF(B205=\"\",\"\",VLOOKUP(B205,CR_3_GRIGLIA!$A$3:$B$13,2,FALSE))","v":""},null,null,null,{"$f":"+IF(I205=\"\",\"\",IF(I205=CR_3_GRIGLIA!$C$16,CR_3_GRIGLIA!$B$16,IF(I205=CR_3_GRIGLIA!$C$17,CR_3_GRIGLIA!$B$17,IF(I205=CR_3_GRIGLIA!$C$18,CR_3_GRIGLIA!$B$18,IF(I205=CR_3_GRIGLIA!$C$19,CR_3_GRIGLIA!$B$19,CR_3_GRIGLIA!$B$20)))))","v":""},"",{"$f":"+IF(D205=\"\",\"\",IF(C205=\"\",0,INDEX(CR_3_GRIGLIA!$D$3:$K$13,+VLOOKUP(B205,CR_3_GRIGLIA!$A$3:$C$13,3,FALSE),+HLOOKUP(D205,CR_3_GRIGLIA!$D$1:$K$2,2,FALSE))))","v":""},""]
[205,null,{"$f":"+IF(B206=\"\",\"\",VLOOKUP(B206,CR_3_GRIGLIA!$A$3:$B$13,2,FALSE))","v":""},null,null,null,{"$f":"+IF(I206=\"\",\"\",IF(I206=CR_3_GRIGLIA!$C$16,CR_3_GRIGLIA!$B$16,IF(I206=CR_3_GRIGLIA!$C$17,CR_3_GRIGLIA!$B$17,IF(I206=CR_3_GRIGLIA!$C$18,CR_3_GRIGLIA!$B$18,IF(I206=CR_3_GRIGLIA!$C$19,CR_3_GRIGLIA!$B$19,CR_3_GRIGLIA!$B$20)))))","v":""},"",{"$f":"+IF(D206=\"\",\"\",IF(C206=\"\",0,INDEX(CR_3_GRIGLIA!$D$3:$K$13,+VLOOKUP(B206,CR_3_GRIGLIA!$A$3:$C$13,3,FALSE),+HLOOKUP(D206,CR_3_GRIGLIA!$D$1:$K$2,2,FALSE))))","v":""},""]
[206,null,{"$f":"+IF(B207=\"\",\"\",VLOOKUP(B207,CR_3_GRIGLIA!$A$3:$B$13,2,FALSE))","v":""},null,null,null,{"$f":"+IF(I207=\"\",\"\",IF(I207=CR_3_GRIGLIA!$C$16,CR_3_GRIGLIA!$B$16,IF(I207=CR_3_GRIGLIA!$C$17,CR_3_GRIGLIA!$B$17,IF(I207=CR_3_GRIGLIA!$C$18,CR_3_GRIGLIA!$B$18,IF(I207=CR_3_GRIGLIA!$C$19,CR_3_GRIGLIA!$B$19,CR_3_GRIGLIA!$B$20)))))","v":""},"",{"$f":"+IF(D207=\"\",\"\",IF(C207=\"\",0,INDEX(CR_3_GRIGLIA!$D$3:$K$13,+VLOOKUP(B207,CR_3_GRIGLIA!$A$3:$C$13,3,FALSE),+HLOOKUP(D207,CR_3_GRIGLIA!$D$1:$K$2,2,FALSE))))","v":""},""]
[207,null,{"$f":"+IF(B208=\"\",\"\",VLOOKUP(B208,CR_3_GRIGLIA!$A$3:$B$13,2,FALSE))","v":""},null,null,null,{"$f":"+IF(I208=\"\",\"\",IF(I208=CR_3_GRIGLIA!$C$16,CR_3_GRIGLIA!$B$16,IF(I208=CR_3_GRIGLIA!$C$17,CR_3_GRIGLIA!$B$17,IF(I208=CR_3_GRIGLIA!$C$18,CR_3_GRIGLIA!$B$18,IF(I208=CR_3_GRIGLIA!$C$19,CR_3_GRIGLIA!$B$19,CR_3_GRIGLIA!$B$20)))))","v":""},"",{"$f":"+IF(D208=\"\",\"\",IF(C208=\"\",0,INDEX(CR_3_GRIGLIA!$D$3:$K$13,+VLOOKUP(B208,CR_3_GRIGLIA!$A$3:$C$13,3,FALSE),+HLOOKUP(D208,CR_3_GRIGLIA!$D$1:$K$2,2,FALSE))))","v":""},""]
[208,null,{"$f":"+IF(B209=\"\",\"\",VLOOKUP(B209,CR_3_GRIGLIA!$A$3:$B$13,2,FALSE))","v":""},null,null,null,{"$f":"+IF(I209=\"\",\"\",IF(I209=CR_3_GRIGLIA!$C$16,CR_3_GRIGLIA!$B$16,IF(I209=CR_3_GRIGLIA!$C$17,CR_3_GRIGLIA!$B$17,IF(I209=CR_3_GRIGLIA!$C$18,CR_3_GRIGLIA!$B$18,IF(I209=CR_3_GRIGLIA!$C$19,CR_3_GRIGLIA!$B$19,CR_3_GRIGLIA!$B$20)))))","v":""},"",{"$f":"+IF(D209=\"\",\"\",IF(C209=\"\",0,INDEX(CR_3_GRIGLIA!$D$3:$K$13,+VLOOKUP(B209,CR_3_GRIGLIA!$A$3:$C$13,3,FALSE),+HLOOKUP(D209,CR_3_GRIGLIA!$D$1:$K$2,2,FALSE))))","v":""},""]
[209,null,{"$f":"+IF(B210=\"\",\"\",VLOOKUP(B210,CR_3_GRIGLIA!$A$3:$B$13,2,FALSE))","v":""},null,null,null,{"$f":"+IF(I210=\"\",\"\",IF(I210=CR_3_GRIGLIA!$C$16,CR_3_GRIGLIA!$B$16,IF(I210=CR_3_GRIGLIA!$C$17,CR_3_GRIGLIA!$B$17,IF(I210=CR_3_GRIGLIA!$C$18,CR_3_GRIGLIA!$B$18,IF(I210=CR_3_GRIGLIA!$C$19,CR_3_GRIGLIA!$B$19,CR_3_GRIGLIA!$B$20)))))","v":""},"",{"$f":"+IF(D210=\"\",\"\",IF(C210=\"\",0,INDEX(CR_3_GRIGLIA!$D$3:$K$13,+VLOOKUP(B210,CR_3_GRIGLIA!$A$3:$C$13,3,FALSE),+HLOOKUP(D210,CR_3_GRIGLIA!$D$1:$K$2,2,FALSE))))","v":""},""]
[210,null,{"$f":"+IF(B211=\"\",\"\",VLOOKUP(B211,CR_3_GRIGLIA!$A$3:$B$13,2,FALSE))","v":""},null,null,null,{"$f":"+IF(I211=\"\",\"\",IF(I211=CR_3_GRIGLIA!$C$16,CR_3_GRIGLIA!$B$16,IF(I211=CR_3_GRIGLIA!$C$17,CR_3_GRIGLIA!$B$17,IF(I211=CR_3_GRIGLIA!$C$18,CR_3_GRIGLIA!$B$18,IF(I211=CR_3_GRIGLIA!$C$19,CR_3_GRIGLIA!$B$19,CR_3_GRIGLIA!$B$20)))))","v":""},"",{"$f":"+IF(D211=\"\",\"\",IF(C211=\"\",0,INDEX(CR_3_GRIGLIA!$D$3:$K$13,+VLOOKUP(B211,CR_3_GRIGLIA!$A$3:$C$13,3,FALSE),+HLOOKUP(D211,CR_3_GRIGLIA!$D$1:$K$2,2,FALSE))))","v":""},""]
[211,null,{"$f":"+IF(B212=\"\",\"\",VLOOKUP(B212,CR_3_GRIGLIA!$A$3:$B$13,2,FALSE))","v":""},null,null,null,{"$f":"+IF(I212=\"\",\"\",IF(I212=CR_3_GRIGLIA!$C$16,CR_3_GRIGLIA!$B$16,IF(I212=CR_3_GRIGLIA!$C$17,CR_3_GRIGLIA!$B$17,IF(I212=CR_3_GRIGLIA!$C$18,CR_3_GRIGLIA!$B$18,IF(I212=CR_3_GRIGLIA!$C$19,CR_3_GRIGLIA!$B$19,CR_3_GRIGLIA!$B$20)))))","v":""},"",{"$f":"+IF(D212=\"\",\"\",IF(C212=\"\",0,INDEX(CR_3_GRIGLIA!$D$3:$K$13,+VLOOKUP(B212,CR_3_GRIGLIA!$A$3:$C$13,3,FALSE),+HLOOKUP(D212,CR_3_GRIGLIA!$D$1:$K$2,2,FALSE))))","v":""},""]
[212,null,{"$f":"+IF(B213=\"\",\"\",VLOOKUP(B213,CR_3_GRIGLIA!$A$3:$B$13,2,FALSE))","v":""},null,null,null,{"$f":"+IF(I213=\"\",\"\",IF(I213=CR_3_GRIGLIA!$C$16,CR_3_GRIGLIA!$B$16,IF(I213=CR_3_GRIGLIA!$C$17,CR_3_GRIGLIA!$B$17,IF(I213=CR_3_GRIGLIA!$C$18,CR_3_GRIGLIA!$B$18,IF(I213=CR_3_GRIGLIA!$C$19,CR_3_GRIGLIA!$B$19,CR_3_GRIGLIA!$B$20)))))","v":""},"",{"$f":"+IF(D213=\"\",\"\",IF(C213=\"\",0,INDEX(CR_3_GRIGLIA!$D$3:$K$13,+VLOOKUP(B213,CR_3_GRIGLIA!$A$3:$C$13,3,FALSE),+HLOOKUP(D213,CR_3_GRIGLIA!$D$1:$K$2,2,FALSE))))","v":""},""]
[213,null,{"$f":"+IF(B214=\"\",\"\",VLOOKUP(B214,CR_3_GRIGLIA!$A$3:$B$13,2,FALSE))","v":""},null,null,null,{"$f":"+IF(I214=\"\",\"\",IF(I214=CR_3_GRIGLIA!$C$16,CR_3_GRIGLIA!$B$16,IF(I214=CR_3_GRIGLIA!$C$17,CR_3_GRIGLIA!$B$17,IF(I214=CR_3_GRIGLIA!$C$18,CR_3_GRIGLIA!$B$18,IF(I214=CR_3_GRIGLIA!$C$19,CR_3_GRIGLIA!$B$19,CR_3_GRIGLIA!$B$20)))))","v":""},"",{"$f":"+IF(D214=\"\",\"\",IF(C214=\"\",0,INDEX(CR_3_GRIGLIA!$D$3:$K$13,+VLOOKUP(B214,CR_3_GRIGLIA!$A$3:$C$13,3,FALSE),+HLOOKUP(D214,CR_3_GRIGLIA!$D$1:$K$2,2,FALSE))))","v":""},""]
[214,null,{"$f":"+IF(B215=\"\",\"\",VLOOKUP(B215,CR_3_GRIGLIA!$A$3:$B$13,2,FALSE))","v":""},null,null,null,{"$f":"+IF(I215=\"\",\"\",IF(I215=CR_3_GRIGLIA!$C$16,CR_3_GRIGLIA!$B$16,IF(I215=CR_3_GRIGLIA!$C$17,CR_3_GRIGLIA!$B$17,IF(I215=CR_3_GRIGLIA!$C$18,CR_3_GRIGLIA!$B$18,IF(I215=CR_3_GRIGLIA!$C$19,CR_3_GRIGLIA!$B$19,CR_3_GRIGLIA!$B$20)))))","v":""},"",{"$f":"+IF(D215=\"\",\"\",IF(C215=\"\",0,INDEX(CR_3_GRIGLIA!$D$3:$K$13,+VLOOKUP(B215,CR_3_GRIGLIA!$A$3:$C$13,3,FALSE),+HLOOKUP(D215,CR_3_GRIGLIA!$D$1:$K$2,2,FALSE))))","v":""},""]
[215,null,{"$f":"+IF(B216=\"\",\"\",VLOOKUP(B216,CR_3_GRIGLIA!$A$3:$B$13,2,FALSE))","v":""},null,null,null,{"$f":"+IF(I216=\"\",\"\",IF(I216=CR_3_GRIGLIA!$C$16,CR_3_GRIGLIA!$B$16,IF(I216=CR_3_GRIGLIA!$C$17,CR_3_GRIGLIA!$B$17,IF(I216=CR_3_GRIGLIA!$C$18,CR_3_GRIGLIA!$B$18,IF(I216=CR_3_GRIGLIA!$C$19,CR_3_GRIGLIA!$B$19,CR_3_GRIGLIA!$B$20)))))","v":""},"",{"$f":"+IF(D216=\"\",\"\",IF(C216=\"\",0,INDEX(CR_3_GRIGLIA!$D$3:$K$13,+VLOOKUP(B216,CR_3_GRIGLIA!$A$3:$C$13,3,FALSE),+HLOOKUP(D216,CR_3_GRIGLIA!$D$1:$K$2,2,FALSE))))","v":""},""]
[216,null,{"$f":"+IF(B217=\"\",\"\",VLOOKUP(B217,CR_3_GRIGLIA!$A$3:$B$13,2,FALSE))","v":""},null,null,null,{"$f":"+IF(I217=\"\",\"\",IF(I217=CR_3_GRIGLIA!$C$16,CR_3_GRIGLIA!$B$16,IF(I217=CR_3_GRIGLIA!$C$17,CR_3_GRIGLIA!$B$17,IF(I217=CR_3_GRIGLIA!$C$18,CR_3_GRIGLIA!$B$18,IF(I217=CR_3_GRIGLIA!$C$19,CR_3_GRIGLIA!$B$19,CR_3_GRIGLIA!$B$20)))))","v":""},"",{"$f":"+IF(D217=\"\",\"\",IF(C217=\"\",0,INDEX(CR_3_GRIGLIA!$D$3:$K$13,+VLOOKUP(B217,CR_3_GRIGLIA!$A$3:$C$13,3,FALSE),+HLOOKUP(D217,CR_3_GRIGLIA!$D$1:$K$2,2,FALSE))))","v":""},""]
[217,null,{"$f":"+IF(B218=\"\",\"\",VLOOKUP(B218,CR_3_GRIGLIA!$A$3:$B$13,2,FALSE))","v":""},null,null,null,{"$f":"+IF(I218=\"\",\"\",IF(I218=CR_3_GRIGLIA!$C$16,CR_3_GRIGLIA!$B$16,IF(I218=CR_3_GRIGLIA!$C$17,CR_3_GRIGLIA!$B$17,IF(I218=CR_3_GRIGLIA!$C$18,CR_3_GRIGLIA!$B$18,IF(I218=CR_3_GRIGLIA!$C$19,CR_3_GRIGLIA!$B$19,CR_3_GRIGLIA!$B$20)))))","v":""},"",{"$f":"+IF(D218=\"\",\"\",IF(C218=\"\",0,INDEX(CR_3_GRIGLIA!$D$3:$K$13,+VLOOKUP(B218,CR_3_GRIGLIA!$A$3:$C$13,3,FALSE),+HLOOKUP(D218,CR_3_GRIGLIA!$D$1:$K$2,2,FALSE))))","v":""},""]
[218,null,{"$f":"+IF(B219=\"\",\"\",VLOOKUP(B219,CR_3_GRIGLIA!$A$3:$B$13,2,FALSE))","v":""},null,null,null,{"$f":"+IF(I219=\"\",\"\",IF(I219=CR_3_GRIGLIA!$C$16,CR_3_GRIGLIA!$B$16,IF(I219=CR_3_GRIGLIA!$C$17,CR_3_GRIGLIA!$B$17,IF(I219=CR_3_GRIGLIA!$C$18,CR_3_GRIGLIA!$B$18,IF(I219=CR_3_GRIGLIA!$C$19,CR_3_GRIGLIA!$B$19,CR_3_GRIGLIA!$B$20)))))","v":""},"",{"$f":"+IF(D219=\"\",\"\",IF(C219=\"\",0,INDEX(CR_3_GRIGLIA!$D$3:$K$13,+VLOOKUP(B219,CR_3_GRIGLIA!$A$3:$C$13,3,FALSE),+HLOOKUP(D219,CR_3_GRIGLIA!$D$1:$K$2,2,FALSE))))","v":""},""]
[219,null,{"$f":"+IF(B220=\"\",\"\",VLOOKUP(B220,CR_3_GRIGLIA!$A$3:$B$13,2,FALSE))","v":""},null,null,null,{"$f":"+IF(I220=\"\",\"\",IF(I220=CR_3_GRIGLIA!$C$16,CR_3_GRIGLIA!$B$16,IF(I220=CR_3_GRIGLIA!$C$17,CR_3_GRIGLIA!$B$17,IF(I220=CR_3_GRIGLIA!$C$18,CR_3_GRIGLIA!$B$18,IF(I220=CR_3_GRIGLIA!$C$19,CR_3_GRIGLIA!$B$19,CR_3_GRIGLIA!$B$20)))))","v":""},"",{"$f":"+IF(D220=\"\",\"\",IF(C220=\"\",0,INDEX(CR_3_GRIGLIA!$D$3:$K$13,+VLOOKUP(B220,CR_3_GRIGLIA!$A$3:$C$13,3,FALSE),+HLOOKUP(D220,CR_3_GRIGLIA!$D$1:$K$2,2,FALSE))))","v":""},""]
[220,null,{"$f":"+IF(B221=\"\",\"\",VLOOKUP(B221,CR_3_GRIGLIA!$A$3:$B$13,2,FALSE))","v":""},null,null,null,{"$f":"+IF(I221=\"\",\"\",IF(I221=CR_3_GRIGLIA!$C$16,CR_3_GRIGLIA!$B$16,IF(I221=CR_3_GRIGLIA!$C$17,CR_3_GRIGLIA!$B$17,IF(I221=CR_3_GRIGLIA!$C$18,CR_3_GRIGLIA!$B$18,IF(I221=CR_3_GRIGLIA!$C$19,CR_3_GRIGLIA!$B$19,CR_3_GRIGLIA!$B$20)))))","v":""},"",{"$f":"+IF(D221=\"\",\"\",IF(C221=\"\",0,INDEX(CR_3_GRIGLIA!$D$3:$K$13,+VLOOKUP(B221,CR_3_GRIGLIA!$A$3:$C$13,3,FALSE),+HLOOKUP(D221,CR_3_GRIGLIA!$D$1:$K$2,2,FALSE))))","v":""},""]
[221,null,{"$f":"+IF(B222=\"\",\"\",VLOOKUP(B222,CR_3_GRIGLIA!$A$3:$B$13,2,FALSE))","v":""},null,null,null,{"$f":"+IF(I222=\"\",\"\",IF(I222=CR_3_GRIGLIA!$C$16,CR_3_GRIGLIA!$B$16,IF(I222=CR_3_GRIGLIA!$C$17,CR_3_GRIGLIA!$B$17,IF(I222=CR_3_GRIGLIA!$C$18,CR_3_GRIGLIA!$B$18,IF(I222=CR_3_GRIGLIA!$C$19,CR_3_GRIGLIA!$B$19,CR_3_GRIGLIA!$B$20)))))","v":""},"",{"$f":"+IF(D222=\"\",\"\",IF(C222=\"\",0,INDEX(CR_3_GRIGLIA!$D$3:$K$13,+VLOOKUP(B222,CR_3_GRIGLIA!$A$3:$C$13,3,FALSE),+HLOOKUP(D222,CR_3_GRIGLIA!$D$1:$K$2,2,FALSE))))","v":""},""]
[222,null,{"$f":"+IF(B223=\"\",\"\",VLOOKUP(B223,CR_3_GRIGLIA!$A$3:$B$13,2,FALSE))","v":""},null,null,null,{"$f":"+IF(I223=\"\",\"\",IF(I223=CR_3_GRIGLIA!$C$16,CR_3_GRIGLIA!$B$16,IF(I223=CR_3_GRIGLIA!$C$17,CR_3_GRIGLIA!$B$17,IF(I223=CR_3_GRIGLIA!$C$18,CR_3_GRIGLIA!$B$18,IF(I223=CR_3_GRIGLIA!$C$19,CR_3_GRIGLIA!$B$19,CR_3_GRIGLIA!$B$20)))))","v":""},"",{"$f":"+IF(D223=\"\",\"\",IF(C223=\"\",0,INDEX(CR_3_GRIGLIA!$D$3:$K$13,+VLOOKUP(B223,CR_3_GRIGLIA!$A$3:$C$13,3,FALSE),+HLOOKUP(D223,CR_3_GRIGLIA!$D$1:$K$2,2,FALSE))))","v":""},""]
[223,null,{"$f":"+IF(B224=\"\",\"\",VLOOKUP(B224,CR_3_GRIGLIA!$A$3:$B$13,2,FALSE))","v":""},null,null,null,{"$f":"+IF(I224=\"\",\"\",IF(I224=CR_3_GRIGLIA!$C$16,CR_3_GRIGLIA!$B$16,IF(I224=CR_3_GRIGLIA!$C$17,CR_3_GRIGLIA!$B$17,IF(I224=CR_3_GRIGLIA!$C$18,CR_3_GRIGLIA!$B$18,IF(I224=CR_3_GRIGLIA!$C$19,CR_3_GRIGLIA!$B$19,CR_3_GRIGLIA!$B$20)))))","v":""},"",{"$f":"+IF(D224=\"\",\"\",IF(C224=\"\",0,INDEX(CR_3_GRIGLIA!$D$3:$K$13,+VLOOKUP(B224,CR_3_GRIGLIA!$A$3:$C$13,3,FALSE),+HLOOKUP(D224,CR_3_GRIGLIA!$D$1:$K$2,2,FALSE))))","v":""},""]
[224,null,{"$f":"+IF(B225=\"\",\"\",VLOOKUP(B225,CR_3_GRIGLIA!$A$3:$B$13,2,FALSE))","v":""},null,null,null,{"$f":"+IF(I225=\"\",\"\",IF(I225=CR_3_GRIGLIA!$C$16,CR_3_GRIGLIA!$B$16,IF(I225=CR_3_GRIGLIA!$C$17,CR_3_GRIGLIA!$B$17,IF(I225=CR_3_GRIGLIA!$C$18,CR_3_GRIGLIA!$B$18,IF(I225=CR_3_GRIGLIA!$C$19,CR_3_GRIGLIA!$B$19,CR_3_GRIGLIA!$B$20)))))","v":""},"",{"$f":"+IF(D225=\"\",\"\",IF(C225=\"\",0,INDEX(CR_3_GRIGLIA!$D$3:$K$13,+VLOOKUP(B225,CR_3_GRIGLIA!$A$3:$C$13,3,FALSE),+HLOOKUP(D225,CR_3_GRIGLIA!$D$1:$K$2,2,FALSE))))","v":""},""]
[225,null,{"$f":"+IF(B226=\"\",\"\",VLOOKUP(B226,CR_3_GRIGLIA!$A$3:$B$13,2,FALSE))","v":""},null,null,null,{"$f":"+IF(I226=\"\",\"\",IF(I226=CR_3_GRIGLIA!$C$16,CR_3_GRIGLIA!$B$16,IF(I226=CR_3_GRIGLIA!$C$17,CR_3_GRIGLIA!$B$17,IF(I226=CR_3_GRIGLIA!$C$18,CR_3_GRIGLIA!$B$18,IF(I226=CR_3_GRIGLIA!$C$19,CR_3_GRIGLIA!$B$19,CR_3_GRIGLIA!$B$20)))))","v":""},"",{"$f":"+IF(D226=\"\",\"\",IF(C226=\"\",0,INDEX(CR_3_GRIGLIA!$D$3:$K$13,+VLOOKUP(B226,CR_3_GRIGLIA!$A$3:$C$13,3,FALSE),+HLOOKUP(D226,CR_3_GRIGLIA!$D$1:$K$2,2,FALSE))))","v":""},""]
[226,null,{"$f":"+IF(B227=\"\",\"\",VLOOKUP(B227,CR_3_GRIGLIA!$A$3:$B$13,2,FALSE))","v":""},null,null,null,{"$f":"+IF(I227=\"\",\"\",IF(I227=CR_3_GRIGLIA!$C$16,CR_3_GRIGLIA!$B$16,IF(I227=CR_3_GRIGLIA!$C$17,CR_3_GRIGLIA!$B$17,IF(I227=CR_3_GRIGLIA!$C$18,CR_3_GRIGLIA!$B$18,IF(I227=CR_3_GRIGLIA!$C$19,CR_3_GRIGLIA!$B$19,CR_3_GRIGLIA!$B$20)))))","v":""},"",{"$f":"+IF(D227=\"\",\"\",IF(C227=\"\",0,INDEX(CR_3_GRIGLIA!$D$3:$K$13,+VLOOKUP(B227,CR_3_GRIGLIA!$A$3:$C$13,3,FALSE),+HLOOKUP(D227,CR_3_GRIGLIA!$D$1:$K$2,2,FALSE))))","v":""},""]
[227,null,{"$f":"+IF(B228=\"\",\"\",VLOOKUP(B228,CR_3_GRIGLIA!$A$3:$B$13,2,FALSE))","v":""},null,null,null,{"$f":"+IF(I228=\"\",\"\",IF(I228=CR_3_GRIGLIA!$C$16,CR_3_GRIGLIA!$B$16,IF(I228=CR_3_GRIGLIA!$C$17,CR_3_GRIGLIA!$B$17,IF(I228=CR_3_GRIGLIA!$C$18,CR_3_GRIGLIA!$B$18,IF(I228=CR_3_GRIGLIA!$C$19,CR_3_GRIGLIA!$B$19,CR_3_GRIGLIA!$B$20)))))","v":""},"",{"$f":"+IF(D228=\"\",\"\",IF(C228=\"\",0,INDEX(CR_3_GRIGLIA!$D$3:$K$13,+VLOOKUP(B228,CR_3_GRIGLIA!$A$3:$C$13,3,FALSE),+HLOOKUP(D228,CR_3_GRIGLIA!$D$1:$K$2,2,FALSE))))","v":""},""]
[228,null,{"$f":"+IF(B229=\"\",\"\",VLOOKUP(B229,CR_3_GRIGLIA!$A$3:$B$13,2,FALSE))","v":""},null,null,null,{"$f":"+IF(I229=\"\",\"\",IF(I229=CR_3_GRIGLIA!$C$16,CR_3_GRIGLIA!$B$16,IF(I229=CR_3_GRIGLIA!$C$17,CR_3_GRIGLIA!$B$17,IF(I229=CR_3_GRIGLIA!$C$18,CR_3_GRIGLIA!$B$18,IF(I229=CR_3_GRIGLIA!$C$19,CR_3_GRIGLIA!$B$19,CR_3_GRIGLIA!$B$20)))))","v":""},"",{"$f":"+IF(D229=\"\",\"\",IF(C229=\"\",0,INDEX(CR_3_GRIGLIA!$D$3:$K$13,+VLOOKUP(B229,CR_3_GRIGLIA!$A$3:$C$13,3,FALSE),+HLOOKUP(D229,CR_3_GRIGLIA!$D$1:$K$2,2,FALSE))))","v":""},""]
[229,null,{"$f":"+IF(B230=\"\",\"\",VLOOKUP(B230,CR_3_GRIGLIA!$A$3:$B$13,2,FALSE))","v":""},null,null,null,{"$f":"+IF(I230=\"\",\"\",IF(I230=CR_3_GRIGLIA!$C$16,CR_3_GRIGLIA!$B$16,IF(I230=CR_3_GRIGLIA!$C$17,CR_3_GRIGLIA!$B$17,IF(I230=CR_3_GRIGLIA!$C$18,CR_3_GRIGLIA!$B$18,IF(I230=CR_3_GRIGLIA!$C$19,CR_3_GRIGLIA!$B$19,CR_3_GRIGLIA!$B$20)))))","v":""},"",{"$f":"+IF(D230=\"\",\"\",IF(C230=\"\",0,INDEX(CR_3_GRIGLIA!$D$3:$K$13,+VLOOKUP(B230,CR_3_GRIGLIA!$A$3:$C$13,3,FALSE),+HLOOKUP(D230,CR_3_GRIGLIA!$D$1:$K$2,2,FALSE))))","v":""},""]
[230,null,{"$f":"+IF(B231=\"\",\"\",VLOOKUP(B231,CR_3_GRIGLIA!$A$3:$B$13,2,FALSE))","v":""},null,null,null,{"$f":"+IF(I231=\"\",\"\",IF(I231=CR_3_GRIGLIA!$C$16,CR_3_GRIGLIA!$B$16,IF(I231=CR_3_GRIGLIA!$C$17,CR_3_GRIGLIA!$B$17,IF(I231=CR_3_GRIGLIA!$C$18,CR_3_GRIGLIA!$B$18,IF(I231=CR_3_GRIGLIA!$C$19,CR_3_GRIGLIA!$B$19,CR_3_GRIGLIA!$B$20)))))","v":""},"",{"$f":"+IF(D231=\"\",\"\",IF(C231=\"\",0,INDEX(CR_3_GRIGLIA!$D$3:$K$13,+VLOOKUP(B231,CR_3_GRIGLIA!$A$3:$C$13,3,FALSE),+HLOOKUP(D231,CR_3_GRIGLIA!$D$1:$K$2,2,FALSE))))","v":""},""]
[231,null,{"$f":"+IF(B232=\"\",\"\",VLOOKUP(B232,CR_3_GRIGLIA!$A$3:$B$13,2,FALSE))","v":""},null,null,null,{"$f":"+IF(I232=\"\",\"\",IF(I232=CR_3_GRIGLIA!$C$16,CR_3_GRIGLIA!$B$16,IF(I232=CR_3_GRIGLIA!$C$17,CR_3_GRIGLIA!$B$17,IF(I232=CR_3_GRIGLIA!$C$18,CR_3_GRIGLIA!$B$18,IF(I232=CR_3_GRIGLIA!$C$19,CR_3_GRIGLIA!$B$19,CR_3_GRIGLIA!$B$20)))))","v":""},"",{"$f":"+IF(D232=\"\",\"\",IF(C232=\"\",0,INDEX(CR_3_GRIGLIA!$D$3:$K$13,+VLOOKUP(B232,CR_3_GRIGLIA!$A$3:$C$13,3,FALSE),+HLOOKUP(D232,CR_3_GRIGLIA!$D$1:$K$2,2,FALSE))))","v":""},""]
[232,null,{"$f":"+IF(B233=\"\",\"\",VLOOKUP(B233,CR_3_GRIGLIA!$A$3:$B$13,2,FALSE))","v":""},null,null,null,{"$f":"+IF(I233=\"\",\"\",IF(I233=CR_3_GRIGLIA!$C$16,CR_3_GRIGLIA!$B$16,IF(I233=CR_3_GRIGLIA!$C$17,CR_3_GRIGLIA!$B$17,IF(I233=CR_3_GRIGLIA!$C$18,CR_3_GRIGLIA!$B$18,IF(I233=CR_3_GRIGLIA!$C$19,CR_3_GRIGLIA!$B$19,CR_3_GRIGLIA!$B$20)))))","v":""},"",{"$f":"+IF(D233=\"\",\"\",IF(C233=\"\",0,INDEX(CR_3_GRIGLIA!$D$3:$K$13,+VLOOKUP(B233,CR_3_GRIGLIA!$A$3:$C$13,3,FALSE),+HLOOKUP(D233,CR_3_GRIGLIA!$D$1:$K$2,2,FALSE))))","v":""},""]
[233,null,{"$f":"+IF(B234=\"\",\"\",VLOOKUP(B234,CR_3_GRIGLIA!$A$3:$B$13,2,FALSE))","v":""},null,null,null,{"$f":"+IF(I234=\"\",\"\",IF(I234=CR_3_GRIGLIA!$C$16,CR_3_GRIGLIA!$B$16,IF(I234=CR_3_GRIGLIA!$C$17,CR_3_GRIGLIA!$B$17,IF(I234=CR_3_GRIGLIA!$C$18,CR_3_GRIGLIA!$B$18,IF(I234=CR_3_GRIGLIA!$C$19,CR_3_GRIGLIA!$B$19,CR_3_GRIGLIA!$B$20)))))","v":""},"",{"$f":"+IF(D234=\"\",\"\",IF(C234=\"\",0,INDEX(CR_3_GRIGLIA!$D$3:$K$13,+VLOOKUP(B234,CR_3_GRIGLIA!$A$3:$C$13,3,FALSE),+HLOOKUP(D234,CR_3_GRIGLIA!$D$1:$K$2,2,FALSE))))","v":""},""]
[234,null,{"$f":"+IF(B235=\"\",\"\",VLOOKUP(B235,CR_3_GRIGLIA!$A$3:$B$13,2,FALSE))","v":""},null,null,null,{"$f":"+IF(I235=\"\",\"\",IF(I235=CR_3_GRIGLIA!$C$16,CR_3_GRIGLIA!$B$16,IF(I235=CR_3_GRIGLIA!$C$17,CR_3_GRIGLIA!$B$17,IF(I235=CR_3_GRIGLIA!$C$18,CR_3_GRIGLIA!$B$18,IF(I235=CR_3_GRIGLIA!$C$19,CR_3_GRIGLIA!$B$19,CR_3_GRIGLIA!$B$20)))))","v":""},"",{"$f":"+IF(D235=\"\",\"\",IF(C235=\"\",0,INDEX(CR_3_GRIGLIA!$D$3:$K$13,+VLOOKUP(B235,CR_3_GRIGLIA!$A$3:$C$13,3,FALSE),+HLOOKUP(D235,CR_3_GRIGLIA!$D$1:$K$2,2,FALSE))))","v":""},""]
[235,null,{"$f":"+IF(B236=\"\",\"\",VLOOKUP(B236,CR_3_GRIGLIA!$A$3:$B$13,2,FALSE))","v":""},null,null,null,{"$f":"+IF(I236=\"\",\"\",IF(I236=CR_3_GRIGLIA!$C$16,CR_3_GRIGLIA!$B$16,IF(I236=CR_3_GRIGLIA!$C$17,CR_3_GRIGLIA!$B$17,IF(I236=CR_3_GRIGLIA!$C$18,CR_3_GRIGLIA!$B$18,IF(I236=CR_3_GRIGLIA!$C$19,CR_3_GRIGLIA!$B$19,CR_3_GRIGLIA!$B$20)))))","v":""},"",{"$f":"+IF(D236=\"\",\"\",IF(C236=\"\",0,INDEX(CR_3_GRIGLIA!$D$3:$K$13,+VLOOKUP(B236,CR_3_GRIGLIA!$A$3:$C$13,3,FALSE),+HLOOKUP(D236,CR_3_GRIGLIA!$D$1:$K$2,2,FALSE))))","v":""},""]
[236,null,{"$f":"+IF(B237=\"\",\"\",VLOOKUP(B237,CR_3_GRIGLIA!$A$3:$B$13,2,FALSE))","v":""},null,null,null,{"$f":"+IF(I237=\"\",\"\",IF(I237=CR_3_GRIGLIA!$C$16,CR_3_GRIGLIA!$B$16,IF(I237=CR_3_GRIGLIA!$C$17,CR_3_GRIGLIA!$B$17,IF(I237=CR_3_GRIGLIA!$C$18,CR_3_GRIGLIA!$B$18,IF(I237=CR_3_GRIGLIA!$C$19,CR_3_GRIGLIA!$B$19,CR_3_GRIGLIA!$B$20)))))","v":""},"",{"$f":"+IF(D237=\"\",\"\",IF(C237=\"\",0,INDEX(CR_3_GRIGLIA!$D$3:$K$13,+VLOOKUP(B237,CR_3_GRIGLIA!$A$3:$C$13,3,FALSE),+HLOOKUP(D237,CR_3_GRIGLIA!$D$1:$K$2,2,FALSE))))","v":""},""]
[237,null,{"$f":"+IF(B238=\"\",\"\",VLOOKUP(B238,CR_3_GRIGLIA!$A$3:$B$13,2,FALSE))","v":""},null,null,null,{"$f":"+IF(I238=\"\",\"\",IF(I238=CR_3_GRIGLIA!$C$16,CR_3_GRIGLIA!$B$16,IF(I238=CR_3_GRIGLIA!$C$17,CR_3_GRIGLIA!$B$17,IF(I238=CR_3_GRIGLIA!$C$18,CR_3_GRIGLIA!$B$18,IF(I238=CR_3_GRIGLIA!$C$19,CR_3_GRIGLIA!$B$19,CR_3_GRIGLIA!$B$20)))))","v":""},"",{"$f":"+IF(D238=\"\",\"\",IF(C238=\"\",0,INDEX(CR_3_GRIGLIA!$D$3:$K$13,+VLOOKUP(B238,CR_3_GRIGLIA!$A$3:$C$13,3,FALSE),+HLOOKUP(D238,CR_3_GRIGLIA!$D$1:$K$2,2,FALSE))))","v":""},""]
[238,null,{"$f":"+IF(B239=\"\",\"\",VLOOKUP(B239,CR_3_GRIGLIA!$A$3:$B$13,2,FALSE))","v":""},null,null,null,{"$f":"+IF(I239=\"\",\"\",IF(I239=CR_3_GRIGLIA!$C$16,CR_3_GRIGLIA!$B$16,IF(I239=CR_3_GRIGLIA!$C$17,CR_3_GRIGLIA!$B$17,IF(I239=CR_3_GRIGLIA!$C$18,CR_3_GRIGLIA!$B$18,IF(I239=CR_3_GRIGLIA!$C$19,CR_3_GRIGLIA!$B$19,CR_3_GRIGLIA!$B$20)))))","v":""},"",{"$f":"+IF(D239=\"\",\"\",IF(C239=\"\",0,INDEX(CR_3_GRIGLIA!$D$3:$K$13,+VLOOKUP(B239,CR_3_GRIGLIA!$A$3:$C$13,3,FALSE),+HLOOKUP(D239,CR_3_GRIGLIA!$D$1:$K$2,2,FALSE))))","v":""},""]
[239,null,{"$f":"+IF(B240=\"\",\"\",VLOOKUP(B240,CR_3_GRIGLIA!$A$3:$B$13,2,FALSE))","v":""},null,null,null,{"$f":"+IF(I240=\"\",\"\",IF(I240=CR_3_GRIGLIA!$C$16,CR_3_GRIGLIA!$B$16,IF(I240=CR_3_GRIGLIA!$C$17,CR_3_GRIGLIA!$B$17,IF(I240=CR_3_GRIGLIA!$C$18,CR_3_GRIGLIA!$B$18,IF(I240=CR_3_GRIGLIA!$C$19,CR_3_GRIGLIA!$B$19,CR_3_GRIGLIA!$B$20)))))","v":""},"",{"$f":"+IF(D240=\"\",\"\",IF(C240=\"\",0,INDEX(CR_3_GRIGLIA!$D$3:$K$13,+VLOOKUP(B240,CR_3_GRIGLIA!$A$3:$C$13,3,FALSE),+HLOOKUP(D240,CR_3_GRIGLIA!$D$1:$K$2,2,FALSE))))","v":""},""]
[240,null,{"$f":"+IF(B241=\"\",\"\",VLOOKUP(B241,CR_3_GRIGLIA!$A$3:$B$13,2,FALSE))","v":""},null,null,null,{"$f":"+IF(I241=\"\",\"\",IF(I241=CR_3_GRIGLIA!$C$16,CR_3_GRIGLIA!$B$16,IF(I241=CR_3_GRIGLIA!$C$17,CR_3_GRIGLIA!$B$17,IF(I241=CR_3_GRIGLIA!$C$18,CR_3_GRIGLIA!$B$18,IF(I241=CR_3_GRIGLIA!$C$19,CR_3_GRIGLIA!$B$19,CR_3_GRIGLIA!$B$20)))))","v":""},"",{"$f":"+IF(D241=\"\",\"\",IF(C241=\"\",0,INDEX(CR_3_GRIGLIA!$D$3:$K$13,+VLOOKUP(B241,CR_3_GRIGLIA!$A$3:$C$13,3,FALSE),+HLOOKUP(D241,CR_3_GRIGLIA!$D$1:$K$2,2,FALSE))))","v":""},""]
[241,null,{"$f":"+IF(B242=\"\",\"\",VLOOKUP(B242,CR_3_GRIGLIA!$A$3:$B$13,2,FALSE))","v":""},null,null,null,{"$f":"+IF(I242=\"\",\"\",IF(I242=CR_3_GRIGLIA!$C$16,CR_3_GRIGLIA!$B$16,IF(I242=CR_3_GRIGLIA!$C$17,CR_3_GRIGLIA!$B$17,IF(I242=CR_3_GRIGLIA!$C$18,CR_3_GRIGLIA!$B$18,IF(I242=CR_3_GRIGLIA!$C$19,CR_3_GRIGLIA!$B$19,CR_3_GRIGLIA!$B$20)))))","v":""},"",{"$f":"+IF(D242=\"\",\"\",IF(C242=\"\",0,INDEX(CR_3_GRIGLIA!$D$3:$K$13,+VLOOKUP(B242,CR_3_GRIGLIA!$A$3:$C$13,3,FALSE),+HLOOKUP(D242,CR_3_GRIGLIA!$D$1:$K$2,2,FALSE))))","v":""},""]
[242,null,{"$f":"+IF(B243=\"\",\"\",VLOOKUP(B243,CR_3_GRIGLIA!$A$3:$B$13,2,FALSE))","v":""},null,null,null,{"$f":"+IF(I243=\"\",\"\",IF(I243=CR_3_GRIGLIA!$C$16,CR_3_GRIGLIA!$B$16,IF(I243=CR_3_GRIGLIA!$C$17,CR_3_GRIGLIA!$B$17,IF(I243=CR_3_GRIGLIA!$C$18,CR_3_GRIGLIA!$B$18,IF(I243=CR_3_GRIGLIA!$C$19,CR_3_GRIGLIA!$B$19,CR_3_GRIGLIA!$B$20)))))","v":""},"",{"$f":"+IF(D243=\"\",\"\",IF(C243=\"\",0,INDEX(CR_3_GRIGLIA!$D$3:$K$13,+VLOOKUP(B243,CR_3_GRIGLIA!$A$3:$C$13,3,FALSE),+HLOOKUP(D243,CR_3_GRIGLIA!$D$1:$K$2,2,FALSE))))","v":""},""]
[243,null,{"$f":"+IF(B244=\"\",\"\",VLOOKUP(B244,CR_3_GRIGLIA!$A$3:$B$13,2,FALSE))","v":""},null,null,null,{"$f":"+IF(I244=\"\",\"\",IF(I244=CR_3_GRIGLIA!$C$16,CR_3_GRIGLIA!$B$16,IF(I244=CR_3_GRIGLIA!$C$17,CR_3_GRIGLIA!$B$17,IF(I244=CR_3_GRIGLIA!$C$18,CR_3_GRIGLIA!$B$18,IF(I244=CR_3_GRIGLIA!$C$19,CR_3_GRIGLIA!$B$19,CR_3_GRIGLIA!$B$20)))))","v":""},"",{"$f":"+IF(D244=\"\",\"\",IF(C244=\"\",0,INDEX(CR_3_GRIGLIA!$D$3:$K$13,+VLOOKUP(B244,CR_3_GRIGLIA!$A$3:$C$13,3,FALSE),+HLOOKUP(D244,CR_3_GRIGLIA!$D$1:$K$2,2,FALSE))))","v":""},""]
[244,null,{"$f":"+IF(B245=\"\",\"\",VLOOKUP(B245,CR_3_GRIGLIA!$A$3:$B$13,2,FALSE))","v":""},null,null,null,{"$f":"+IF(I245=\"\",\"\",IF(I245=CR_3_GRIGLIA!$C$16,CR_3_GRIGLIA!$B$16,IF(I245=CR_3_GRIGLIA!$C$17,CR_3_GRIGLIA!$B$17,IF(I245=CR_3_GRIGLIA!$C$18,CR_3_GRIGLIA!$B$18,IF(I245=CR_3_GRIGLIA!$C$19,CR_3_GRIGLIA!$B$19,CR_3_GRIGLIA!$B$20)))))","v":""},"",{"$f":"+IF(D245=\"\",\"\",IF(C245=\"\",0,INDEX(CR_3_GRIGLIA!$D$3:$K$13,+VLOOKUP(B245,CR_3_GRIGLIA!$A$3:$C$13,3,FALSE),+HLOOKUP(D245,CR_3_GRIGLIA!$D$1:$K$2,2,FALSE))))","v":""},""]
[245,null,{"$f":"+IF(B246=\"\",\"\",VLOOKUP(B246,CR_3_GRIGLIA!$A$3:$B$13,2,FALSE))","v":""},null,null,null,{"$f":"+IF(I246=\"\",\"\",IF(I246=CR_3_GRIGLIA!$C$16,CR_3_GRIGLIA!$B$16,IF(I246=CR_3_GRIGLIA!$C$17,CR_3_GRIGLIA!$B$17,IF(I246=CR_3_GRIGLIA!$C$18,CR_3_GRIGLIA!$B$18,IF(I246=CR_3_GRIGLIA!$C$19,CR_3_GRIGLIA!$B$19,CR_3_GRIGLIA!$B$20)))))","v":""},"",{"$f":"+IF(D246=\"\",\"\",IF(C246=\"\",0,INDEX(CR_3_GRIGLIA!$D$3:$K$13,+VLOOKUP(B246,CR_3_GRIGLIA!$A$3:$C$13,3,FALSE),+HLOOKUP(D246,CR_3_GRIGLIA!$D$1:$K$2,2,FALSE))))","v":""},""]
[246,null,{"$f":"+IF(B247=\"\",\"\",VLOOKUP(B247,CR_3_GRIGLIA!$A$3:$B$13,2,FALSE))","v":""},null,null,null,{"$f":"+IF(I247=\"\",\"\",IF(I247=CR_3_GRIGLIA!$C$16,CR_3_GRIGLIA!$B$16,IF(I247=CR_3_GRIGLIA!$C$17,CR_3_GRIGLIA!$B$17,IF(I247=CR_3_GRIGLIA!$C$18,CR_3_GRIGLIA!$B$18,IF(I247=CR_3_GRIGLIA!$C$19,CR_3_GRIGLIA!$B$19,CR_3_GRIGLIA!$B$20)))))","v":""},"",{"$f":"+IF(D247=\"\",\"\",IF(C247=\"\",0,INDEX(CR_3_GRIGLIA!$D$3:$K$13,+VLOOKUP(B247,CR_3_GRIGLIA!$A$3:$C$13,3,FALSE),+HLOOKUP(D247,CR_3_GRIGLIA!$D$1:$K$2,2,FALSE))))","v":""},""]
[247,null,{"$f":"+IF(B248=\"\",\"\",VLOOKUP(B248,CR_3_GRIGLIA!$A$3:$B$13,2,FALSE))","v":""},null,null,null,{"$f":"+IF(I248=\"\",\"\",IF(I248=CR_3_GRIGLIA!$C$16,CR_3_GRIGLIA!$B$16,IF(I248=CR_3_GRIGLIA!$C$17,CR_3_GRIGLIA!$B$17,IF(I248=CR_3_GRIGLIA!$C$18,CR_3_GRIGLIA!$B$18,IF(I248=CR_3_GRIGLIA!$C$19,CR_3_GRIGLIA!$B$19,CR_3_GRIGLIA!$B$20)))))","v":""},"",{"$f":"+IF(D248=\"\",\"\",IF(C248=\"\",0,INDEX(CR_3_GRIGLIA!$D$3:$K$13,+VLOOKUP(B248,CR_3_GRIGLIA!$A$3:$C$13,3,FALSE),+HLOOKUP(D248,CR_3_GRIGLIA!$D$1:$K$2,2,FALSE))))","v":""},""]
[248,null,{"$f":"+IF(B249=\"\",\"\",VLOOKUP(B249,CR_3_GRIGLIA!$A$3:$B$13,2,FALSE))","v":""},null,null,null,{"$f":"+IF(I249=\"\",\"\",IF(I249=CR_3_GRIGLIA!$C$16,CR_3_GRIGLIA!$B$16,IF(I249=CR_3_GRIGLIA!$C$17,CR_3_GRIGLIA!$B$17,IF(I249=CR_3_GRIGLIA!$C$18,CR_3_GRIGLIA!$B$18,IF(I249=CR_3_GRIGLIA!$C$19,CR_3_GRIGLIA!$B$19,CR_3_GRIGLIA!$B$20)))))","v":""},"",{"$f":"+IF(D249=\"\",\"\",IF(C249=\"\",0,INDEX(CR_3_GRIGLIA!$D$3:$K$13,+VLOOKUP(B249,CR_3_GRIGLIA!$A$3:$C$13,3,FALSE),+HLOOKUP(D249,CR_3_GRIGLIA!$D$1:$K$2,2,FALSE))))","v":""},""]
[249,null,{"$f":"+IF(B250=\"\",\"\",VLOOKUP(B250,CR_3_GRIGLIA!$A$3:$B$13,2,FALSE))","v":""},null,null,null,{"$f":"+IF(I250=\"\",\"\",IF(I250=CR_3_GRIGLIA!$C$16,CR_3_GRIGLIA!$B$16,IF(I250=CR_3_GRIGLIA!$C$17,CR_3_GRIGLIA!$B$17,IF(I250=CR_3_GRIGLIA!$C$18,CR_3_GRIGLIA!$B$18,IF(I250=CR_3_GRIGLIA!$C$19,CR_3_GRIGLIA!$B$19,CR_3_GRIGLIA!$B$20)))))","v":""},"",{"$f":"+IF(D250=\"\",\"\",IF(C250=\"\",0,INDEX(CR_3_GRIGLIA!$D$3:$K$13,+VLOOKUP(B250,CR_3_GRIGLIA!$A$3:$C$13,3,FALSE),+HLOOKUP(D250,CR_3_GRIGLIA!$D$1:$K$2,2,FALSE))))","v":""},""]
[250,null,{"$f":"+IF(B251=\"\",\"\",VLOOKUP(B251,CR_3_GRIGLIA!$A$3:$B$13,2,FALSE))","v":""},null,null,null,{"$f":"+IF(I251=\"\",\"\",IF(I251=CR_3_GRIGLIA!$C$16,CR_3_GRIGLIA!$B$16,IF(I251=CR_3_GRIGLIA!$C$17,CR_3_GRIGLIA!$B$17,IF(I251=CR_3_GRIGLIA!$C$18,CR_3_GRIGLIA!$B$18,IF(I251=CR_3_GRIGLIA!$C$19,CR_3_GRIGLIA!$B$19,CR_3_GRIGLIA!$B$20)))))","v":""},"",{"$f":"+IF(D251=\"\",\"\",IF(C251=\"\",0,INDEX(CR_3_GRIGLIA!$D$3:$K$13,+VLOOKUP(B251,CR_3_GRIGLIA!$A$3:$C$13,3,FALSE),+HLOOKUP(D251,CR_3_GRIGLIA!$D$1:$K$2,2,FALSE))))","v":""},""]
[251,null,{"$f":"+IF(B252=\"\",\"\",VLOOKUP(B252,CR_3_GRIGLIA!$A$3:$B$13,2,FALSE))","v":""},null,null,null,{"$f":"+IF(I252=\"\",\"\",IF(I252=CR_3_GRIGLIA!$C$16,CR_3_GRIGLIA!$B$16,IF(I252=CR_3_GRIGLIA!$C$17,CR_3_GRIGLIA!$B$17,IF(I252=CR_3_GRIGLIA!$C$18,CR_3_GRIGLIA!$B$18,IF(I252=CR_3_GRIGLIA!$C$19,CR_3_GRIGLIA!$B$19,CR_3_GRIGLIA!$B$20)))))","v":""},"",{"$f":"+IF(D252=\"\",\"\",IF(C252=\"\",0,INDEX(CR_3_GRIGLIA!$D$3:$K$13,+VLOOKUP(B252,CR_3_GRIGLIA!$A$3:$C$13,3,FALSE),+HLOOKUP(D252,CR_3_GRIGLIA!$D$1:$K$2,2,FALSE))))","v":""},""]
[252,null,{"$f":"+IF(B253=\"\",\"\",VLOOKUP(B253,CR_3_GRIGLIA!$A$3:$B$13,2,FALSE))","v":""},null,null,null,{"$f":"+IF(I253=\"\",\"\",IF(I253=CR_3_GRIGLIA!$C$16,CR_3_GRIGLIA!$B$16,IF(I253=CR_3_GRIGLIA!$C$17,CR_3_GRIGLIA!$B$17,IF(I253=CR_3_GRIGLIA!$C$18,CR_3_GRIGLIA!$B$18,IF(I253=CR_3_GRIGLIA!$C$19,CR_3_GRIGLIA!$B$19,CR_3_GRIGLIA!$B$20)))))","v":""},"",{"$f":"+IF(D253=\"\",\"\",IF(C253=\"\",0,INDEX(CR_3_GRIGLIA!$D$3:$K$13,+VLOOKUP(B253,CR_3_GRIGLIA!$A$3:$C$13,3,FALSE),+HLOOKUP(D253,CR_3_GRIGLIA!$D$1:$K$2,2,FALSE))))","v":""},""]
[253,null,{"$f":"+IF(B254=\"\",\"\",VLOOKUP(B254,CR_3_GRIGLIA!$A$3:$B$13,2,FALSE))","v":""},null,null,null,{"$f":"+IF(I254=\"\",\"\",IF(I254=CR_3_GRIGLIA!$C$16,CR_3_GRIGLIA!$B$16,IF(I254=CR_3_GRIGLIA!$C$17,CR_3_GRIGLIA!$B$17,IF(I254=CR_3_GRIGLIA!$C$18,CR_3_GRIGLIA!$B$18,IF(I254=CR_3_GRIGLIA!$C$19,CR_3_GRIGLIA!$B$19,CR_3_GRIGLIA!$B$20)))))","v":""},"",{"$f":"+IF(D254=\"\",\"\",IF(C254=\"\",0,INDEX(CR_3_GRIGLIA!$D$3:$K$13,+VLOOKUP(B254,CR_3_GRIGLIA!$A$3:$C$13,3,FALSE),+HLOOKUP(D254,CR_3_GRIGLIA!$D$1:$K$2,2,FALSE))))","v":""},""]
[254,null,{"$f":"+IF(B255=\"\",\"\",VLOOKUP(B255,CR_3_GRIGLIA!$A$3:$B$13,2,FALSE))","v":""},null,null,null,{"$f":"+IF(I255=\"\",\"\",IF(I255=CR_3_GRIGLIA!$C$16,CR_3_GRIGLIA!$B$16,IF(I255=CR_3_GRIGLIA!$C$17,CR_3_GRIGLIA!$B$17,IF(I255=CR_3_GRIGLIA!$C$18,CR_3_GRIGLIA!$B$18,IF(I255=CR_3_GRIGLIA!$C$19,CR_3_GRIGLIA!$B$19,CR_3_GRIGLIA!$B$20)))))","v":""},"",{"$f":"+IF(D255=\"\",\"\",IF(C255=\"\",0,INDEX(CR_3_GRIGLIA!$D$3:$K$13,+VLOOKUP(B255,CR_3_GRIGLIA!$A$3:$C$13,3,FALSE),+HLOOKUP(D255,CR_3_GRIGLIA!$D$1:$K$2,2,FALSE))))","v":""},""]
[255,null,{"$f":"+IF(B256=\"\",\"\",VLOOKUP(B256,CR_3_GRIGLIA!$A$3:$B$13,2,FALSE))","v":""},null,null,null,{"$f":"+IF(I256=\"\",\"\",IF(I256=CR_3_GRIGLIA!$C$16,CR_3_GRIGLIA!$B$16,IF(I256=CR_3_GRIGLIA!$C$17,CR_3_GRIGLIA!$B$17,IF(I256=CR_3_GRIGLIA!$C$18,CR_3_GRIGLIA!$B$18,IF(I256=CR_3_GRIGLIA!$C$19,CR_3_GRIGLIA!$B$19,CR_3_GRIGLIA!$B$20)))))","v":""},"",{"$f":"+IF(D256=\"\",\"\",IF(C256=\"\",0,INDEX(CR_3_GRIGLIA!$D$3:$K$13,+VLOOKUP(B256,CR_3_GRIGLIA!$A$3:$C$13,3,FALSE),+HLOOKUP(D256,CR_3_GRIGLIA!$D$1:$K$2,2,FALSE))))","v":""},""]
[256,null,{"$f":"+IF(B257=\"\",\"\",VLOOKUP(B257,CR_3_GRIGLIA!$A$3:$B$13,2,FALSE))","v":""},null,null,null,{"$f":"+IF(I257=\"\",\"\",IF(I257=CR_3_GRIGLIA!$C$16,CR_3_GRIGLIA!$B$16,IF(I257=CR_3_GRIGLIA!$C$17,CR_3_GRIGLIA!$B$17,IF(I257=CR_3_GRIGLIA!$C$18,CR_3_GRIGLIA!$B$18,IF(I257=CR_3_GRIGLIA!$C$19,CR_3_GRIGLIA!$B$19,CR_3_GRIGLIA!$B$20)))))","v":""},"",{"$f":"+IF(D257=\"\",\"\",IF(C257=\"\",0,INDEX(CR_3_GRIGLIA!$D$3:$K$13,+VLOOKUP(B257,CR_3_GRIGLIA!$A$3:$C$13,3,FALSE),+HLOOKUP(D257,CR_3_GRIGLIA!$D$1:$K$2,2,FALSE))))","v":""},""]
[257,null,{"$f":"+IF(B258=\"\",\"\",VLOOKUP(B258,CR_3_GRIGLIA!$A$3:$B$13,2,FALSE))","v":""},null,null,null,{"$f":"+IF(I258=\"\",\"\",IF(I258=CR_3_GRIGLIA!$C$16,CR_3_GRIGLIA!$B$16,IF(I258=CR_3_GRIGLIA!$C$17,CR_3_GRIGLIA!$B$17,IF(I258=CR_3_GRIGLIA!$C$18,CR_3_GRIGLIA!$B$18,IF(I258=CR_3_GRIGLIA!$C$19,CR_3_GRIGLIA!$B$19,CR_3_GRIGLIA!$B$20)))))","v":""},"",{"$f":"+IF(D258=\"\",\"\",IF(C258=\"\",0,INDEX(CR_3_GRIGLIA!$D$3:$K$13,+VLOOKUP(B258,CR_3_GRIGLIA!$A$3:$C$13,3,FALSE),+HLOOKUP(D258,CR_3_GRIGLIA!$D$1:$K$2,2,FALSE))))","v":""},""]
[258,null,{"$f":"+IF(B259=\"\",\"\",VLOOKUP(B259,CR_3_GRIGLIA!$A$3:$B$13,2,FALSE))","v":""},null,null,null,{"$f":"+IF(I259=\"\",\"\",IF(I259=CR_3_GRIGLIA!$C$16,CR_3_GRIGLIA!$B$16,IF(I259=CR_3_GRIGLIA!$C$17,CR_3_GRIGLIA!$B$17,IF(I259=CR_3_GRIGLIA!$C$18,CR_3_GRIGLIA!$B$18,IF(I259=CR_3_GRIGLIA!$C$19,CR_3_GRIGLIA!$B$19,CR_3_GRIGLIA!$B$20)))))","v":""},{"$f":"IFERROR(IF(F259=\"\",\"\",F259/$F$504),0)","v":""},{"$f":"+IF(D259=\"\",\"\",IF(C259=\"\",0,INDEX(CR_3_GRIGLIA!$D$3:$K$13,+VLOOKUP(B259,CR_3_GRIGLIA!$A$3:$C$13,3,FALSE),+HLOOKUP(D259,CR_3_GRIGLIA!$D$1:$K$2,2,FALSE))))","v":""},{"$f":"IFERROR(IF(I259=\"\",\"\",I259*F259/$F$504),0)","v":""}]
[259,null,{"$f":"+IF(B260=\"\",\"\",VLOOKUP(B260,CR_3_GRIGLIA!$A$3:$B$13,2,FALSE))","v":""},null,null,null,{"$f":"+IF(I260=\"\",\"\",IF(I260=CR_3_GRIGLIA!$C$16,CR_3_GRIGLIA!$B$16,IF(I260=CR_3_GRIGLIA!$C$17,CR_3_GRIGLIA!$B$17,IF(I260=CR_3_GRIGLIA!$C$18,CR_3_GRIGLIA!$B$18,IF(I260=CR_3_GRIGLIA!$C$19,CR_3_GRIGLIA!$B$19,CR_3_GRIGLIA!$B$20)))))","v":""},"",{"$f":"+IF(D260=\"\",\"\",IF(C260=\"\",0,INDEX(CR_3_GRIGLIA!$D$3:$K$13,+VLOOKUP(B260,CR_3_GRIGLIA!$A$3:$C$13,3,FALSE),+HLOOKUP(D260,CR_3_GRIGLIA!$D$1:$K$2,2,FALSE))))","v":""},""]
[260,null,{"$f":"+IF(B261=\"\",\"\",VLOOKUP(B261,CR_3_GRIGLIA!$A$3:$B$13,2,FALSE))","v":""},null,null,null,{"$f":"+IF(I261=\"\",\"\",IF(I261=CR_3_GRIGLIA!$C$16,CR_3_GRIGLIA!$B$16,IF(I261=CR_3_GRIGLIA!$C$17,CR_3_GRIGLIA!$B$17,IF(I261=CR_3_GRIGLIA!$C$18,CR_3_GRIGLIA!$B$18,IF(I261=CR_3_GRIGLIA!$C$19,CR_3_GRIGLIA!$B$19,CR_3_GRIGLIA!$B$20)))))","v":""},"",{"$f":"+IF(D261=\"\",\"\",IF(C261=\"\",0,INDEX(CR_3_GRIGLIA!$D$3:$K$13,+VLOOKUP(B261,CR_3_GRIGLIA!$A$3:$C$13,3,FALSE),+HLOOKUP(D261,CR_3_GRIGLIA!$D$1:$K$2,2,FALSE))))","v":""},""]
[261,null,{"$f":"+IF(B262=\"\",\"\",VLOOKUP(B262,CR_3_GRIGLIA!$A$3:$B$13,2,FALSE))","v":""},null,null,null,{"$f":"+IF(I262=\"\",\"\",IF(I262=CR_3_GRIGLIA!$C$16,CR_3_GRIGLIA!$B$16,IF(I262=CR_3_GRIGLIA!$C$17,CR_3_GRIGLIA!$B$17,IF(I262=CR_3_GRIGLIA!$C$18,CR_3_GRIGLIA!$B$18,IF(I262=CR_3_GRIGLIA!$C$19,CR_3_GRIGLIA!$B$19,CR_3_GRIGLIA!$B$20)))))","v":""},"",{"$f":"+IF(D262=\"\",\"\",IF(C262=\"\",0,INDEX(CR_3_GRIGLIA!$D$3:$K$13,+VLOOKUP(B262,CR_3_GRIGLIA!$A$3:$C$13,3,FALSE),+HLOOKUP(D262,CR_3_GRIGLIA!$D$1:$K$2,2,FALSE))))","v":""},""]
[262,null,{"$f":"+IF(B263=\"\",\"\",VLOOKUP(B263,CR_3_GRIGLIA!$A$3:$B$13,2,FALSE))","v":""},null,null,null,{"$f":"+IF(I263=\"\",\"\",IF(I263=CR_3_GRIGLIA!$C$16,CR_3_GRIGLIA!$B$16,IF(I263=CR_3_GRIGLIA!$C$17,CR_3_GRIGLIA!$B$17,IF(I263=CR_3_GRIGLIA!$C$18,CR_3_GRIGLIA!$B$18,IF(I263=CR_3_GRIGLIA!$C$19,CR_3_GRIGLIA!$B$19,CR_3_GRIGLIA!$B$20)))))","v":""},"",{"$f":"+IF(D263=\"\",\"\",IF(C263=\"\",0,INDEX(CR_3_GRIGLIA!$D$3:$K$13,+VLOOKUP(B263,CR_3_GRIGLIA!$A$3:$C$13,3,FALSE),+HLOOKUP(D263,CR_3_GRIGLIA!$D$1:$K$2,2,FALSE))))","v":""},""]
[263,null,{"$f":"+IF(B264=\"\",\"\",VLOOKUP(B264,CR_3_GRIGLIA!$A$3:$B$13,2,FALSE))","v":""},null,null,null,{"$f":"+IF(I264=\"\",\"\",IF(I264=CR_3_GRIGLIA!$C$16,CR_3_GRIGLIA!$B$16,IF(I264=CR_3_GRIGLIA!$C$17,CR_3_GRIGLIA!$B$17,IF(I264=CR_3_GRIGLIA!$C$18,CR_3_GRIGLIA!$B$18,IF(I264=CR_3_GRIGLIA!$C$19,CR_3_GRIGLIA!$B$19,CR_3_GRIGLIA!$B$20)))))","v":""},"",{"$f":"+IF(D264=\"\",\"\",IF(C264=\"\",0,INDEX(CR_3_GRIGLIA!$D$3:$K$13,+VLOOKUP(B264,CR_3_GRIGLIA!$A$3:$C$13,3,FALSE),+HLOOKUP(D264,CR_3_GRIGLIA!$D$1:$K$2,2,FALSE))))","v":""},""]
[264,null,{"$f":"+IF(B265=\"\",\"\",VLOOKUP(B265,CR_3_GRIGLIA!$A$3:$B$13,2,FALSE))","v":""},null,null,null,{"$f":"+IF(I265=\"\",\"\",IF(I265=CR_3_GRIGLIA!$C$16,CR_3_GRIGLIA!$B$16,IF(I265=CR_3_GRIGLIA!$C$17,CR_3_GRIGLIA!$B$17,IF(I265=CR_3_GRIGLIA!$C$18,CR_3_GRIGLIA!$B$18,IF(I265=CR_3_GRIGLIA!$C$19,CR_3_GRIGLIA!$B$19,CR_3_GRIGLIA!$B$20)))))","v":""},"",{"$f":"+IF(D265=\"\",\"\",IF(C265=\"\",0,INDEX(CR_3_GRIGLIA!$D$3:$K$13,+VLOOKUP(B265,CR_3_GRIGLIA!$A$3:$C$13,3,FALSE),+HLOOKUP(D265,CR_3_GRIGLIA!$D$1:$K$2,2,FALSE))))","v":""},""]
[265,null,{"$f":"+IF(B266=\"\",\"\",VLOOKUP(B266,CR_3_GRIGLIA!$A$3:$B$13,2,FALSE))","v":""},null,null,null,{"$f":"+IF(I266=\"\",\"\",IF(I266=CR_3_GRIGLIA!$C$16,CR_3_GRIGLIA!$B$16,IF(I266=CR_3_GRIGLIA!$C$17,CR_3_GRIGLIA!$B$17,IF(I266=CR_3_GRIGLIA!$C$18,CR_3_GRIGLIA!$B$18,IF(I266=CR_3_GRIGLIA!$C$19,CR_3_GRIGLIA!$B$19,CR_3_GRIGLIA!$B$20)))))","v":""},"",{"$f":"+IF(D266=\"\",\"\",IF(C266=\"\",0,INDEX(CR_3_GRIGLIA!$D$3:$K$13,+VLOOKUP(B266,CR_3_GRIGLIA!$A$3:$C$13,3,FALSE),+HLOOKUP(D266,CR_3_GRIGLIA!$D$1:$K$2,2,FALSE))))","v":""},""]
[266,null,{"$f":"+IF(B267=\"\",\"\",VLOOKUP(B267,CR_3_GRIGLIA!$A$3:$B$13,2,FALSE))","v":""},null,null,null,{"$f":"+IF(I267=\"\",\"\",IF(I267=CR_3_GRIGLIA!$C$16,CR_3_GRIGLIA!$B$16,IF(I267=CR_3_GRIGLIA!$C$17,CR_3_GRIGLIA!$B$17,IF(I267=CR_3_GRIGLIA!$C$18,CR_3_GRIGLIA!$B$18,IF(I267=CR_3_GRIGLIA!$C$19,CR_3_GRIGLIA!$B$19,CR_3_GRIGLIA!$B$20)))))","v":""},"",{"$f":"+IF(D267=\"\",\"\",IF(C267=\"\",0,INDEX(CR_3_GRIGLIA!$D$3:$K$13,+VLOOKUP(B267,CR_3_GRIGLIA!$A$3:$C$13,3,FALSE),+HLOOKUP(D267,CR_3_GRIGLIA!$D$1:$K$2,2,FALSE))))","v":""},""]
[267,null,{"$f":"+IF(B268=\"\",\"\",VLOOKUP(B268,CR_3_GRIGLIA!$A$3:$B$13,2,FALSE))","v":""},null,null,null,{"$f":"+IF(I268=\"\",\"\",IF(I268=CR_3_GRIGLIA!$C$16,CR_3_GRIGLIA!$B$16,IF(I268=CR_3_GRIGLIA!$C$17,CR_3_GRIGLIA!$B$17,IF(I268=CR_3_GRIGLIA!$C$18,CR_3_GRIGLIA!$B$18,IF(I268=CR_3_GRIGLIA!$C$19,CR_3_GRIGLIA!$B$19,CR_3_GRIGLIA!$B$20)))))","v":""},"",{"$f":"+IF(D268=\"\",\"\",IF(C268=\"\",0,INDEX(CR_3_GRIGLIA!$D$3:$K$13,+VLOOKUP(B268,CR_3_GRIGLIA!$A$3:$C$13,3,FALSE),+HLOOKUP(D268,CR_3_GRIGLIA!$D$1:$K$2,2,FALSE))))","v":""},""]
[268,null,{"$f":"+IF(B269=\"\",\"\",VLOOKUP(B269,CR_3_GRIGLIA!$A$3:$B$13,2,FALSE))","v":""},null,null,null,{"$f":"+IF(I269=\"\",\"\",IF(I269=CR_3_GRIGLIA!$C$16,CR_3_GRIGLIA!$B$16,IF(I269=CR_3_GRIGLIA!$C$17,CR_3_GRIGLIA!$B$17,IF(I269=CR_3_GRIGLIA!$C$18,CR_3_GRIGLIA!$B$18,IF(I269=CR_3_GRIGLIA!$C$19,CR_3_GRIGLIA!$B$19,CR_3_GRIGLIA!$B$20)))))","v":""},"",{"$f":"+IF(D269=\"\",\"\",IF(C269=\"\",0,INDEX(CR_3_GRIGLIA!$D$3:$K$13,+VLOOKUP(B269,CR_3_GRIGLIA!$A$3:$C$13,3,FALSE),+HLOOKUP(D269,CR_3_GRIGLIA!$D$1:$K$2,2,FALSE))))","v":""},""]
[269,null,{"$f":"+IF(B270=\"\",\"\",VLOOKUP(B270,CR_3_GRIGLIA!$A$3:$B$13,2,FALSE))","v":""},null,null,null,{"$f":"+IF(I270=\"\",\"\",IF(I270=CR_3_GRIGLIA!$C$16,CR_3_GRIGLIA!$B$16,IF(I270=CR_3_GRIGLIA!$C$17,CR_3_GRIGLIA!$B$17,IF(I270=CR_3_GRIGLIA!$C$18,CR_3_GRIGLIA!$B$18,IF(I270=CR_3_GRIGLIA!$C$19,CR_3_GRIGLIA!$B$19,CR_3_GRIGLIA!$B$20)))))","v":""},"",{"$f":"+IF(D270=\"\",\"\",IF(C270=\"\",0,INDEX(CR_3_GRIGLIA!$D$3:$K$13,+VLOOKUP(B270,CR_3_GRIGLIA!$A$3:$C$13,3,FALSE),+HLOOKUP(D270,CR_3_GRIGLIA!$D$1:$K$2,2,FALSE))))","v":""},""]
[270,null,{"$f":"+IF(B271=\"\",\"\",VLOOKUP(B271,CR_3_GRIGLIA!$A$3:$B$13,2,FALSE))","v":""},null,null,null,{"$f":"+IF(I271=\"\",\"\",IF(I271=CR_3_GRIGLIA!$C$16,CR_3_GRIGLIA!$B$16,IF(I271=CR_3_GRIGLIA!$C$17,CR_3_GRIGLIA!$B$17,IF(I271=CR_3_GRIGLIA!$C$18,CR_3_GRIGLIA!$B$18,IF(I271=CR_3_GRIGLIA!$C$19,CR_3_GRIGLIA!$B$19,CR_3_GRIGLIA!$B$20)))))","v":""},"",{"$f":"+IF(D271=\"\",\"\",IF(C271=\"\",0,INDEX(CR_3_GRIGLIA!$D$3:$K$13,+VLOOKUP(B271,CR_3_GRIGLIA!$A$3:$C$13,3,FALSE),+HLOOKUP(D271,CR_3_GRIGLIA!$D$1:$K$2,2,FALSE))))","v":""},""]
[271,null,{"$f":"+IF(B272=\"\",\"\",VLOOKUP(B272,CR_3_GRIGLIA!$A$3:$B$13,2,FALSE))","v":""},null,null,null,{"$f":"+IF(I272=\"\",\"\",IF(I272=CR_3_GRIGLIA!$C$16,CR_3_GRIGLIA!$B$16,IF(I272=CR_3_GRIGLIA!$C$17,CR_3_GRIGLIA!$B$17,IF(I272=CR_3_GRIGLIA!$C$18,CR_3_GRIGLIA!$B$18,IF(I272=CR_3_GRIGLIA!$C$19,CR_3_GRIGLIA!$B$19,CR_3_GRIGLIA!$B$20)))))","v":""},"",{"$f":"+IF(D272=\"\",\"\",IF(C272=\"\",0,INDEX(CR_3_GRIGLIA!$D$3:$K$13,+VLOOKUP(B272,CR_3_GRIGLIA!$A$3:$C$13,3,FALSE),+HLOOKUP(D272,CR_3_GRIGLIA!$D$1:$K$2,2,FALSE))))","v":""},""]
[272,null,{"$f":"+IF(B273=\"\",\"\",VLOOKUP(B273,CR_3_GRIGLIA!$A$3:$B$13,2,FALSE))","v":""},null,null,null,{"$f":"+IF(I273=\"\",\"\",IF(I273=CR_3_GRIGLIA!$C$16,CR_3_GRIGLIA!$B$16,IF(I273=CR_3_GRIGLIA!$C$17,CR_3_GRIGLIA!$B$17,IF(I273=CR_3_GRIGLIA!$C$18,CR_3_GRIGLIA!$B$18,IF(I273=CR_3_GRIGLIA!$C$19,CR_3_GRIGLIA!$B$19,CR_3_GRIGLIA!$B$20)))))","v":""},"",{"$f":"+IF(D273=\"\",\"\",IF(C273=\"\",0,INDEX(CR_3_GRIGLIA!$D$3:$K$13,+VLOOKUP(B273,CR_3_GRIGLIA!$A$3:$C$13,3,FALSE),+HLOOKUP(D273,CR_3_GRIGLIA!$D$1:$K$2,2,FALSE))))","v":""},""]
[273,null,{"$f":"+IF(B274=\"\",\"\",VLOOKUP(B274,CR_3_GRIGLIA!$A$3:$B$13,2,FALSE))","v":""},null,null,null,{"$f":"+IF(I274=\"\",\"\",IF(I274=CR_3_GRIGLIA!$C$16,CR_3_GRIGLIA!$B$16,IF(I274=CR_3_GRIGLIA!$C$17,CR_3_GRIGLIA!$B$17,IF(I274=CR_3_GRIGLIA!$C$18,CR_3_GRIGLIA!$B$18,IF(I274=CR_3_GRIGLIA!$C$19,CR_3_GRIGLIA!$B$19,CR_3_GRIGLIA!$B$20)))))","v":""},"",{"$f":"+IF(D274=\"\",\"\",IF(C274=\"\",0,INDEX(CR_3_GRIGLIA!$D$3:$K$13,+VLOOKUP(B274,CR_3_GRIGLIA!$A$3:$C$13,3,FALSE),+HLOOKUP(D274,CR_3_GRIGLIA!$D$1:$K$2,2,FALSE))))","v":""},""]
[274,null,{"$f":"+IF(B275=\"\",\"\",VLOOKUP(B275,CR_3_GRIGLIA!$A$3:$B$13,2,FALSE))","v":""},null,null,null,{"$f":"+IF(I275=\"\",\"\",IF(I275=CR_3_GRIGLIA!$C$16,CR_3_GRIGLIA!$B$16,IF(I275=CR_3_GRIGLIA!$C$17,CR_3_GRIGLIA!$B$17,IF(I275=CR_3_GRIGLIA!$C$18,CR_3_GRIGLIA!$B$18,IF(I275=CR_3_GRIGLIA!$C$19,CR_3_GRIGLIA!$B$19,CR_3_GRIGLIA!$B$20)))))","v":""},"",{"$f":"+IF(D275=\"\",\"\",IF(C275=\"\",0,INDEX(CR_3_GRIGLIA!$D$3:$K$13,+VLOOKUP(B275,CR_3_GRIGLIA!$A$3:$C$13,3,FALSE),+HLOOKUP(D275,CR_3_GRIGLIA!$D$1:$K$2,2,FALSE))))","v":""},""]
[275,null,{"$f":"+IF(B276=\"\",\"\",VLOOKUP(B276,CR_3_GRIGLIA!$A$3:$B$13,2,FALSE))","v":""},null,null,null,{"$f":"+IF(I276=\"\",\"\",IF(I276=CR_3_GRIGLIA!$C$16,CR_3_GRIGLIA!$B$16,IF(I276=CR_3_GRIGLIA!$C$17,CR_3_GRIGLIA!$B$17,IF(I276=CR_3_GRIGLIA!$C$18,CR_3_GRIGLIA!$B$18,IF(I276=CR_3_GRIGLIA!$C$19,CR_3_GRIGLIA!$B$19,CR_3_GRIGLIA!$B$20)))))","v":""},"",{"$f":"+IF(D276=\"\",\"\",IF(C276=\"\",0,INDEX(CR_3_GRIGLIA!$D$3:$K$13,+VLOOKUP(B276,CR_3_GRIGLIA!$A$3:$C$13,3,FALSE),+HLOOKUP(D276,CR_3_GRIGLIA!$D$1:$K$2,2,FALSE))))","v":""},""]
[276,null,{"$f":"+IF(B277=\"\",\"\",VLOOKUP(B277,CR_3_GRIGLIA!$A$3:$B$13,2,FALSE))","v":""},null,null,null,{"$f":"+IF(I277=\"\",\"\",IF(I277=CR_3_GRIGLIA!$C$16,CR_3_GRIGLIA!$B$16,IF(I277=CR_3_GRIGLIA!$C$17,CR_3_GRIGLIA!$B$17,IF(I277=CR_3_GRIGLIA!$C$18,CR_3_GRIGLIA!$B$18,IF(I277=CR_3_GRIGLIA!$C$19,CR_3_GRIGLIA!$B$19,CR_3_GRIGLIA!$B$20)))))","v":""},"",{"$f":"+IF(D277=\"\",\"\",IF(C277=\"\",0,INDEX(CR_3_GRIGLIA!$D$3:$K$13,+VLOOKUP(B277,CR_3_GRIGLIA!$A$3:$C$13,3,FALSE),+HLOOKUP(D277,CR_3_GRIGLIA!$D$1:$K$2,2,FALSE))))","v":""},""]
[277,null,{"$f":"+IF(B278=\"\",\"\",VLOOKUP(B278,CR_3_GRIGLIA!$A$3:$B$13,2,FALSE))","v":""},null,null,null,{"$f":"+IF(I278=\"\",\"\",IF(I278=CR_3_GRIGLIA!$C$16,CR_3_GRIGLIA!$B$16,IF(I278=CR_3_GRIGLIA!$C$17,CR_3_GRIGLIA!$B$17,IF(I278=CR_3_GRIGLIA!$C$18,CR_3_GRIGLIA!$B$18,IF(I278=CR_3_GRIGLIA!$C$19,CR_3_GRIGLIA!$B$19,CR_3_GRIGLIA!$B$20)))))","v":""},"",{"$f":"+IF(D278=\"\",\"\",IF(C278=\"\",0,INDEX(CR_3_GRIGLIA!$D$3:$K$13,+VLOOKUP(B278,CR_3_GRIGLIA!$A$3:$C$13,3,FALSE),+HLOOKUP(D278,CR_3_GRIGLIA!$D$1:$K$2,2,FALSE))))","v":""},""]
[278,null,{"$f":"+IF(B279=\"\",\"\",VLOOKUP(B279,CR_3_GRIGLIA!$A$3:$B$13,2,FALSE))","v":""},null,null,null,{"$f":"+IF(I279=\"\",\"\",IF(I279=CR_3_GRIGLIA!$C$16,CR_3_GRIGLIA!$B$16,IF(I279=CR_3_GRIGLIA!$C$17,CR_3_GRIGLIA!$B$17,IF(I279=CR_3_GRIGLIA!$C$18,CR_3_GRIGLIA!$B$18,IF(I279=CR_3_GRIGLIA!$C$19,CR_3_GRIGLIA!$B$19,CR_3_GRIGLIA!$B$20)))))","v":""},"",{"$f":"+IF(D279=\"\",\"\",IF(C279=\"\",0,INDEX(CR_3_GRIGLIA!$D$3:$K$13,+VLOOKUP(B279,CR_3_GRIGLIA!$A$3:$C$13,3,FALSE),+HLOOKUP(D279,CR_3_GRIGLIA!$D$1:$K$2,2,FALSE))))","v":""},""]
[279,null,{"$f":"+IF(B280=\"\",\"\",VLOOKUP(B280,CR_3_GRIGLIA!$A$3:$B$13,2,FALSE))","v":""},null,null,null,{"$f":"+IF(I280=\"\",\"\",IF(I280=CR_3_GRIGLIA!$C$16,CR_3_GRIGLIA!$B$16,IF(I280=CR_3_GRIGLIA!$C$17,CR_3_GRIGLIA!$B$17,IF(I280=CR_3_GRIGLIA!$C$18,CR_3_GRIGLIA!$B$18,IF(I280=CR_3_GRIGLIA!$C$19,CR_3_GRIGLIA!$B$19,CR_3_GRIGLIA!$B$20)))))","v":""},"",{"$f":"+IF(D280=\"\",\"\",IF(C280=\"\",0,INDEX(CR_3_GRIGLIA!$D$3:$K$13,+VLOOKUP(B280,CR_3_GRIGLIA!$A$3:$C$13,3,FALSE),+HLOOKUP(D280,CR_3_GRIGLIA!$D$1:$K$2,2,FALSE))))","v":""},""]
[280,null,{"$f":"+IF(B281=\"\",\"\",VLOOKUP(B281,CR_3_GRIGLIA!$A$3:$B$13,2,FALSE))","v":""},null,null,null,{"$f":"+IF(I281=\"\",\"\",IF(I281=CR_3_GRIGLIA!$C$16,CR_3_GRIGLIA!$B$16,IF(I281=CR_3_GRIGLIA!$C$17,CR_3_GRIGLIA!$B$17,IF(I281=CR_3_GRIGLIA!$C$18,CR_3_GRIGLIA!$B$18,IF(I281=CR_3_GRIGLIA!$C$19,CR_3_GRIGLIA!$B$19,CR_3_GRIGLIA!$B$20)))))","v":""},"",{"$f":"+IF(D281=\"\",\"\",IF(C281=\"\",0,INDEX(CR_3_GRIGLIA!$D$3:$K$13,+VLOOKUP(B281,CR_3_GRIGLIA!$A$3:$C$13,3,FALSE),+HLOOKUP(D281,CR_3_GRIGLIA!$D$1:$K$2,2,FALSE))))","v":""},""]
[281,null,{"$f":"+IF(B282=\"\",\"\",VLOOKUP(B282,CR_3_GRIGLIA!$A$3:$B$13,2,FALSE))","v":""},null,null,null,{"$f":"+IF(I282=\"\",\"\",IF(I282=CR_3_GRIGLIA!$C$16,CR_3_GRIGLIA!$B$16,IF(I282=CR_3_GRIGLIA!$C$17,CR_3_GRIGLIA!$B$17,IF(I282=CR_3_GRIGLIA!$C$18,CR_3_GRIGLIA!$B$18,IF(I282=CR_3_GRIGLIA!$C$19,CR_3_GRIGLIA!$B$19,CR_3_GRIGLIA!$B$20)))))","v":""},"",{"$f":"+IF(D282=\"\",\"\",IF(C282=\"\",0,INDEX(CR_3_GRIGLIA!$D$3:$K$13,+VLOOKUP(B282,CR_3_GRIGLIA!$A$3:$C$13,3,FALSE),+HLOOKUP(D282,CR_3_GRIGLIA!$D$1:$K$2,2,FALSE))))","v":""},""]
[282,null,{"$f":"+IF(B283=\"\",\"\",VLOOKUP(B283,CR_3_GRIGLIA!$A$3:$B$13,2,FALSE))","v":""},null,null,null,{"$f":"+IF(I283=\"\",\"\",IF(I283=CR_3_GRIGLIA!$C$16,CR_3_GRIGLIA!$B$16,IF(I283=CR_3_GRIGLIA!$C$17,CR_3_GRIGLIA!$B$17,IF(I283=CR_3_GRIGLIA!$C$18,CR_3_GRIGLIA!$B$18,IF(I283=CR_3_GRIGLIA!$C$19,CR_3_GRIGLIA!$B$19,CR_3_GRIGLIA!$B$20)))))","v":""},"",{"$f":"+IF(D283=\"\",\"\",IF(C283=\"\",0,INDEX(CR_3_GRIGLIA!$D$3:$K$13,+VLOOKUP(B283,CR_3_GRIGLIA!$A$3:$C$13,3,FALSE),+HLOOKUP(D283,CR_3_GRIGLIA!$D$1:$K$2,2,FALSE))))","v":""},""]
[283,null,{"$f":"+IF(B284=\"\",\"\",VLOOKUP(B284,CR_3_GRIGLIA!$A$3:$B$13,2,FALSE))","v":""},null,null,null,{"$f":"+IF(I284=\"\",\"\",IF(I284=CR_3_GRIGLIA!$C$16,CR_3_GRIGLIA!$B$16,IF(I284=CR_3_GRIGLIA!$C$17,CR_3_GRIGLIA!$B$17,IF(I284=CR_3_GRIGLIA!$C$18,CR_3_GRIGLIA!$B$18,IF(I284=CR_3_GRIGLIA!$C$19,CR_3_GRIGLIA!$B$19,CR_3_GRIGLIA!$B$20)))))","v":""},"",{"$f":"+IF(D284=\"\",\"\",IF(C284=\"\",0,INDEX(CR_3_GRIGLIA!$D$3:$K$13,+VLOOKUP(B284,CR_3_GRIGLIA!$A$3:$C$13,3,FALSE),+HLOOKUP(D284,CR_3_GRIGLIA!$D$1:$K$2,2,FALSE))))","v":""},""]
[284,null,{"$f":"+IF(B285=\"\",\"\",VLOOKUP(B285,CR_3_GRIGLIA!$A$3:$B$13,2,FALSE))","v":""},null,null,null,{"$f":"+IF(I285=\"\",\"\",IF(I285=CR_3_GRIGLIA!$C$16,CR_3_GRIGLIA!$B$16,IF(I285=CR_3_GRIGLIA!$C$17,CR_3_GRIGLIA!$B$17,IF(I285=CR_3_GRIGLIA!$C$18,CR_3_GRIGLIA!$B$18,IF(I285=CR_3_GRIGLIA!$C$19,CR_3_GRIGLIA!$B$19,CR_3_GRIGLIA!$B$20)))))","v":""},"",{"$f":"+IF(D285=\"\",\"\",IF(C285=\"\",0,INDEX(CR_3_GRIGLIA!$D$3:$K$13,+VLOOKUP(B285,CR_3_GRIGLIA!$A$3:$C$13,3,FALSE),+HLOOKUP(D285,CR_3_GRIGLIA!$D$1:$K$2,2,FALSE))))","v":""},""]
[285,null,{"$f":"+IF(B286=\"\",\"\",VLOOKUP(B286,CR_3_GRIGLIA!$A$3:$B$13,2,FALSE))","v":""},null,null,null,{"$f":"+IF(I286=\"\",\"\",IF(I286=CR_3_GRIGLIA!$C$16,CR_3_GRIGLIA!$B$16,IF(I286=CR_3_GRIGLIA!$C$17,CR_3_GRIGLIA!$B$17,IF(I286=CR_3_GRIGLIA!$C$18,CR_3_GRIGLIA!$B$18,IF(I286=CR_3_GRIGLIA!$C$19,CR_3_GRIGLIA!$B$19,CR_3_GRIGLIA!$B$20)))))","v":""},"",{"$f":"+IF(D286=\"\",\"\",IF(C286=\"\",0,INDEX(CR_3_GRIGLIA!$D$3:$K$13,+VLOOKUP(B286,CR_3_GRIGLIA!$A$3:$C$13,3,FALSE),+HLOOKUP(D286,CR_3_GRIGLIA!$D$1:$K$2,2,FALSE))))","v":""},""]
[286,null,{"$f":"+IF(B287=\"\",\"\",VLOOKUP(B287,CR_3_GRIGLIA!$A$3:$B$13,2,FALSE))","v":""},null,null,null,{"$f":"+IF(I287=\"\",\"\",IF(I287=CR_3_GRIGLIA!$C$16,CR_3_GRIGLIA!$B$16,IF(I287=CR_3_GRIGLIA!$C$17,CR_3_GRIGLIA!$B$17,IF(I287=CR_3_GRIGLIA!$C$18,CR_3_GRIGLIA!$B$18,IF(I287=CR_3_GRIGLIA!$C$19,CR_3_GRIGLIA!$B$19,CR_3_GRIGLIA!$B$20)))))","v":""},"",{"$f":"+IF(D287=\"\",\"\",IF(C287=\"\",0,INDEX(CR_3_GRIGLIA!$D$3:$K$13,+VLOOKUP(B287,CR_3_GRIGLIA!$A$3:$C$13,3,FALSE),+HLOOKUP(D287,CR_3_GRIGLIA!$D$1:$K$2,2,FALSE))))","v":""},""]
[287,null,{"$f":"+IF(B288=\"\",\"\",VLOOKUP(B288,CR_3_GRIGLIA!$A$3:$B$13,2,FALSE))","v":""},null,null,null,{"$f":"+IF(I288=\"\",\"\",IF(I288=CR_3_GRIGLIA!$C$16,CR_3_GRIGLIA!$B$16,IF(I288=CR_3_GRIGLIA!$C$17,CR_3_GRIGLIA!$B$17,IF(I288=CR_3_GRIGLIA!$C$18,CR_3_GRIGLIA!$B$18,IF(I288=CR_3_GRIGLIA!$C$19,CR_3_GRIGLIA!$B$19,CR_3_GRIGLIA!$B$20)))))","v":""},"",{"$f":"+IF(D288=\"\",\"\",IF(C288=\"\",0,INDEX(CR_3_GRIGLIA!$D$3:$K$13,+VLOOKUP(B288,CR_3_GRIGLIA!$A$3:$C$13,3,FALSE),+HLOOKUP(D288,CR_3_GRIGLIA!$D$1:$K$2,2,FALSE))))","v":""},""]
[288,null,{"$f":"+IF(B289=\"\",\"\",VLOOKUP(B289,CR_3_GRIGLIA!$A$3:$B$13,2,FALSE))","v":""},null,null,null,{"$f":"+IF(I289=\"\",\"\",IF(I289=CR_3_GRIGLIA!$C$16,CR_3_GRIGLIA!$B$16,IF(I289=CR_3_GRIGLIA!$C$17,CR_3_GRIGLIA!$B$17,IF(I289=CR_3_GRIGLIA!$C$18,CR_3_GRIGLIA!$B$18,IF(I289=CR_3_GRIGLIA!$C$19,CR_3_GRIGLIA!$B$19,CR_3_GRIGLIA!$B$20)))))","v":""},"",{"$f":"+IF(D289=\"\",\"\",IF(C289=\"\",0,INDEX(CR_3_GRIGLIA!$D$3:$K$13,+VLOOKUP(B289,CR_3_GRIGLIA!$A$3:$C$13,3,FALSE),+HLOOKUP(D289,CR_3_GRIGLIA!$D$1:$K$2,2,FALSE))))","v":""},""]
[289,null,{"$f":"+IF(B290=\"\",\"\",VLOOKUP(B290,CR_3_GRIGLIA!$A$3:$B$13,2,FALSE))","v":""},null,null,null,{"$f":"+IF(I290=\"\",\"\",IF(I290=CR_3_GRIGLIA!$C$16,CR_3_GRIGLIA!$B$16,IF(I290=CR_3_GRIGLIA!$C$17,CR_3_GRIGLIA!$B$17,IF(I290=CR_3_GRIGLIA!$C$18,CR_3_GRIGLIA!$B$18,IF(I290=CR_3_GRIGLIA!$C$19,CR_3_GRIGLIA!$B$19,CR_3_GRIGLIA!$B$20)))))","v":""},"",{"$f":"+IF(D290=\"\",\"\",IF(C290=\"\",0,INDEX(CR_3_GRIGLIA!$D$3:$K$13,+VLOOKUP(B290,CR_3_GRIGLIA!$A$3:$C$13,3,FALSE),+HLOOKUP(D290,CR_3_GRIGLIA!$D$1:$K$2,2,FALSE))))","v":""},""]
[290,null,{"$f":"+IF(B291=\"\",\"\",VLOOKUP(B291,CR_3_GRIGLIA!$A$3:$B$13,2,FALSE))","v":""},null,null,null,{"$f":"+IF(I291=\"\",\"\",IF(I291=CR_3_GRIGLIA!$C$16,CR_3_GRIGLIA!$B$16,IF(I291=CR_3_GRIGLIA!$C$17,CR_3_GRIGLIA!$B$17,IF(I291=CR_3_GRIGLIA!$C$18,CR_3_GRIGLIA!$B$18,IF(I291=CR_3_GRIGLIA!$C$19,CR_3_GRIGLIA!$B$19,CR_3_GRIGLIA!$B$20)))))","v":""},"",{"$f":"+IF(D291=\"\",\"\",IF(C291=\"\",0,INDEX(CR_3_GRIGLIA!$D$3:$K$13,+VLOOKUP(B291,CR_3_GRIGLIA!$A$3:$C$13,3,FALSE),+HLOOKUP(D291,CR_3_GRIGLIA!$D$1:$K$2,2,FALSE))))","v":""},""]
[291,null,{"$f":"+IF(B292=\"\",\"\",VLOOKUP(B292,CR_3_GRIGLIA!$A$3:$B$13,2,FALSE))","v":""},null,null,null,{"$f":"+IF(I292=\"\",\"\",IF(I292=CR_3_GRIGLIA!$C$16,CR_3_GRIGLIA!$B$16,IF(I292=CR_3_GRIGLIA!$C$17,CR_3_GRIGLIA!$B$17,IF(I292=CR_3_GRIGLIA!$C$18,CR_3_GRIGLIA!$B$18,IF(I292=CR_3_GRIGLIA!$C$19,CR_3_GRIGLIA!$B$19,CR_3_GRIGLIA!$B$20)))))","v":""},"",{"$f":"+IF(D292=\"\",\"\",IF(C292=\"\",0,INDEX(CR_3_GRIGLIA!$D$3:$K$13,+VLOOKUP(B292,CR_3_GRIGLIA!$A$3:$C$13,3,FALSE),+HLOOKUP(D292,CR_3_GRIGLIA!$D$1:$K$2,2,FALSE))))","v":""},""]
[292,null,{"$f":"+IF(B293=\"\",\"\",VLOOKUP(B293,CR_3_GRIGLIA!$A$3:$B$13,2,FALSE))","v":""},null,null,null,{"$f":"+IF(I293=\"\",\"\",IF(I293=CR_3_GRIGLIA!$C$16,CR_3_GRIGLIA!$B$16,IF(I293=CR_3_GRIGLIA!$C$17,CR_3_GRIGLIA!$B$17,IF(I293=CR_3_GRIGLIA!$C$18,CR_3_GRIGLIA!$B$18,IF(I293=CR_3_GRIGLIA!$C$19,CR_3_GRIGLIA!$B$19,CR_3_GRIGLIA!$B$20)))))","v":""},"",{"$f":"+IF(D293=\"\",\"\",IF(C293=\"\",0,INDEX(CR_3_GRIGLIA!$D$3:$K$13,+VLOOKUP(B293,CR_3_GRIGLIA!$A$3:$C$13,3,FALSE),+HLOOKUP(D293,CR_3_GRIGLIA!$D$1:$K$2,2,FALSE))))","v":""},""]
[293,null,{"$f":"+IF(B294=\"\",\"\",VLOOKUP(B294,CR_3_GRIGLIA!$A$3:$B$13,2,FALSE))","v":""},null,null,null,{"$f":"+IF(I294=\"\",\"\",IF(I294=CR_3_GRIGLIA!$C$16,CR_3_GRIGLIA!$B$16,IF(I294=CR_3_GRIGLIA!$C$17,CR_3_GRIGLIA!$B$17,IF(I294=CR_3_GRIGLIA!$C$18,CR_3_GRIGLIA!$B$18,IF(I294=CR_3_GRIGLIA!$C$19,CR_3_GRIGLIA!$B$19,CR_3_GRIGLIA!$B$20)))))","v":""},"",{"$f":"+IF(D294=\"\",\"\",IF(C294=\"\",0,INDEX(CR_3_GRIGLIA!$D$3:$K$13,+VLOOKUP(B294,CR_3_GRIGLIA!$A$3:$C$13,3,FALSE),+HLOOKUP(D294,CR_3_GRIGLIA!$D$1:$K$2,2,FALSE))))","v":""},""]
[294,null,{"$f":"+IF(B295=\"\",\"\",VLOOKUP(B295,CR_3_GRIGLIA!$A$3:$B$13,2,FALSE))","v":""},null,null,null,{"$f":"+IF(I295=\"\",\"\",IF(I295=CR_3_GRIGLIA!$C$16,CR_3_GRIGLIA!$B$16,IF(I295=CR_3_GRIGLIA!$C$17,CR_3_GRIGLIA!$B$17,IF(I295=CR_3_GRIGLIA!$C$18,CR_3_GRIGLIA!$B$18,IF(I295=CR_3_GRIGLIA!$C$19,CR_3_GRIGLIA!$B$19,CR_3_GRIGLIA!$B$20)))))","v":""},"",{"$f":"+IF(D295=\"\",\"\",IF(C295=\"\",0,INDEX(CR_3_GRIGLIA!$D$3:$K$13,+VLOOKUP(B295,CR_3_GRIGLIA!$A$3:$C$13,3,FALSE),+HLOOKUP(D295,CR_3_GRIGLIA!$D$1:$K$2,2,FALSE))))","v":""},""]
[295,null,{"$f":"+IF(B296=\"\",\"\",VLOOKUP(B296,CR_3_GRIGLIA!$A$3:$B$13,2,FALSE))","v":""},null,null,null,{"$f":"+IF(I296=\"\",\"\",IF(I296=CR_3_GRIGLIA!$C$16,CR_3_GRIGLIA!$B$16,IF(I296=CR_3_GRIGLIA!$C$17,CR_3_GRIGLIA!$B$17,IF(I296=CR_3_GRIGLIA!$C$18,CR_3_GRIGLIA!$B$18,IF(I296=CR_3_GRIGLIA!$C$19,CR_3_GRIGLIA!$B$19,CR_3_GRIGLIA!$B$20)))))","v":""},"",{"$f":"+IF(D296=\"\",\"\",IF(C296=\"\",0,INDEX(CR_3_GRIGLIA!$D$3:$K$13,+VLOOKUP(B296,CR_3_GRIGLIA!$A$3:$C$13,3,FALSE),+HLOOKUP(D296,CR_3_GRIGLIA!$D$1:$K$2,2,FALSE))))","v":""},""]
[296,null,{"$f":"+IF(B297=\"\",\"\",VLOOKUP(B297,CR_3_GRIGLIA!$A$3:$B$13,2,FALSE))","v":""},null,null,null,{"$f":"+IF(I297=\"\",\"\",IF(I297=CR_3_GRIGLIA!$C$16,CR_3_GRIGLIA!$B$16,IF(I297=CR_3_GRIGLIA!$C$17,CR_3_GRIGLIA!$B$17,IF(I297=CR_3_GRIGLIA!$C$18,CR_3_GRIGLIA!$B$18,IF(I297=CR_3_GRIGLIA!$C$19,CR_3_GRIGLIA!$B$19,CR_3_GRIGLIA!$B$20)))))","v":""},"",{"$f":"+IF(D297=\"\",\"\",IF(C297=\"\",0,INDEX(CR_3_GRIGLIA!$D$3:$K$13,+VLOOKUP(B297,CR_3_GRIGLIA!$A$3:$C$13,3,FALSE),+HLOOKUP(D297,CR_3_GRIGLIA!$D$1:$K$2,2,FALSE))))","v":""},""]
[297,null,{"$f":"+IF(B298=\"\",\"\",VLOOKUP(B298,CR_3_GRIGLIA!$A$3:$B$13,2,FALSE))","v":""},null,null,null,{"$f":"+IF(I298=\"\",\"\",IF(I298=CR_3_GRIGLIA!$C$16,CR_3_GRIGLIA!$B$16,IF(I298=CR_3_GRIGLIA!$C$17,CR_3_GRIGLIA!$B$17,IF(I298=CR_3_GRIGLIA!$C$18,CR_3_GRIGLIA!$B$18,IF(I298=CR_3_GRIGLIA!$C$19,CR_3_GRIGLIA!$B$19,CR_3_GRIGLIA!$B$20)))))","v":""},"",{"$f":"+IF(D298=\"\",\"\",IF(C298=\"\",0,INDEX(CR_3_GRIGLIA!$D$3:$K$13,+VLOOKUP(B298,CR_3_GRIGLIA!$A$3:$C$13,3,FALSE),+HLOOKUP(D298,CR_3_GRIGLIA!$D$1:$K$2,2,FALSE))))","v":""},""]
[298,null,{"$f":"+IF(B299=\"\",\"\",VLOOKUP(B299,CR_3_GRIGLIA!$A$3:$B$13,2,FALSE))","v":""},null,null,null,{"$f":"+IF(I299=\"\",\"\",IF(I299=CR_3_GRIGLIA!$C$16,CR_3_GRIGLIA!$B$16,IF(I299=CR_3_GRIGLIA!$C$17,CR_3_GRIGLIA!$B$17,IF(I299=CR_3_GRIGLIA!$C$18,CR_3_GRIGLIA!$B$18,IF(I299=CR_3_GRIGLIA!$C$19,CR_3_GRIGLIA!$B$19,CR_3_GRIGLIA!$B$20)))))","v":""},"",{"$f":"+IF(D299=\"\",\"\",IF(C299=\"\",0,INDEX(CR_3_GRIGLIA!$D$3:$K$13,+VLOOKUP(B299,CR_3_GRIGLIA!$A$3:$C$13,3,FALSE),+HLOOKUP(D299,CR_3_GRIGLIA!$D$1:$K$2,2,FALSE))))","v":""},""]
[299,null,{"$f":"+IF(B300=\"\",\"\",VLOOKUP(B300,CR_3_GRIGLIA!$A$3:$B$13,2,FALSE))","v":""},null,null,null,{"$f":"+IF(I300=\"\",\"\",IF(I300=CR_3_GRIGLIA!$C$16,CR_3_GRIGLIA!$B$16,IF(I300=CR_3_GRIGLIA!$C$17,CR_3_GRIGLIA!$B$17,IF(I300=CR_3_GRIGLIA!$C$18,CR_3_GRIGLIA!$B$18,IF(I300=CR_3_GRIGLIA!$C$19,CR_3_GRIGLIA!$B$19,CR_3_GRIGLIA!$B$20)))))","v":""},"",{"$f":"+IF(D300=\"\",\"\",IF(C300=\"\",0,INDEX(CR_3_GRIGLIA!$D$3:$K$13,+VLOOKUP(B300,CR_3_GRIGLIA!$A$3:$C$13,3,FALSE),+HLOOKUP(D300,CR_3_GRIGLIA!$D$1:$K$2,2,FALSE))))","v":""},""]
[300,null,{"$f":"+IF(B301=\"\",\"\",VLOOKUP(B301,CR_3_GRIGLIA!$A$3:$B$13,2,FALSE))","v":""},null,null,null,{"$f":"+IF(I301=\"\",\"\",IF(I301=CR_3_GRIGLIA!$C$16,CR_3_GRIGLIA!$B$16,IF(I301=CR_3_GRIGLIA!$C$17,CR_3_GRIGLIA!$B$17,IF(I301=CR_3_GRIGLIA!$C$18,CR_3_GRIGLIA!$B$18,IF(I301=CR_3_GRIGLIA!$C$19,CR_3_GRIGLIA!$B$19,CR_3_GRIGLIA!$B$20)))))","v":""},"",{"$f":"+IF(D301=\"\",\"\",IF(C301=\"\",0,INDEX(CR_3_GRIGLIA!$D$3:$K$13,+VLOOKUP(B301,CR_3_GRIGLIA!$A$3:$C$13,3,FALSE),+HLOOKUP(D301,CR_3_GRIGLIA!$D$1:$K$2,2,FALSE))))","v":""},""]
[301,null,{"$f":"+IF(B302=\"\",\"\",VLOOKUP(B302,CR_3_GRIGLIA!$A$3:$B$13,2,FALSE))","v":""},null,null,null,{"$f":"+IF(I302=\"\",\"\",IF(I302=CR_3_GRIGLIA!$C$16,CR_3_GRIGLIA!$B$16,IF(I302=CR_3_GRIGLIA!$C$17,CR_3_GRIGLIA!$B$17,IF(I302=CR_3_GRIGLIA!$C$18,CR_3_GRIGLIA!$B$18,IF(I302=CR_3_GRIGLIA!$C$19,CR_3_GRIGLIA!$B$19,CR_3_GRIGLIA!$B$20)))))","v":""},"",{"$f":"+IF(D302=\"\",\"\",IF(C302=\"\",0,INDEX(CR_3_GRIGLIA!$D$3:$K$13,+VLOOKUP(B302,CR_3_GRIGLIA!$A$3:$C$13,3,FALSE),+HLOOKUP(D302,CR_3_GRIGLIA!$D$1:$K$2,2,FALSE))))","v":""},""]
[302,null,{"$f":"+IF(B303=\"\",\"\",VLOOKUP(B303,CR_3_GRIGLIA!$A$3:$B$13,2,FALSE))","v":""},null,null,null,{"$f":"+IF(I303=\"\",\"\",IF(I303=CR_3_GRIGLIA!$C$16,CR_3_GRIGLIA!$B$16,IF(I303=CR_3_GRIGLIA!$C$17,CR_3_GRIGLIA!$B$17,IF(I303=CR_3_GRIGLIA!$C$18,CR_3_GRIGLIA!$B$18,IF(I303=CR_3_GRIGLIA!$C$19,CR_3_GRIGLIA!$B$19,CR_3_GRIGLIA!$B$20)))))","v":""},"",{"$f":"+IF(D303=\"\",\"\",IF(C303=\"\",0,INDEX(CR_3_GRIGLIA!$D$3:$K$13,+VLOOKUP(B303,CR_3_GRIGLIA!$A$3:$C$13,3,FALSE),+HLOOKUP(D303,CR_3_GRIGLIA!$D$1:$K$2,2,FALSE))))","v":""},""]
[303,null,{"$f":"+IF(B304=\"\",\"\",VLOOKUP(B304,CR_3_GRIGLIA!$A$3:$B$13,2,FALSE))","v":""},null,null,null,{"$f":"+IF(I304=\"\",\"\",IF(I304=CR_3_GRIGLIA!$C$16,CR_3_GRIGLIA!$B$16,IF(I304=CR_3_GRIGLIA!$C$17,CR_3_GRIGLIA!$B$17,IF(I304=CR_3_GRIGLIA!$C$18,CR_3_GRIGLIA!$B$18,IF(I304=CR_3_GRIGLIA!$C$19,CR_3_GRIGLIA!$B$19,CR_3_GRIGLIA!$B$20)))))","v":""},"",{"$f":"+IF(D304=\"\",\"\",IF(C304=\"\",0,INDEX(CR_3_GRIGLIA!$D$3:$K$13,+VLOOKUP(B304,CR_3_GRIGLIA!$A$3:$C$13,3,FALSE),+HLOOKUP(D304,CR_3_GRIGLIA!$D$1:$K$2,2,FALSE))))","v":""},""]
[304,null,{"$f":"+IF(B305=\"\",\"\",VLOOKUP(B305,CR_3_GRIGLIA!$A$3:$B$13,2,FALSE))","v":""},null,null,null,{"$f":"+IF(I305=\"\",\"\",IF(I305=CR_3_GRIGLIA!$C$16,CR_3_GRIGLIA!$B$16,IF(I305=CR_3_GRIGLIA!$C$17,CR_3_GRIGLIA!$B$17,IF(I305=CR_3_GRIGLIA!$C$18,CR_3_GRIGLIA!$B$18,IF(I305=CR_3_GRIGLIA!$C$19,CR_3_GRIGLIA!$B$19,CR_3_GRIGLIA!$B$20)))))","v":""},"",{"$f":"+IF(D305=\"\",\"\",IF(C305=\"\",0,INDEX(CR_3_GRIGLIA!$D$3:$K$13,+VLOOKUP(B305,CR_3_GRIGLIA!$A$3:$C$13,3,FALSE),+HLOOKUP(D305,CR_3_GRIGLIA!$D$1:$K$2,2,FALSE))))","v":""},""]
[305,null,{"$f":"+IF(B306=\"\",\"\",VLOOKUP(B306,CR_3_GRIGLIA!$A$3:$B$13,2,FALSE))","v":""},null,null,null,{"$f":"+IF(I306=\"\",\"\",IF(I306=CR_3_GRIGLIA!$C$16,CR_3_GRIGLIA!$B$16,IF(I306=CR_3_GRIGLIA!$C$17,CR_3_GRIGLIA!$B$17,IF(I306=CR_3_GRIGLIA!$C$18,CR_3_GRIGLIA!$B$18,IF(I306=CR_3_GRIGLIA!$C$19,CR_3_GRIGLIA!$B$19,CR_3_GRIGLIA!$B$20)))))","v":""},"",{"$f":"+IF(D306=\"\",\"\",IF(C306=\"\",0,INDEX(CR_3_GRIGLIA!$D$3:$K$13,+VLOOKUP(B306,CR_3_GRIGLIA!$A$3:$C$13,3,FALSE),+HLOOKUP(D306,CR_3_GRIGLIA!$D$1:$K$2,2,FALSE))))","v":""},""]
[306,null,{"$f":"+IF(B307=\"\",\"\",VLOOKUP(B307,CR_3_GRIGLIA!$A$3:$B$13,2,FALSE))","v":""},null,null,null,{"$f":"+IF(I307=\"\",\"\",IF(I307=CR_3_GRIGLIA!$C$16,CR_3_GRIGLIA!$B$16,IF(I307=CR_3_GRIGLIA!$C$17,CR_3_GRIGLIA!$B$17,IF(I307=CR_3_GRIGLIA!$C$18,CR_3_GRIGLIA!$B$18,IF(I307=CR_3_GRIGLIA!$C$19,CR_3_GRIGLIA!$B$19,CR_3_GRIGLIA!$B$20)))))","v":""},"",{"$f":"+IF(D307=\"\",\"\",IF(C307=\"\",0,INDEX(CR_3_GRIGLIA!$D$3:$K$13,+VLOOKUP(B307,CR_3_GRIGLIA!$A$3:$C$13,3,FALSE),+HLOOKUP(D307,CR_3_GRIGLIA!$D$1:$K$2,2,FALSE))))","v":""},""]
[307,null,{"$f":"+IF(B308=\"\",\"\",VLOOKUP(B308,CR_3_GRIGLIA!$A$3:$B$13,2,FALSE))","v":""},null,null,null,{"$f":"+IF(I308=\"\",\"\",IF(I308=CR_3_GRIGLIA!$C$16,CR_3_GRIGLIA!$B$16,IF(I308=CR_3_GRIGLIA!$C$17,CR_3_GRIGLIA!$B$17,IF(I308=CR_3_GRIGLIA!$C$18,CR_3_GRIGLIA!$B$18,IF(I308=CR_3_GRIGLIA!$C$19,CR_3_GRIGLIA!$B$19,CR_3_GRIGLIA!$B$20)))))","v":""},"",{"$f":"+IF(D308=\"\",\"\",IF(C308=\"\",0,INDEX(CR_3_GRIGLIA!$D$3:$K$13,+VLOOKUP(B308,CR_3_GRIGLIA!$A$3:$C$13,3,FALSE),+HLOOKUP(D308,CR_3_GRIGLIA!$D$1:$K$2,2,FALSE))))","v":""},""]
[308,null,{"$f":"+IF(B309=\"\",\"\",VLOOKUP(B309,CR_3_GRIGLIA!$A$3:$B$13,2,FALSE))","v":""},null,null,null,{"$f":"+IF(I309=\"\",\"\",IF(I309=CR_3_GRIGLIA!$C$16,CR_3_GRIGLIA!$B$16,IF(I309=CR_3_GRIGLIA!$C$17,CR_3_GRIGLIA!$B$17,IF(I309=CR_3_GRIGLIA!$C$18,CR_3_GRIGLIA!$B$18,IF(I309=CR_3_GRIGLIA!$C$19,CR_3_GRIGLIA!$B$19,CR_3_GRIGLIA!$B$20)))))","v":""},"",{"$f":"+IF(D309=\"\",\"\",IF(C309=\"\",0,INDEX(CR_3_GRIGLIA!$D$3:$K$13,+VLOOKUP(B309,CR_3_GRIGLIA!$A$3:$C$13,3,FALSE),+HLOOKUP(D309,CR_3_GRIGLIA!$D$1:$K$2,2,FALSE))))","v":""},""]
[309,null,{"$f":"+IF(B310=\"\",\"\",VLOOKUP(B310,CR_3_GRIGLIA!$A$3:$B$13,2,FALSE))","v":""},null,null,null,{"$f":"+IF(I310=\"\",\"\",IF(I310=CR_3_GRIGLIA!$C$16,CR_3_GRIGLIA!$B$16,IF(I310=CR_3_GRIGLIA!$C$17,CR_3_GRIGLIA!$B$17,IF(I310=CR_3_GRIGLIA!$C$18,CR_3_GRIGLIA!$B$18,IF(I310=CR_3_GRIGLIA!$C$19,CR_3_GRIGLIA!$B$19,CR_3_GRIGLIA!$B$20)))))","v":""},"",{"$f":"+IF(D310=\"\",\"\",IF(C310=\"\",0,INDEX(CR_3_GRIGLIA!$D$3:$K$13,+VLOOKUP(B310,CR_3_GRIGLIA!$A$3:$C$13,3,FALSE),+HLOOKUP(D310,CR_3_GRIGLIA!$D$1:$K$2,2,FALSE))))","v":""},""]
[310,null,{"$f":"+IF(B311=\"\",\"\",VLOOKUP(B311,CR_3_GRIGLIA!$A$3:$B$13,2,FALSE))","v":""},null,null,null,{"$f":"+IF(I311=\"\",\"\",IF(I311=CR_3_GRIGLIA!$C$16,CR_3_GRIGLIA!$B$16,IF(I311=CR_3_GRIGLIA!$C$17,CR_3_GRIGLIA!$B$17,IF(I311=CR_3_GRIGLIA!$C$18,CR_3_GRIGLIA!$B$18,IF(I311=CR_3_GRIGLIA!$C$19,CR_3_GRIGLIA!$B$19,CR_3_GRIGLIA!$B$20)))))","v":""},"",{"$f":"+IF(D311=\"\",\"\",IF(C311=\"\",0,INDEX(CR_3_GRIGLIA!$D$3:$K$13,+VLOOKUP(B311,CR_3_GRIGLIA!$A$3:$C$13,3,FALSE),+HLOOKUP(D311,CR_3_GRIGLIA!$D$1:$K$2,2,FALSE))))","v":""},""]
[311,null,{"$f":"+IF(B312=\"\",\"\",VLOOKUP(B312,CR_3_GRIGLIA!$A$3:$B$13,2,FALSE))","v":""},null,null,null,{"$f":"+IF(I312=\"\",\"\",IF(I312=CR_3_GRIGLIA!$C$16,CR_3_GRIGLIA!$B$16,IF(I312=CR_3_GRIGLIA!$C$17,CR_3_GRIGLIA!$B$17,IF(I312=CR_3_GRIGLIA!$C$18,CR_3_GRIGLIA!$B$18,IF(I312=CR_3_GRIGLIA!$C$19,CR_3_GRIGLIA!$B$19,CR_3_GRIGLIA!$B$20)))))","v":""},"",{"$f":"+IF(D312=\"\",\"\",IF(C312=\"\",0,INDEX(CR_3_GRIGLIA!$D$3:$K$13,+VLOOKUP(B312,CR_3_GRIGLIA!$A$3:$C$13,3,FALSE),+HLOOKUP(D312,CR_3_GRIGLIA!$D$1:$K$2,2,FALSE))))","v":""},""]
[312,null,{"$f":"+IF(B313=\"\",\"\",VLOOKUP(B313,CR_3_GRIGLIA!$A$3:$B$13,2,FALSE))","v":""},null,null,null,{"$f":"+IF(I313=\"\",\"\",IF(I313=CR_3_GRIGLIA!$C$16,CR_3_GRIGLIA!$B$16,IF(I313=CR_3_GRIGLIA!$C$17,CR_3_GRIGLIA!$B$17,IF(I313=CR_3_GRIGLIA!$C$18,CR_3_GRIGLIA!$B$18,IF(I313=CR_3_GRIGLIA!$C$19,CR_3_GRIGLIA!$B$19,CR_3_GRIGLIA!$B$20)))))","v":""},"",{"$f":"+IF(D313=\"\",\"\",IF(C313=\"\",0,INDEX(CR_3_GRIGLIA!$D$3:$K$13,+VLOOKUP(B313,CR_3_GRIGLIA!$A$3:$C$13,3,FALSE),+HLOOKUP(D313,CR_3_GRIGLIA!$D$1:$K$2,2,FALSE))))","v":""},""]
[313,null,{"$f":"+IF(B314=\"\",\"\",VLOOKUP(B314,CR_3_GRIGLIA!$A$3:$B$13,2,FALSE))","v":""},null,null,null,{"$f":"+IF(I314=\"\",\"\",IF(I314=CR_3_GRIGLIA!$C$16,CR_3_GRIGLIA!$B$16,IF(I314=CR_3_GRIGLIA!$C$17,CR_3_GRIGLIA!$B$17,IF(I314=CR_3_GRIGLIA!$C$18,CR_3_GRIGLIA!$B$18,IF(I314=CR_3_GRIGLIA!$C$19,CR_3_GRIGLIA!$B$19,CR_3_GRIGLIA!$B$20)))))","v":""},"",{"$f":"+IF(D314=\"\",\"\",IF(C314=\"\",0,INDEX(CR_3_GRIGLIA!$D$3:$K$13,+VLOOKUP(B314,CR_3_GRIGLIA!$A$3:$C$13,3,FALSE),+HLOOKUP(D314,CR_3_GRIGLIA!$D$1:$K$2,2,FALSE))))","v":""},""]
[314,null,{"$f":"+IF(B315=\"\",\"\",VLOOKUP(B315,CR_3_GRIGLIA!$A$3:$B$13,2,FALSE))","v":""},null,null,null,{"$f":"+IF(I315=\"\",\"\",IF(I315=CR_3_GRIGLIA!$C$16,CR_3_GRIGLIA!$B$16,IF(I315=CR_3_GRIGLIA!$C$17,CR_3_GRIGLIA!$B$17,IF(I315=CR_3_GRIGLIA!$C$18,CR_3_GRIGLIA!$B$18,IF(I315=CR_3_GRIGLIA!$C$19,CR_3_GRIGLIA!$B$19,CR_3_GRIGLIA!$B$20)))))","v":""},"",{"$f":"+IF(D315=\"\",\"\",IF(C315=\"\",0,INDEX(CR_3_GRIGLIA!$D$3:$K$13,+VLOOKUP(B315,CR_3_GRIGLIA!$A$3:$C$13,3,FALSE),+HLOOKUP(D315,CR_3_GRIGLIA!$D$1:$K$2,2,FALSE))))","v":""},""]
[315,null,{"$f":"+IF(B316=\"\",\"\",VLOOKUP(B316,CR_3_GRIGLIA!$A$3:$B$13,2,FALSE))","v":""},null,null,null,{"$f":"+IF(I316=\"\",\"\",IF(I316=CR_3_GRIGLIA!$C$16,CR_3_GRIGLIA!$B$16,IF(I316=CR_3_GRIGLIA!$C$17,CR_3_GRIGLIA!$B$17,IF(I316=CR_3_GRIGLIA!$C$18,CR_3_GRIGLIA!$B$18,IF(I316=CR_3_GRIGLIA!$C$19,CR_3_GRIGLIA!$B$19,CR_3_GRIGLIA!$B$20)))))","v":""},"",{"$f":"+IF(D316=\"\",\"\",IF(C316=\"\",0,INDEX(CR_3_GRIGLIA!$D$3:$K$13,+VLOOKUP(B316,CR_3_GRIGLIA!$A$3:$C$13,3,FALSE),+HLOOKUP(D316,CR_3_GRIGLIA!$D$1:$K$2,2,FALSE))))","v":""},""]
[316,null,{"$f":"+IF(B317=\"\",\"\",VLOOKUP(B317,CR_3_GRIGLIA!$A$3:$B$13,2,FALSE))","v":""},null,null,null,{"$f":"+IF(I317=\"\",\"\",IF(I317=CR_3_GRIGLIA!$C$16,CR_3_GRIGLIA!$B$16,IF(I317=CR_3_GRIGLIA!$C$17,CR_3_GRIGLIA!$B$17,IF(I317=CR_3_GRIGLIA!$C$18,CR_3_GRIGLIA!$B$18,IF(I317=CR_3_GRIGLIA!$C$19,CR_3_GRIGLIA!$B$19,CR_3_GRIGLIA!$B$20)))))","v":""},"",{"$f":"+IF(D317=\"\",\"\",IF(C317=\"\",0,INDEX(CR_3_GRIGLIA!$D$3:$K$13,+VLOOKUP(B317,CR_3_GRIGLIA!$A$3:$C$13,3,FALSE),+HLOOKUP(D317,CR_3_GRIGLIA!$D$1:$K$2,2,FALSE))))","v":""},""]
[317,null,{"$f":"+IF(B318=\"\",\"\",VLOOKUP(B318,CR_3_GRIGLIA!$A$3:$B$13,2,FALSE))","v":""},null,null,null,{"$f":"+IF(I318=\"\",\"\",IF(I318=CR_3_GRIGLIA!$C$16,CR_3_GRIGLIA!$B$16,IF(I318=CR_3_GRIGLIA!$C$17,CR_3_GRIGLIA!$B$17,IF(I318=CR_3_GRIGLIA!$C$18,CR_3_GRIGLIA!$B$18,IF(I318=CR_3_GRIGLIA!$C$19,CR_3_GRIGLIA!$B$19,CR_3_GRIGLIA!$B$20)))))","v":""},"",{"$f":"+IF(D318=\"\",\"\",IF(C318=\"\",0,INDEX(CR_3_GRIGLIA!$D$3:$K$13,+VLOOKUP(B318,CR_3_GRIGLIA!$A$3:$C$13,3,FALSE),+HLOOKUP(D318,CR_3_GRIGLIA!$D$1:$K$2,2,FALSE))))","v":""},""]
[318,null,{"$f":"+IF(B319=\"\",\"\",VLOOKUP(B319,CR_3_GRIGLIA!$A$3:$B$13,2,FALSE))","v":""},null,null,null,{"$f":"+IF(I319=\"\",\"\",IF(I319=CR_3_GRIGLIA!$C$16,CR_3_GRIGLIA!$B$16,IF(I319=CR_3_GRIGLIA!$C$17,CR_3_GRIGLIA!$B$17,IF(I319=CR_3_GRIGLIA!$C$18,CR_3_GRIGLIA!$B$18,IF(I319=CR_3_GRIGLIA!$C$19,CR_3_GRIGLIA!$B$19,CR_3_GRIGLIA!$B$20)))))","v":""},"",{"$f":"+IF(D319=\"\",\"\",IF(C319=\"\",0,INDEX(CR_3_GRIGLIA!$D$3:$K$13,+VLOOKUP(B319,CR_3_GRIGLIA!$A$3:$C$13,3,FALSE),+HLOOKUP(D319,CR_3_GRIGLIA!$D$1:$K$2,2,FALSE))))","v":""},""]
[319,null,{"$f":"+IF(B320=\"\",\"\",VLOOKUP(B320,CR_3_GRIGLIA!$A$3:$B$13,2,FALSE))","v":""},null,null,null,{"$f":"+IF(I320=\"\",\"\",IF(I320=CR_3_GRIGLIA!$C$16,CR_3_GRIGLIA!$B$16,IF(I320=CR_3_GRIGLIA!$C$17,CR_3_GRIGLIA!$B$17,IF(I320=CR_3_GRIGLIA!$C$18,CR_3_GRIGLIA!$B$18,IF(I320=CR_3_GRIGLIA!$C$19,CR_3_GRIGLIA!$B$19,CR_3_GRIGLIA!$B$20)))))","v":""},"",{"$f":"+IF(D320=\"\",\"\",IF(C320=\"\",0,INDEX(CR_3_GRIGLIA!$D$3:$K$13,+VLOOKUP(B320,CR_3_GRIGLIA!$A$3:$C$13,3,FALSE),+HLOOKUP(D320,CR_3_GRIGLIA!$D$1:$K$2,2,FALSE))))","v":""},""]
[320,null,{"$f":"+IF(B321=\"\",\"\",VLOOKUP(B321,CR_3_GRIGLIA!$A$3:$B$13,2,FALSE))","v":""},null,null,null,{"$f":"+IF(I321=\"\",\"\",IF(I321=CR_3_GRIGLIA!$C$16,CR_3_GRIGLIA!$B$16,IF(I321=CR_3_GRIGLIA!$C$17,CR_3_GRIGLIA!$B$17,IF(I321=CR_3_GRIGLIA!$C$18,CR_3_GRIGLIA!$B$18,IF(I321=CR_3_GRIGLIA!$C$19,CR_3_GRIGLIA!$B$19,CR_3_GRIGLIA!$B$20)))))","v":""},"",{"$f":"+IF(D321=\"\",\"\",IF(C321=\"\",0,INDEX(CR_3_GRIGLIA!$D$3:$K$13,+VLOOKUP(B321,CR_3_GRIGLIA!$A$3:$C$13,3,FALSE),+HLOOKUP(D321,CR_3_GRIGLIA!$D$1:$K$2,2,FALSE))))","v":""},""]
[321,null,{"$f":"+IF(B322=\"\",\"\",VLOOKUP(B322,CR_3_GRIGLIA!$A$3:$B$13,2,FALSE))","v":""},null,null,null,{"$f":"+IF(I322=\"\",\"\",IF(I322=CR_3_GRIGLIA!$C$16,CR_3_GRIGLIA!$B$16,IF(I322=CR_3_GRIGLIA!$C$17,CR_3_GRIGLIA!$B$17,IF(I322=CR_3_GRIGLIA!$C$18,CR_3_GRIGLIA!$B$18,IF(I322=CR_3_GRIGLIA!$C$19,CR_3_GRIGLIA!$B$19,CR_3_GRIGLIA!$B$20)))))","v":""},"",{"$f":"+IF(D322=\"\",\"\",IF(C322=\"\",0,INDEX(CR_3_GRIGLIA!$D$3:$K$13,+VLOOKUP(B322,CR_3_GRIGLIA!$A$3:$C$13,3,FALSE),+HLOOKUP(D322,CR_3_GRIGLIA!$D$1:$K$2,2,FALSE))))","v":""},""]
[322,null,{"$f":"+IF(B323=\"\",\"\",VLOOKUP(B323,CR_3_GRIGLIA!$A$3:$B$13,2,FALSE))","v":""},null,null,null,{"$f":"+IF(I323=\"\",\"\",IF(I323=CR_3_GRIGLIA!$C$16,CR_3_GRIGLIA!$B$16,IF(I323=CR_3_GRIGLIA!$C$17,CR_3_GRIGLIA!$B$17,IF(I323=CR_3_GRIGLIA!$C$18,CR_3_GRIGLIA!$B$18,IF(I323=CR_3_GRIGLIA!$C$19,CR_3_GRIGLIA!$B$19,CR_3_GRIGLIA!$B$20)))))","v":""},{"$f":"IFERROR(IF(F323=\"\",\"\",F323/$F$504),0)","v":""},{"$f":"+IF(D323=\"\",\"\",IF(C323=\"\",0,INDEX(CR_3_GRIGLIA!$D$3:$K$13,+VLOOKUP(B323,CR_3_GRIGLIA!$A$3:$C$13,3,FALSE),+HLOOKUP(D323,CR_3_GRIGLIA!$D$1:$K$2,2,FALSE))))","v":""},{"$f":"IFERROR(IF(I323=\"\",\"\",I323*F323/$F$504),0)","v":""}]
[323,null,{"$f":"+IF(B324=\"\",\"\",VLOOKUP(B324,CR_3_GRIGLIA!$A$3:$B$13,2,FALSE))","v":""},null,null,null,{"$f":"+IF(I324=\"\",\"\",IF(I324=CR_3_GRIGLIA!$C$16,CR_3_GRIGLIA!$B$16,IF(I324=CR_3_GRIGLIA!$C$17,CR_3_GRIGLIA!$B$17,IF(I324=CR_3_GRIGLIA!$C$18,CR_3_GRIGLIA!$B$18,IF(I324=CR_3_GRIGLIA!$C$19,CR_3_GRIGLIA!$B$19,CR_3_GRIGLIA!$B$20)))))","v":""},"",{"$f":"+IF(D324=\"\",\"\",IF(C324=\"\",0,INDEX(CR_3_GRIGLIA!$D$3:$K$13,+VLOOKUP(B324,CR_3_GRIGLIA!$A$3:$C$13,3,FALSE),+HLOOKUP(D324,CR_3_GRIGLIA!$D$1:$K$2,2,FALSE))))","v":""},""]
[324,null,{"$f":"+IF(B325=\"\",\"\",VLOOKUP(B325,CR_3_GRIGLIA!$A$3:$B$13,2,FALSE))","v":""},null,null,null,{"$f":"+IF(I325=\"\",\"\",IF(I325=CR_3_GRIGLIA!$C$16,CR_3_GRIGLIA!$B$16,IF(I325=CR_3_GRIGLIA!$C$17,CR_3_GRIGLIA!$B$17,IF(I325=CR_3_GRIGLIA!$C$18,CR_3_GRIGLIA!$B$18,IF(I325=CR_3_GRIGLIA!$C$19,CR_3_GRIGLIA!$B$19,CR_3_GRIGLIA!$B$20)))))","v":""},"",{"$f":"+IF(D325=\"\",\"\",IF(C325=\"\",0,INDEX(CR_3_GRIGLIA!$D$3:$K$13,+VLOOKUP(B325,CR_3_GRIGLIA!$A$3:$C$13,3,FALSE),+HLOOKUP(D325,CR_3_GRIGLIA!$D$1:$K$2,2,FALSE))))","v":""},""]
[325,null,{"$f":"+IF(B326=\"\",\"\",VLOOKUP(B326,CR_3_GRIGLIA!$A$3:$B$13,2,FALSE))","v":""},null,null,null,{"$f":"+IF(I326=\"\",\"\",IF(I326=CR_3_GRIGLIA!$C$16,CR_3_GRIGLIA!$B$16,IF(I326=CR_3_GRIGLIA!$C$17,CR_3_GRIGLIA!$B$17,IF(I326=CR_3_GRIGLIA!$C$18,CR_3_GRIGLIA!$B$18,IF(I326=CR_3_GRIGLIA!$C$19,CR_3_GRIGLIA!$B$19,CR_3_GRIGLIA!$B$20)))))","v":""},"",{"$f":"+IF(D326=\"\",\"\",IF(C326=\"\",0,INDEX(CR_3_GRIGLIA!$D$3:$K$13,+VLOOKUP(B326,CR_3_GRIGLIA!$A$3:$C$13,3,FALSE),+HLOOKUP(D326,CR_3_GRIGLIA!$D$1:$K$2,2,FALSE))))","v":""},""]
[326,null,{"$f":"+IF(B327=\"\",\"\",VLOOKUP(B327,CR_3_GRIGLIA!$A$3:$B$13,2,FALSE))","v":""},null,null,null,{"$f":"+IF(I327=\"\",\"\",IF(I327=CR_3_GRIGLIA!$C$16,CR_3_GRIGLIA!$B$16,IF(I327=CR_3_GRIGLIA!$C$17,CR_3_GRIGLIA!$B$17,IF(I327=CR_3_GRIGLIA!$C$18,CR_3_GRIGLIA!$B$18,IF(I327=CR_3_GRIGLIA!$C$19,CR_3_GRIGLIA!$B$19,CR_3_GRIGLIA!$B$20)))))","v":""},"",{"$f":"+IF(D327=\"\",\"\",IF(C327=\"\",0,INDEX(CR_3_GRIGLIA!$D$3:$K$13,+VLOOKUP(B327,CR_3_GRIGLIA!$A$3:$C$13,3,FALSE),+HLOOKUP(D327,CR_3_GRIGLIA!$D$1:$K$2,2,FALSE))))","v":""},""]
[327,null,{"$f":"+IF(B328=\"\",\"\",VLOOKUP(B328,CR_3_GRIGLIA!$A$3:$B$13,2,FALSE))","v":""},null,null,null,{"$f":"+IF(I328=\"\",\"\",IF(I328=CR_3_GRIGLIA!$C$16,CR_3_GRIGLIA!$B$16,IF(I328=CR_3_GRIGLIA!$C$17,CR_3_GRIGLIA!$B$17,IF(I328=CR_3_GRIGLIA!$C$18,CR_3_GRIGLIA!$B$18,IF(I328=CR_3_GRIGLIA!$C$19,CR_3_GRIGLIA!$B$19,CR_3_GRIGLIA!$B$20)))))","v":""},"",{"$f":"+IF(D328=\"\",\"\",IF(C328=\"\",0,INDEX(CR_3_GRIGLIA!$D$3:$K$13,+VLOOKUP(B328,CR_3_GRIGLIA!$A$3:$C$13,3,FALSE),+HLOOKUP(D328,CR_3_GRIGLIA!$D$1:$K$2,2,FALSE))))","v":""},""]
[328,null,{"$f":"+IF(B329=\"\",\"\",VLOOKUP(B329,CR_3_GRIGLIA!$A$3:$B$13,2,FALSE))","v":""},null,null,null,{"$f":"+IF(I329=\"\",\"\",IF(I329=CR_3_GRIGLIA!$C$16,CR_3_GRIGLIA!$B$16,IF(I329=CR_3_GRIGLIA!$C$17,CR_3_GRIGLIA!$B$17,IF(I329=CR_3_GRIGLIA!$C$18,CR_3_GRIGLIA!$B$18,IF(I329=CR_3_GRIGLIA!$C$19,CR_3_GRIGLIA!$B$19,CR_3_GRIGLIA!$B$20)))))","v":""},"",{"$f":"+IF(D329=\"\",\"\",IF(C329=\"\",0,INDEX(CR_3_GRIGLIA!$D$3:$K$13,+VLOOKUP(B329,CR_3_GRIGLIA!$A$3:$C$13,3,FALSE),+HLOOKUP(D329,CR_3_GRIGLIA!$D$1:$K$2,2,FALSE))))","v":""},""]
[329,null,{"$f":"+IF(B330=\"\",\"\",VLOOKUP(B330,CR_3_GRIGLIA!$A$3:$B$13,2,FALSE))","v":""},null,null,null,{"$f":"+IF(I330=\"\",\"\",IF(I330=CR_3_GRIGLIA!$C$16,CR_3_GRIGLIA!$B$16,IF(I330=CR_3_GRIGLIA!$C$17,CR_3_GRIGLIA!$B$17,IF(I330=CR_3_GRIGLIA!$C$18,CR_3_GRIGLIA!$B$18,IF(I330=CR_3_GRIGLIA!$C$19,CR_3_GRIGLIA!$B$19,CR_3_GRIGLIA!$B$20)))))","v":""},"",{"$f":"+IF(D330=\"\",\"\",IF(C330=\"\",0,INDEX(CR_3_GRIGLIA!$D$3:$K$13,+VLOOKUP(B330,CR_3_GRIGLIA!$A$3:$C$13,3,FALSE),+HLOOKUP(D330,CR_3_GRIGLIA!$D$1:$K$2,2,FALSE))))","v":""},""]
[330,null,{"$f":"+IF(B331=\"\",\"\",VLOOKUP(B331,CR_3_GRIGLIA!$A$3:$B$13,2,FALSE))","v":""},null,null,null,{"$f":"+IF(I331=\"\",\"\",IF(I331=CR_3_GRIGLIA!$C$16,CR_3_GRIGLIA!$B$16,IF(I331=CR_3_GRIGLIA!$C$17,CR_3_GRIGLIA!$B$17,IF(I331=CR_3_GRIGLIA!$C$18,CR_3_GRIGLIA!$B$18,IF(I331=CR_3_GRIGLIA!$C$19,CR_3_GRIGLIA!$B$19,CR_3_GRIGLIA!$B$20)))))","v":""},"",{"$f":"+IF(D331=\"\",\"\",IF(C331=\"\",0,INDEX(CR_3_GRIGLIA!$D$3:$K$13,+VLOOKUP(B331,CR_3_GRIGLIA!$A$3:$C$13,3,FALSE),+HLOOKUP(D331,CR_3_GRIGLIA!$D$1:$K$2,2,FALSE))))","v":""},""]
[331,null,{"$f":"+IF(B332=\"\",\"\",VLOOKUP(B332,CR_3_GRIGLIA!$A$3:$B$13,2,FALSE))","v":""},null,null,null,{"$f":"+IF(I332=\"\",\"\",IF(I332=CR_3_GRIGLIA!$C$16,CR_3_GRIGLIA!$B$16,IF(I332=CR_3_GRIGLIA!$C$17,CR_3_GRIGLIA!$B$17,IF(I332=CR_3_GRIGLIA!$C$18,CR_3_GRIGLIA!$B$18,IF(I332=CR_3_GRIGLIA!$C$19,CR_3_GRIGLIA!$B$19,CR_3_GRIGLIA!$B$20)))))","v":""},"",{"$f":"+IF(D332=\"\",\"\",IF(C332=\"\",0,INDEX(CR_3_GRIGLIA!$D$3:$K$13,+VLOOKUP(B332,CR_3_GRIGLIA!$A$3:$C$13,3,FALSE),+HLOOKUP(D332,CR_3_GRIGLIA!$D$1:$K$2,2,FALSE))))","v":""},""]
[332,null,{"$f":"+IF(B333=\"\",\"\",VLOOKUP(B333,CR_3_GRIGLIA!$A$3:$B$13,2,FALSE))","v":""},null,null,null,{"$f":"+IF(I333=\"\",\"\",IF(I333=CR_3_GRIGLIA!$C$16,CR_3_GRIGLIA!$B$16,IF(I333=CR_3_GRIGLIA!$C$17,CR_3_GRIGLIA!$B$17,IF(I333=CR_3_GRIGLIA!$C$18,CR_3_GRIGLIA!$B$18,IF(I333=CR_3_GRIGLIA!$C$19,CR_3_GRIGLIA!$B$19,CR_3_GRIGLIA!$B$20)))))","v":""},"",{"$f":"+IF(D333=\"\",\"\",IF(C333=\"\",0,INDEX(CR_3_GRIGLIA!$D$3:$K$13,+VLOOKUP(B333,CR_3_GRIGLIA!$A$3:$C$13,3,FALSE),+HLOOKUP(D333,CR_3_GRIGLIA!$D$1:$K$2,2,FALSE))))","v":""},""]
[333,null,{"$f":"+IF(B334=\"\",\"\",VLOOKUP(B334,CR_3_GRIGLIA!$A$3:$B$13,2,FALSE))","v":""},null,null,null,{"$f":"+IF(I334=\"\",\"\",IF(I334=CR_3_GRIGLIA!$C$16,CR_3_GRIGLIA!$B$16,IF(I334=CR_3_GRIGLIA!$C$17,CR_3_GRIGLIA!$B$17,IF(I334=CR_3_GRIGLIA!$C$18,CR_3_GRIGLIA!$B$18,IF(I334=CR_3_GRIGLIA!$C$19,CR_3_GRIGLIA!$B$19,CR_3_GRIGLIA!$B$20)))))","v":""},"",{"$f":"+IF(D334=\"\",\"\",IF(C334=\"\",0,INDEX(CR_3_GRIGLIA!$D$3:$K$13,+VLOOKUP(B334,CR_3_GRIGLIA!$A$3:$C$13,3,FALSE),+HLOOKUP(D334,CR_3_GRIGLIA!$D$1:$K$2,2,FALSE))))","v":""},""]
[334,null,{"$f":"+IF(B335=\"\",\"\",VLOOKUP(B335,CR_3_GRIGLIA!$A$3:$B$13,2,FALSE))","v":""},null,null,null,{"$f":"+IF(I335=\"\",\"\",IF(I335=CR_3_GRIGLIA!$C$16,CR_3_GRIGLIA!$B$16,IF(I335=CR_3_GRIGLIA!$C$17,CR_3_GRIGLIA!$B$17,IF(I335=CR_3_GRIGLIA!$C$18,CR_3_GRIGLIA!$B$18,IF(I335=CR_3_GRIGLIA!$C$19,CR_3_GRIGLIA!$B$19,CR_3_GRIGLIA!$B$20)))))","v":""},"",{"$f":"+IF(D335=\"\",\"\",IF(C335=\"\",0,INDEX(CR_3_GRIGLIA!$D$3:$K$13,+VLOOKUP(B335,CR_3_GRIGLIA!$A$3:$C$13,3,FALSE),+HLOOKUP(D335,CR_3_GRIGLIA!$D$1:$K$2,2,FALSE))))","v":""},""]
[335,null,{"$f":"+IF(B336=\"\",\"\",VLOOKUP(B336,CR_3_GRIGLIA!$A$3:$B$13,2,FALSE))","v":""},null,null,null,{"$f":"+IF(I336=\"\",\"\",IF(I336=CR_3_GRIGLIA!$C$16,CR_3_GRIGLIA!$B$16,IF(I336=CR_3_GRIGLIA!$C$17,CR_3_GRIGLIA!$B$17,IF(I336=CR_3_GRIGLIA!$C$18,CR_3_GRIGLIA!$B$18,IF(I336=CR_3_GRIGLIA!$C$19,CR_3_GRIGLIA!$B$19,CR_3_GRIGLIA!$B$20)))))","v":""},"",{"$f":"+IF(D336=\"\",\"\",IF(C336=\"\",0,INDEX(CR_3_GRIGLIA!$D$3:$K$13,+VLOOKUP(B336,CR_3_GRIGLIA!$A$3:$C$13,3,FALSE),+HLOOKUP(D336,CR_3_GRIGLIA!$D$1:$K$2,2,FALSE))))","v":""},""]
[336,null,{"$f":"+IF(B337=\"\",\"\",VLOOKUP(B337,CR_3_GRIGLIA!$A$3:$B$13,2,FALSE))","v":""},null,null,null,{"$f":"+IF(I337=\"\",\"\",IF(I337=CR_3_GRIGLIA!$C$16,CR_3_GRIGLIA!$B$16,IF(I337=CR_3_GRIGLIA!$C$17,CR_3_GRIGLIA!$B$17,IF(I337=CR_3_GRIGLIA!$C$18,CR_3_GRIGLIA!$B$18,IF(I337=CR_3_GRIGLIA!$C$19,CR_3_GRIGLIA!$B$19,CR_3_GRIGLIA!$B$20)))))","v":""},"",{"$f":"+IF(D337=\"\",\"\",IF(C337=\"\",0,INDEX(CR_3_GRIGLIA!$D$3:$K$13,+VLOOKUP(B337,CR_3_GRIGLIA!$A$3:$C$13,3,FALSE),+HLOOKUP(D337,CR_3_GRIGLIA!$D$1:$K$2,2,FALSE))))","v":""},""]
[337,null,{"$f":"+IF(B338=\"\",\"\",VLOOKUP(B338,CR_3_GRIGLIA!$A$3:$B$13,2,FALSE))","v":""},null,null,null,{"$f":"+IF(I338=\"\",\"\",IF(I338=CR_3_GRIGLIA!$C$16,CR_3_GRIGLIA!$B$16,IF(I338=CR_3_GRIGLIA!$C$17,CR_3_GRIGLIA!$B$17,IF(I338=CR_3_GRIGLIA!$C$18,CR_3_GRIGLIA!$B$18,IF(I338=CR_3_GRIGLIA!$C$19,CR_3_GRIGLIA!$B$19,CR_3_GRIGLIA!$B$20)))))","v":""},"",{"$f":"+IF(D338=\"\",\"\",IF(C338=\"\",0,INDEX(CR_3_GRIGLIA!$D$3:$K$13,+VLOOKUP(B338,CR_3_GRIGLIA!$A$3:$C$13,3,FALSE),+HLOOKUP(D338,CR_3_GRIGLIA!$D$1:$K$2,2,FALSE))))","v":""},""]
[338,null,{"$f":"+IF(B339=\"\",\"\",VLOOKUP(B339,CR_3_GRIGLIA!$A$3:$B$13,2,FALSE))","v":""},null,null,null,{"$f":"+IF(I339=\"\",\"\",IF(I339=CR_3_GRIGLIA!$C$16,CR_3_GRIGLIA!$B$16,IF(I339=CR_3_GRIGLIA!$C$17,CR_3_GRIGLIA!$B$17,IF(I339=CR_3_GRIGLIA!$C$18,CR_3_GRIGLIA!$B$18,IF(I339=CR_3_GRIGLIA!$C$19,CR_3_GRIGLIA!$B$19,CR_3_GRIGLIA!$B$20)))))","v":""},"",{"$f":"+IF(D339=\"\",\"\",IF(C339=\"\",0,INDEX(CR_3_GRIGLIA!$D$3:$K$13,+VLOOKUP(B339,CR_3_GRIGLIA!$A$3:$C$13,3,FALSE),+HLOOKUP(D339,CR_3_GRIGLIA!$D$1:$K$2,2,FALSE))))","v":""},""]
[339,null,{"$f":"+IF(B340=\"\",\"\",VLOOKUP(B340,CR_3_GRIGLIA!$A$3:$B$13,2,FALSE))","v":""},null,null,null,{"$f":"+IF(I340=\"\",\"\",IF(I340=CR_3_GRIGLIA!$C$16,CR_3_GRIGLIA!$B$16,IF(I340=CR_3_GRIGLIA!$C$17,CR_3_GRIGLIA!$B$17,IF(I340=CR_3_GRIGLIA!$C$18,CR_3_GRIGLIA!$B$18,IF(I340=CR_3_GRIGLIA!$C$19,CR_3_GRIGLIA!$B$19,CR_3_GRIGLIA!$B$20)))))","v":""},"",{"$f":"+IF(D340=\"\",\"\",IF(C340=\"\",0,INDEX(CR_3_GRIGLIA!$D$3:$K$13,+VLOOKUP(B340,CR_3_GRIGLIA!$A$3:$C$13,3,FALSE),+HLOOKUP(D340,CR_3_GRIGLIA!$D$1:$K$2,2,FALSE))))","v":""},""]
[340,null,{"$f":"+IF(B341=\"\",\"\",VLOOKUP(B341,CR_3_GRIGLIA!$A$3:$B$13,2,FALSE))","v":""},null,null,null,{"$f":"+IF(I341=\"\",\"\",IF(I341=CR_3_GRIGLIA!$C$16,CR_3_GRIGLIA!$B$16,IF(I341=CR_3_GRIGLIA!$C$17,CR_3_GRIGLIA!$B$17,IF(I341=CR_3_GRIGLIA!$C$18,CR_3_GRIGLIA!$B$18,IF(I341=CR_3_GRIGLIA!$C$19,CR_3_GRIGLIA!$B$19,CR_3_GRIGLIA!$B$20)))))","v":""},"",{"$f":"+IF(D341=\"\",\"\",IF(C341=\"\",0,INDEX(CR_3_GRIGLIA!$D$3:$K$13,+VLOOKUP(B341,CR_3_GRIGLIA!$A$3:$C$13,3,FALSE),+HLOOKUP(D341,CR_3_GRIGLIA!$D$1:$K$2,2,FALSE))))","v":""},""]
[341,null,{"$f":"+IF(B342=\"\",\"\",VLOOKUP(B342,CR_3_GRIGLIA!$A$3:$B$13,2,FALSE))","v":""},null,null,null,{"$f":"+IF(I342=\"\",\"\",IF(I342=CR_3_GRIGLIA!$C$16,CR_3_GRIGLIA!$B$16,IF(I342=CR_3_GRIGLIA!$C$17,CR_3_GRIGLIA!$B$17,IF(I342=CR_3_GRIGLIA!$C$18,CR_3_GRIGLIA!$B$18,IF(I342=CR_3_GRIGLIA!$C$19,CR_3_GRIGLIA!$B$19,CR_3_GRIGLIA!$B$20)))))","v":""},"",{"$f":"+IF(D342=\"\",\"\",IF(C342=\"\",0,INDEX(CR_3_GRIGLIA!$D$3:$K$13,+VLOOKUP(B342,CR_3_GRIGLIA!$A$3:$C$13,3,FALSE),+HLOOKUP(D342,CR_3_GRIGLIA!$D$1:$K$2,2,FALSE))))","v":""},""]
[342,null,{"$f":"+IF(B343=\"\",\"\",VLOOKUP(B343,CR_3_GRIGLIA!$A$3:$B$13,2,FALSE))","v":""},null,null,null,{"$f":"+IF(I343=\"\",\"\",IF(I343=CR_3_GRIGLIA!$C$16,CR_3_GRIGLIA!$B$16,IF(I343=CR_3_GRIGLIA!$C$17,CR_3_GRIGLIA!$B$17,IF(I343=CR_3_GRIGLIA!$C$18,CR_3_GRIGLIA!$B$18,IF(I343=CR_3_GRIGLIA!$C$19,CR_3_GRIGLIA!$B$19,CR_3_GRIGLIA!$B$20)))))","v":""},"",{"$f":"+IF(D343=\"\",\"\",IF(C343=\"\",0,INDEX(CR_3_GRIGLIA!$D$3:$K$13,+VLOOKUP(B343,CR_3_GRIGLIA!$A$3:$C$13,3,FALSE),+HLOOKUP(D343,CR_3_GRIGLIA!$D$1:$K$2,2,FALSE))))","v":""},""]
[343,null,{"$f":"+IF(B344=\"\",\"\",VLOOKUP(B344,CR_3_GRIGLIA!$A$3:$B$13,2,FALSE))","v":""},null,null,null,{"$f":"+IF(I344=\"\",\"\",IF(I344=CR_3_GRIGLIA!$C$16,CR_3_GRIGLIA!$B$16,IF(I344=CR_3_GRIGLIA!$C$17,CR_3_GRIGLIA!$B$17,IF(I344=CR_3_GRIGLIA!$C$18,CR_3_GRIGLIA!$B$18,IF(I344=CR_3_GRIGLIA!$C$19,CR_3_GRIGLIA!$B$19,CR_3_GRIGLIA!$B$20)))))","v":""},"",{"$f":"+IF(D344=\"\",\"\",IF(C344=\"\",0,INDEX(CR_3_GRIGLIA!$D$3:$K$13,+VLOOKUP(B344,CR_3_GRIGLIA!$A$3:$C$13,3,FALSE),+HLOOKUP(D344,CR_3_GRIGLIA!$D$1:$K$2,2,FALSE))))","v":""},""]
[344,null,{"$f":"+IF(B345=\"\",\"\",VLOOKUP(B345,CR_3_GRIGLIA!$A$3:$B$13,2,FALSE))","v":""},null,null,null,{"$f":"+IF(I345=\"\",\"\",IF(I345=CR_3_GRIGLIA!$C$16,CR_3_GRIGLIA!$B$16,IF(I345=CR_3_GRIGLIA!$C$17,CR_3_GRIGLIA!$B$17,IF(I345=CR_3_GRIGLIA!$C$18,CR_3_GRIGLIA!$B$18,IF(I345=CR_3_GRIGLIA!$C$19,CR_3_GRIGLIA!$B$19,CR_3_GRIGLIA!$B$20)))))","v":""},"",{"$f":"+IF(D345=\"\",\"\",IF(C345=\"\",0,INDEX(CR_3_GRIGLIA!$D$3:$K$13,+VLOOKUP(B345,CR_3_GRIGLIA!$A$3:$C$13,3,FALSE),+HLOOKUP(D345,CR_3_GRIGLIA!$D$1:$K$2,2,FALSE))))","v":""},""]
[345,null,{"$f":"+IF(B346=\"\",\"\",VLOOKUP(B346,CR_3_GRIGLIA!$A$3:$B$13,2,FALSE))","v":""},null,null,null,{"$f":"+IF(I346=\"\",\"\",IF(I346=CR_3_GRIGLIA!$C$16,CR_3_GRIGLIA!$B$16,IF(I346=CR_3_GRIGLIA!$C$17,CR_3_GRIGLIA!$B$17,IF(I346=CR_3_GRIGLIA!$C$18,CR_3_GRIGLIA!$B$18,IF(I346=CR_3_GRIGLIA!$C$19,CR_3_GRIGLIA!$B$19,CR_3_GRIGLIA!$B$20)))))","v":""},"",{"$f":"+IF(D346=\"\",\"\",IF(C346=\"\",0,INDEX(CR_3_GRIGLIA!$D$3:$K$13,+VLOOKUP(B346,CR_3_GRIGLIA!$A$3:$C$13,3,FALSE),+HLOOKUP(D346,CR_3_GRIGLIA!$D$1:$K$2,2,FALSE))))","v":""},""]
[346,null,{"$f":"+IF(B347=\"\",\"\",VLOOKUP(B347,CR_3_GRIGLIA!$A$3:$B$13,2,FALSE))","v":""},null,null,null,{"$f":"+IF(I347=\"\",\"\",IF(I347=CR_3_GRIGLIA!$C$16,CR_3_GRIGLIA!$B$16,IF(I347=CR_3_GRIGLIA!$C$17,CR_3_GRIGLIA!$B$17,IF(I347=CR_3_GRIGLIA!$C$18,CR_3_GRIGLIA!$B$18,IF(I347=CR_3_GRIGLIA!$C$19,CR_3_GRIGLIA!$B$19,CR_3_GRIGLIA!$B$20)))))","v":""},"",{"$f":"+IF(D347=\"\",\"\",IF(C347=\"\",0,INDEX(CR_3_GRIGLIA!$D$3:$K$13,+VLOOKUP(B347,CR_3_GRIGLIA!$A$3:$C$13,3,FALSE),+HLOOKUP(D347,CR_3_GRIGLIA!$D$1:$K$2,2,FALSE))))","v":""},""]
[347,null,{"$f":"+IF(B348=\"\",\"\",VLOOKUP(B348,CR_3_GRIGLIA!$A$3:$B$13,2,FALSE))","v":""},null,null,null,{"$f":"+IF(I348=\"\",\"\",IF(I348=CR_3_GRIGLIA!$C$16,CR_3_GRIGLIA!$B$16,IF(I348=CR_3_GRIGLIA!$C$17,CR_3_GRIGLIA!$B$17,IF(I348=CR_3_GRIGLIA!$C$18,CR_3_GRIGLIA!$B$18,IF(I348=CR_3_GRIGLIA!$C$19,CR_3_GRIGLIA!$B$19,CR_3_GRIGLIA!$B$20)))))","v":""},"",{"$f":"+IF(D348=\"\",\"\",IF(C348=\"\",0,INDEX(CR_3_GRIGLIA!$D$3:$K$13,+VLOOKUP(B348,CR_3_GRIGLIA!$A$3:$C$13,3,FALSE),+HLOOKUP(D348,CR_3_GRIGLIA!$D$1:$K$2,2,FALSE))))","v":""},""]
[348,null,{"$f":"+IF(B349=\"\",\"\",VLOOKUP(B349,CR_3_GRIGLIA!$A$3:$B$13,2,FALSE))","v":""},null,null,null,{"$f":"+IF(I349=\"\",\"\",IF(I349=CR_3_GRIGLIA!$C$16,CR_3_GRIGLIA!$B$16,IF(I349=CR_3_GRIGLIA!$C$17,CR_3_GRIGLIA!$B$17,IF(I349=CR_3_GRIGLIA!$C$18,CR_3_GRIGLIA!$B$18,IF(I349=CR_3_GRIGLIA!$C$19,CR_3_GRIGLIA!$B$19,CR_3_GRIGLIA!$B$20)))))","v":""},"",{"$f":"+IF(D349=\"\",\"\",IF(C349=\"\",0,INDEX(CR_3_GRIGLIA!$D$3:$K$13,+VLOOKUP(B349,CR_3_GRIGLIA!$A$3:$C$13,3,FALSE),+HLOOKUP(D349,CR_3_GRIGLIA!$D$1:$K$2,2,FALSE))))","v":""},""]
[349,null,{"$f":"+IF(B350=\"\",\"\",VLOOKUP(B350,CR_3_GRIGLIA!$A$3:$B$13,2,FALSE))","v":""},null,null,null,{"$f":"+IF(I350=\"\",\"\",IF(I350=CR_3_GRIGLIA!$C$16,CR_3_GRIGLIA!$B$16,IF(I350=CR_3_GRIGLIA!$C$17,CR_3_GRIGLIA!$B$17,IF(I350=CR_3_GRIGLIA!$C$18,CR_3_GRIGLIA!$B$18,IF(I350=CR_3_GRIGLIA!$C$19,CR_3_GRIGLIA!$B$19,CR_3_GRIGLIA!$B$20)))))","v":""},"",{"$f":"+IF(D350=\"\",\"\",IF(C350=\"\",0,INDEX(CR_3_GRIGLIA!$D$3:$K$13,+VLOOKUP(B350,CR_3_GRIGLIA!$A$3:$C$13,3,FALSE),+HLOOKUP(D350,CR_3_GRIGLIA!$D$1:$K$2,2,FALSE))))","v":""},""]
[350,null,{"$f":"+IF(B351=\"\",\"\",VLOOKUP(B351,CR_3_GRIGLIA!$A$3:$B$13,2,FALSE))","v":""},null,null,null,{"$f":"+IF(I351=\"\",\"\",IF(I351=CR_3_GRIGLIA!$C$16,CR_3_GRIGLIA!$B$16,IF(I351=CR_3_GRIGLIA!$C$17,CR_3_GRIGLIA!$B$17,IF(I351=CR_3_GRIGLIA!$C$18,CR_3_GRIGLIA!$B$18,IF(I351=CR_3_GRIGLIA!$C$19,CR_3_GRIGLIA!$B$19,CR_3_GRIGLIA!$B$20)))))","v":""},"",{"$f":"+IF(D351=\"\",\"\",IF(C351=\"\",0,INDEX(CR_3_GRIGLIA!$D$3:$K$13,+VLOOKUP(B351,CR_3_GRIGLIA!$A$3:$C$13,3,FALSE),+HLOOKUP(D351,CR_3_GRIGLIA!$D$1:$K$2,2,FALSE))))","v":""},""]
[351,null,{"$f":"+IF(B352=\"\",\"\",VLOOKUP(B352,CR_3_GRIGLIA!$A$3:$B$13,2,FALSE))","v":""},null,null,null,{"$f":"+IF(I352=\"\",\"\",IF(I352=CR_3_GRIGLIA!$C$16,CR_3_GRIGLIA!$B$16,IF(I352=CR_3_GRIGLIA!$C$17,CR_3_GRIGLIA!$B$17,IF(I352=CR_3_GRIGLIA!$C$18,CR_3_GRIGLIA!$B$18,IF(I352=CR_3_GRIGLIA!$C$19,CR_3_GRIGLIA!$B$19,CR_3_GRIGLIA!$B$20)))))","v":""},"",{"$f":"+IF(D352=\"\",\"\",IF(C352=\"\",0,INDEX(CR_3_GRIGLIA!$D$3:$K$13,+VLOOKUP(B352,CR_3_GRIGLIA!$A$3:$C$13,3,FALSE),+HLOOKUP(D352,CR_3_GRIGLIA!$D$1:$K$2,2,FALSE))))","v":""},""]
[352,null,{"$f":"+IF(B353=\"\",\"\",VLOOKUP(B353,CR_3_GRIGLIA!$A$3:$B$13,2,FALSE))","v":""},null,null,null,{"$f":"+IF(I353=\"\",\"\",IF(I353=CR_3_GRIGLIA!$C$16,CR_3_GRIGLIA!$B$16,IF(I353=CR_3_GRIGLIA!$C$17,CR_3_GRIGLIA!$B$17,IF(I353=CR_3_GRIGLIA!$C$18,CR_3_GRIGLIA!$B$18,IF(I353=CR_3_GRIGLIA!$C$19,CR_3_GRIGLIA!$B$19,CR_3_GRIGLIA!$B$20)))))","v":""},"",{"$f":"+IF(D353=\"\",\"\",IF(C353=\"\",0,INDEX(CR_3_GRIGLIA!$D$3:$K$13,+VLOOKUP(B353,CR_3_GRIGLIA!$A$3:$C$13,3,FALSE),+HLOOKUP(D353,CR_3_GRIGLIA!$D$1:$K$2,2,FALSE))))","v":""},""]
[353,null,{"$f":"+IF(B354=\"\",\"\",VLOOKUP(B354,CR_3_GRIGLIA!$A$3:$B$13,2,FALSE))","v":""},null,null,null,{"$f":"+IF(I354=\"\",\"\",IF(I354=CR_3_GRIGLIA!$C$16,CR_3_GRIGLIA!$B$16,IF(I354=CR_3_GRIGLIA!$C$17,CR_3_GRIGLIA!$B$17,IF(I354=CR_3_GRIGLIA!$C$18,CR_3_GRIGLIA!$B$18,IF(I354=CR_3_GRIGLIA!$C$19,CR_3_GRIGLIA!$B$19,CR_3_GRIGLIA!$B$20)))))","v":""},"",{"$f":"+IF(D354=\"\",\"\",IF(C354=\"\",0,INDEX(CR_3_GRIGLIA!$D$3:$K$13,+VLOOKUP(B354,CR_3_GRIGLIA!$A$3:$C$13,3,FALSE),+HLOOKUP(D354,CR_3_GRIGLIA!$D$1:$K$2,2,FALSE))))","v":""},""]
[354,null,{"$f":"+IF(B355=\"\",\"\",VLOOKUP(B355,CR_3_GRIGLIA!$A$3:$B$13,2,FALSE))","v":""},null,null,null,{"$f":"+IF(I355=\"\",\"\",IF(I355=CR_3_GRIGLIA!$C$16,CR_3_GRIGLIA!$B$16,IF(I355=CR_3_GRIGLIA!$C$17,CR_3_GRIGLIA!$B$17,IF(I355=CR_3_GRIGLIA!$C$18,CR_3_GRIGLIA!$B$18,IF(I355=CR_3_GRIGLIA!$C$19,CR_3_GRIGLIA!$B$19,CR_3_GRIGLIA!$B$20)))))","v":""},"",{"$f":"+IF(D355=\"\",\"\",IF(C355=\"\",0,INDEX(CR_3_GRIGLIA!$D$3:$K$13,+VLOOKUP(B355,CR_3_GRIGLIA!$A$3:$C$13,3,FALSE),+HLOOKUP(D355,CR_3_GRIGLIA!$D$1:$K$2,2,FALSE))))","v":""},""]
[355,null,{"$f":"+IF(B356=\"\",\"\",VLOOKUP(B356,CR_3_GRIGLIA!$A$3:$B$13,2,FALSE))","v":""},null,null,null,{"$f":"+IF(I356=\"\",\"\",IF(I356=CR_3_GRIGLIA!$C$16,CR_3_GRIGLIA!$B$16,IF(I356=CR_3_GRIGLIA!$C$17,CR_3_GRIGLIA!$B$17,IF(I356=CR_3_GRIGLIA!$C$18,CR_3_GRIGLIA!$B$18,IF(I356=CR_3_GRIGLIA!$C$19,CR_3_GRIGLIA!$B$19,CR_3_GRIGLIA!$B$20)))))","v":""},"",{"$f":"+IF(D356=\"\",\"\",IF(C356=\"\",0,INDEX(CR_3_GRIGLIA!$D$3:$K$13,+VLOOKUP(B356,CR_3_GRIGLIA!$A$3:$C$13,3,FALSE),+HLOOKUP(D356,CR_3_GRIGLIA!$D$1:$K$2,2,FALSE))))","v":""},""]
[356,null,{"$f":"+IF(B357=\"\",\"\",VLOOKUP(B357,CR_3_GRIGLIA!$A$3:$B$13,2,FALSE))","v":""},null,null,null,{"$f":"+IF(I357=\"\",\"\",IF(I357=CR_3_GRIGLIA!$C$16,CR_3_GRIGLIA!$B$16,IF(I357=CR_3_GRIGLIA!$C$17,CR_3_GRIGLIA!$B$17,IF(I357=CR_3_GRIGLIA!$C$18,CR_3_GRIGLIA!$B$18,IF(I357=CR_3_GRIGLIA!$C$19,CR_3_GRIGLIA!$B$19,CR_3_GRIGLIA!$B$20)))))","v":""},"",{"$f":"+IF(D357=\"\",\"\",IF(C357=\"\",0,INDEX(CR_3_GRIGLIA!$D$3:$K$13,+VLOOKUP(B357,CR_3_GRIGLIA!$A$3:$C$13,3,FALSE),+HLOOKUP(D357,CR_3_GRIGLIA!$D$1:$K$2,2,FALSE))))","v":""},""]
[357,null,{"$f":"+IF(B358=\"\",\"\",VLOOKUP(B358,CR_3_GRIGLIA!$A$3:$B$13,2,FALSE))","v":""},null,null,null,{"$f":"+IF(I358=\"\",\"\",IF(I358=CR_3_GRIGLIA!$C$16,CR_3_GRIGLIA!$B$16,IF(I358=CR_3_GRIGLIA!$C$17,CR_3_GRIGLIA!$B$17,IF(I358=CR_3_GRIGLIA!$C$18,CR_3_GRIGLIA!$B$18,IF(I358=CR_3_GRIGLIA!$C$19,CR_3_GRIGLIA!$B$19,CR_3_GRIGLIA!$B$20)))))","v":""},"",{"$f":"+IF(D358=\"\",\"\",IF(C358=\"\",0,INDEX(CR_3_GRIGLIA!$D$3:$K$13,+VLOOKUP(B358,CR_3_GRIGLIA!$A$3:$C$13,3,FALSE),+HLOOKUP(D358,CR_3_GRIGLIA!$D$1:$K$2,2,FALSE))))","v":""},""]
[358,null,{"$f":"+IF(B359=\"\",\"\",VLOOKUP(B359,CR_3_GRIGLIA!$A$3:$B$13,2,FALSE))","v":""},null,null,null,{"$f":"+IF(I359=\"\",\"\",IF(I359=CR_3_GRIGLIA!$C$16,CR_3_GRIGLIA!$B$16,IF(I359=CR_3_GRIGLIA!$C$17,CR_3_GRIGLIA!$B$17,IF(I359=CR_3_GRIGLIA!$C$18,CR_3_GRIGLIA!$B$18,IF(I359=CR_3_GRIGLIA!$C$19,CR_3_GRIGLIA!$B$19,CR_3_GRIGLIA!$B$20)))))","v":""},"",{"$f":"+IF(D359=\"\",\"\",IF(C359=\"\",0,INDEX(CR_3_GRIGLIA!$D$3:$K$13,+VLOOKUP(B359,CR_3_GRIGLIA!$A$3:$C$13,3,FALSE),+HLOOKUP(D359,CR_3_GRIGLIA!$D$1:$K$2,2,FALSE))))","v":""},""]
[359,null,{"$f":"+IF(B360=\"\",\"\",VLOOKUP(B360,CR_3_GRIGLIA!$A$3:$B$13,2,FALSE))","v":""},null,null,null,{"$f":"+IF(I360=\"\",\"\",IF(I360=CR_3_GRIGLIA!$C$16,CR_3_GRIGLIA!$B$16,IF(I360=CR_3_GRIGLIA!$C$17,CR_3_GRIGLIA!$B$17,IF(I360=CR_3_GRIGLIA!$C$18,CR_3_GRIGLIA!$B$18,IF(I360=CR_3_GRIGLIA!$C$19,CR_3_GRIGLIA!$B$19,CR_3_GRIGLIA!$B$20)))))","v":""},"",{"$f":"+IF(D360=\"\",\"\",IF(C360=\"\",0,INDEX(CR_3_GRIGLIA!$D$3:$K$13,+VLOOKUP(B360,CR_3_GRIGLIA!$A$3:$C$13,3,FALSE),+HLOOKUP(D360,CR_3_GRIGLIA!$D$1:$K$2,2,FALSE))))","v":""},""]
[360,null,{"$f":"+IF(B361=\"\",\"\",VLOOKUP(B361,CR_3_GRIGLIA!$A$3:$B$13,2,FALSE))","v":""},null,null,null,{"$f":"+IF(I361=\"\",\"\",IF(I361=CR_3_GRIGLIA!$C$16,CR_3_GRIGLIA!$B$16,IF(I361=CR_3_GRIGLIA!$C$17,CR_3_GRIGLIA!$B$17,IF(I361=CR_3_GRIGLIA!$C$18,CR_3_GRIGLIA!$B$18,IF(I361=CR_3_GRIGLIA!$C$19,CR_3_GRIGLIA!$B$19,CR_3_GRIGLIA!$B$20)))))","v":""},"",{"$f":"+IF(D361=\"\",\"\",IF(C361=\"\",0,INDEX(CR_3_GRIGLIA!$D$3:$K$13,+VLOOKUP(B361,CR_3_GRIGLIA!$A$3:$C$13,3,FALSE),+HLOOKUP(D361,CR_3_GRIGLIA!$D$1:$K$2,2,FALSE))))","v":""},""]
[361,null,{"$f":"+IF(B362=\"\",\"\",VLOOKUP(B362,CR_3_GRIGLIA!$A$3:$B$13,2,FALSE))","v":""},null,null,null,{"$f":"+IF(I362=\"\",\"\",IF(I362=CR_3_GRIGLIA!$C$16,CR_3_GRIGLIA!$B$16,IF(I362=CR_3_GRIGLIA!$C$17,CR_3_GRIGLIA!$B$17,IF(I362=CR_3_GRIGLIA!$C$18,CR_3_GRIGLIA!$B$18,IF(I362=CR_3_GRIGLIA!$C$19,CR_3_GRIGLIA!$B$19,CR_3_GRIGLIA!$B$20)))))","v":""},"",{"$f":"+IF(D362=\"\",\"\",IF(C362=\"\",0,INDEX(CR_3_GRIGLIA!$D$3:$K$13,+VLOOKUP(B362,CR_3_GRIGLIA!$A$3:$C$13,3,FALSE),+HLOOKUP(D362,CR_3_GRIGLIA!$D$1:$K$2,2,FALSE))))","v":""},""]
[362,null,{"$f":"+IF(B363=\"\",\"\",VLOOKUP(B363,CR_3_GRIGLIA!$A$3:$B$13,2,FALSE))","v":""},null,null,null,{"$f":"+IF(I363=\"\",\"\",IF(I363=CR_3_GRIGLIA!$C$16,CR_3_GRIGLIA!$B$16,IF(I363=CR_3_GRIGLIA!$C$17,CR_3_GRIGLIA!$B$17,IF(I363=CR_3_GRIGLIA!$C$18,CR_3_GRIGLIA!$B$18,IF(I363=CR_3_GRIGLIA!$C$19,CR_3_GRIGLIA!$B$19,CR_3_GRIGLIA!$B$20)))))","v":""},"",{"$f":"+IF(D363=\"\",\"\",IF(C363=\"\",0,INDEX(CR_3_GRIGLIA!$D$3:$K$13,+VLOOKUP(B363,CR_3_GRIGLIA!$A$3:$C$13,3,FALSE),+HLOOKUP(D363,CR_3_GRIGLIA!$D$1:$K$2,2,FALSE))))","v":""},""]
[363,null,{"$f":"+IF(B364=\"\",\"\",VLOOKUP(B364,CR_3_GRIGLIA!$A$3:$B$13,2,FALSE))","v":""},null,null,null,{"$f":"+IF(I364=\"\",\"\",IF(I364=CR_3_GRIGLIA!$C$16,CR_3_GRIGLIA!$B$16,IF(I364=CR_3_GRIGLIA!$C$17,CR_3_GRIGLIA!$B$17,IF(I364=CR_3_GRIGLIA!$C$18,CR_3_GRIGLIA!$B$18,IF(I364=CR_3_GRIGLIA!$C$19,CR_3_GRIGLIA!$B$19,CR_3_GRIGLIA!$B$20)))))","v":""},"",{"$f":"+IF(D364=\"\",\"\",IF(C364=\"\",0,INDEX(CR_3_GRIGLIA!$D$3:$K$13,+VLOOKUP(B364,CR_3_GRIGLIA!$A$3:$C$13,3,FALSE),+HLOOKUP(D364,CR_3_GRIGLIA!$D$1:$K$2,2,FALSE))))","v":""},""]
[364,null,{"$f":"+IF(B365=\"\",\"\",VLOOKUP(B365,CR_3_GRIGLIA!$A$3:$B$13,2,FALSE))","v":""},null,null,null,{"$f":"+IF(I365=\"\",\"\",IF(I365=CR_3_GRIGLIA!$C$16,CR_3_GRIGLIA!$B$16,IF(I365=CR_3_GRIGLIA!$C$17,CR_3_GRIGLIA!$B$17,IF(I365=CR_3_GRIGLIA!$C$18,CR_3_GRIGLIA!$B$18,IF(I365=CR_3_GRIGLIA!$C$19,CR_3_GRIGLIA!$B$19,CR_3_GRIGLIA!$B$20)))))","v":""},"",{"$f":"+IF(D365=\"\",\"\",IF(C365=\"\",0,INDEX(CR_3_GRIGLIA!$D$3:$K$13,+VLOOKUP(B365,CR_3_GRIGLIA!$A$3:$C$13,3,FALSE),+HLOOKUP(D365,CR_3_GRIGLIA!$D$1:$K$2,2,FALSE))))","v":""},""]
[365,null,{"$f":"+IF(B366=\"\",\"\",VLOOKUP(B366,CR_3_GRIGLIA!$A$3:$B$13,2,FALSE))","v":""},null,null,null,{"$f":"+IF(I366=\"\",\"\",IF(I366=CR_3_GRIGLIA!$C$16,CR_3_GRIGLIA!$B$16,IF(I366=CR_3_GRIGLIA!$C$17,CR_3_GRIGLIA!$B$17,IF(I366=CR_3_GRIGLIA!$C$18,CR_3_GRIGLIA!$B$18,IF(I366=CR_3_GRIGLIA!$C$19,CR_3_GRIGLIA!$B$19,CR_3_GRIGLIA!$B$20)))))","v":""},"",{"$f":"+IF(D366=\"\",\"\",IF(C366=\"\",0,INDEX(CR_3_GRIGLIA!$D$3:$K$13,+VLOOKUP(B366,CR_3_GRIGLIA!$A$3:$C$13,3,FALSE),+HLOOKUP(D366,CR_3_GRIGLIA!$D$1:$K$2,2,FALSE))))","v":""},""]
[366,null,{"$f":"+IF(B367=\"\",\"\",VLOOKUP(B367,CR_3_GRIGLIA!$A$3:$B$13,2,FALSE))","v":""},null,null,null,{"$f":"+IF(I367=\"\",\"\",IF(I367=CR_3_GRIGLIA!$C$16,CR_3_GRIGLIA!$B$16,IF(I367=CR_3_GRIGLIA!$C$17,CR_3_GRIGLIA!$B$17,IF(I367=CR_3_GRIGLIA!$C$18,CR_3_GRIGLIA!$B$18,IF(I367=CR_3_GRIGLIA!$C$19,CR_3_GRIGLIA!$B$19,CR_3_GRIGLIA!$B$20)))))","v":""},"",{"$f":"+IF(D367=\"\",\"\",IF(C367=\"\",0,INDEX(CR_3_GRIGLIA!$D$3:$K$13,+VLOOKUP(B367,CR_3_GRIGLIA!$A$3:$C$13,3,FALSE),+HLOOKUP(D367,CR_3_GRIGLIA!$D$1:$K$2,2,FALSE))))","v":""},""]
[367,null,{"$f":"+IF(B368=\"\",\"\",VLOOKUP(B368,CR_3_GRIGLIA!$A$3:$B$13,2,FALSE))","v":""},null,null,null,{"$f":"+IF(I368=\"\",\"\",IF(I368=CR_3_GRIGLIA!$C$16,CR_3_GRIGLIA!$B$16,IF(I368=CR_3_GRIGLIA!$C$17,CR_3_GRIGLIA!$B$17,IF(I368=CR_3_GRIGLIA!$C$18,CR_3_GRIGLIA!$B$18,IF(I368=CR_3_GRIGLIA!$C$19,CR_3_GRIGLIA!$B$19,CR_3_GRIGLIA!$B$20)))))","v":""},"",{"$f":"+IF(D368=\"\",\"\",IF(C368=\"\",0,INDEX(CR_3_GRIGLIA!$D$3:$K$13,+VLOOKUP(B368,CR_3_GRIGLIA!$A$3:$C$13,3,FALSE),+HLOOKUP(D368,CR_3_GRIGLIA!$D$1:$K$2,2,FALSE))))","v":""},""]
[368,null,{"$f":"+IF(B369=\"\",\"\",VLOOKUP(B369,CR_3_GRIGLIA!$A$3:$B$13,2,FALSE))","v":""},null,null,null,{"$f":"+IF(I369=\"\",\"\",IF(I369=CR_3_GRIGLIA!$C$16,CR_3_GRIGLIA!$B$16,IF(I369=CR_3_GRIGLIA!$C$17,CR_3_GRIGLIA!$B$17,IF(I369=CR_3_GRIGLIA!$C$18,CR_3_GRIGLIA!$B$18,IF(I369=CR_3_GRIGLIA!$C$19,CR_3_GRIGLIA!$B$19,CR_3_GRIGLIA!$B$20)))))","v":""},"",{"$f":"+IF(D369=\"\",\"\",IF(C369=\"\",0,INDEX(CR_3_GRIGLIA!$D$3:$K$13,+VLOOKUP(B369,CR_3_GRIGLIA!$A$3:$C$13,3,FALSE),+HLOOKUP(D369,CR_3_GRIGLIA!$D$1:$K$2,2,FALSE))))","v":""},""]
[369,null,{"$f":"+IF(B370=\"\",\"\",VLOOKUP(B370,CR_3_GRIGLIA!$A$3:$B$13,2,FALSE))","v":""},null,null,null,{"$f":"+IF(I370=\"\",\"\",IF(I370=CR_3_GRIGLIA!$C$16,CR_3_GRIGLIA!$B$16,IF(I370=CR_3_GRIGLIA!$C$17,CR_3_GRIGLIA!$B$17,IF(I370=CR_3_GRIGLIA!$C$18,CR_3_GRIGLIA!$B$18,IF(I370=CR_3_GRIGLIA!$C$19,CR_3_GRIGLIA!$B$19,CR_3_GRIGLIA!$B$20)))))","v":""},"",{"$f":"+IF(D370=\"\",\"\",IF(C370=\"\",0,INDEX(CR_3_GRIGLIA!$D$3:$K$13,+VLOOKUP(B370,CR_3_GRIGLIA!$A$3:$C$13,3,FALSE),+HLOOKUP(D370,CR_3_GRIGLIA!$D$1:$K$2,2,FALSE))))","v":""},""]
[370,null,{"$f":"+IF(B371=\"\",\"\",VLOOKUP(B371,CR_3_GRIGLIA!$A$3:$B$13,2,FALSE))","v":""},null,null,null,{"$f":"+IF(I371=\"\",\"\",IF(I371=CR_3_GRIGLIA!$C$16,CR_3_GRIGLIA!$B$16,IF(I371=CR_3_GRIGLIA!$C$17,CR_3_GRIGLIA!$B$17,IF(I371=CR_3_GRIGLIA!$C$18,CR_3_GRIGLIA!$B$18,IF(I371=CR_3_GRIGLIA!$C$19,CR_3_GRIGLIA!$B$19,CR_3_GRIGLIA!$B$20)))))","v":""},"",{"$f":"+IF(D371=\"\",\"\",IF(C371=\"\",0,INDEX(CR_3_GRIGLIA!$D$3:$K$13,+VLOOKUP(B371,CR_3_GRIGLIA!$A$3:$C$13,3,FALSE),+HLOOKUP(D371,CR_3_GRIGLIA!$D$1:$K$2,2,FALSE))))","v":""},""]
[371,null,{"$f":"+IF(B372=\"\",\"\",VLOOKUP(B372,CR_3_GRIGLIA!$A$3:$B$13,2,FALSE))","v":""},null,null,null,{"$f":"+IF(I372=\"\",\"\",IF(I372=CR_3_GRIGLIA!$C$16,CR_3_GRIGLIA!$B$16,IF(I372=CR_3_GRIGLIA!$C$17,CR_3_GRIGLIA!$B$17,IF(I372=CR_3_GRIGLIA!$C$18,CR_3_GRIGLIA!$B$18,IF(I372=CR_3_GRIGLIA!$C$19,CR_3_GRIGLIA!$B$19,CR_3_GRIGLIA!$B$20)))))","v":""},"",{"$f":"+IF(D372=\"\",\"\",IF(C372=\"\",0,INDEX(CR_3_GRIGLIA!$D$3:$K$13,+VLOOKUP(B372,CR_3_GRIGLIA!$A$3:$C$13,3,FALSE),+HLOOKUP(D372,CR_3_GRIGLIA!$D$1:$K$2,2,FALSE))))","v":""},""]
[372,null,{"$f":"+IF(B373=\"\",\"\",VLOOKUP(B373,CR_3_GRIGLIA!$A$3:$B$13,2,FALSE))","v":""},null,null,null,{"$f":"+IF(I373=\"\",\"\",IF(I373=CR_3_GRIGLIA!$C$16,CR_3_GRIGLIA!$B$16,IF(I373=CR_3_GRIGLIA!$C$17,CR_3_GRIGLIA!$B$17,IF(I373=CR_3_GRIGLIA!$C$18,CR_3_GRIGLIA!$B$18,IF(I373=CR_3_GRIGLIA!$C$19,CR_3_GRIGLIA!$B$19,CR_3_GRIGLIA!$B$20)))))","v":""},"",{"$f":"+IF(D373=\"\",\"\",IF(C373=\"\",0,INDEX(CR_3_GRIGLIA!$D$3:$K$13,+VLOOKUP(B373,CR_3_GRIGLIA!$A$3:$C$13,3,FALSE),+HLOOKUP(D373,CR_3_GRIGLIA!$D$1:$K$2,2,FALSE))))","v":""},""]
[373,null,{"$f":"+IF(B374=\"\",\"\",VLOOKUP(B374,CR_3_GRIGLIA!$A$3:$B$13,2,FALSE))","v":""},null,null,null,{"$f":"+IF(I374=\"\",\"\",IF(I374=CR_3_GRIGLIA!$C$16,CR_3_GRIGLIA!$B$16,IF(I374=CR_3_GRIGLIA!$C$17,CR_3_GRIGLIA!$B$17,IF(I374=CR_3_GRIGLIA!$C$18,CR_3_GRIGLIA!$B$18,IF(I374=CR_3_GRIGLIA!$C$19,CR_3_GRIGLIA!$B$19,CR_3_GRIGLIA!$B$20)))))","v":""},"",{"$f":"+IF(D374=\"\",\"\",IF(C374=\"\",0,INDEX(CR_3_GRIGLIA!$D$3:$K$13,+VLOOKUP(B374,CR_3_GRIGLIA!$A$3:$C$13,3,FALSE),+HLOOKUP(D374,CR_3_GRIGLIA!$D$1:$K$2,2,FALSE))))","v":""},""]
[374,null,{"$f":"+IF(B375=\"\",\"\",VLOOKUP(B375,CR_3_GRIGLIA!$A$3:$B$13,2,FALSE))","v":""},null,null,null,{"$f":"+IF(I375=\"\",\"\",IF(I375=CR_3_GRIGLIA!$C$16,CR_3_GRIGLIA!$B$16,IF(I375=CR_3_GRIGLIA!$C$17,CR_3_GRIGLIA!$B$17,IF(I375=CR_3_GRIGLIA!$C$18,CR_3_GRIGLIA!$B$18,IF(I375=CR_3_GRIGLIA!$C$19,CR_3_GRIGLIA!$B$19,CR_3_GRIGLIA!$B$20)))))","v":""},"",{"$f":"+IF(D375=\"\",\"\",IF(C375=\"\",0,INDEX(CR_3_GRIGLIA!$D$3:$K$13,+VLOOKUP(B375,CR_3_GRIGLIA!$A$3:$C$13,3,FALSE),+HLOOKUP(D375,CR_3_GRIGLIA!$D$1:$K$2,2,FALSE))))","v":""},""]
[375,null,{"$f":"+IF(B376=\"\",\"\",VLOOKUP(B376,CR_3_GRIGLIA!$A$3:$B$13,2,FALSE))","v":""},null,null,null,{"$f":"+IF(I376=\"\",\"\",IF(I376=CR_3_GRIGLIA!$C$16,CR_3_GRIGLIA!$B$16,IF(I376=CR_3_GRIGLIA!$C$17,CR_3_GRIGLIA!$B$17,IF(I376=CR_3_GRIGLIA!$C$18,CR_3_GRIGLIA!$B$18,IF(I376=CR_3_GRIGLIA!$C$19,CR_3_GRIGLIA!$B$19,CR_3_GRIGLIA!$B$20)))))","v":""},"",{"$f":"+IF(D376=\"\",\"\",IF(C376=\"\",0,INDEX(CR_3_GRIGLIA!$D$3:$K$13,+VLOOKUP(B376,CR_3_GRIGLIA!$A$3:$C$13,3,FALSE),+HLOOKUP(D376,CR_3_GRIGLIA!$D$1:$K$2,2,FALSE))))","v":""},""]
[376,null,{"$f":"+IF(B377=\"\",\"\",VLOOKUP(B377,CR_3_GRIGLIA!$A$3:$B$13,2,FALSE))","v":""},null,null,null,{"$f":"+IF(I377=\"\",\"\",IF(I377=CR_3_GRIGLIA!$C$16,CR_3_GRIGLIA!$B$16,IF(I377=CR_3_GRIGLIA!$C$17,CR_3_GRIGLIA!$B$17,IF(I377=CR_3_GRIGLIA!$C$18,CR_3_GRIGLIA!$B$18,IF(I377=CR_3_GRIGLIA!$C$19,CR_3_GRIGLIA!$B$19,CR_3_GRIGLIA!$B$20)))))","v":""},"",{"$f":"+IF(D377=\"\",\"\",IF(C377=\"\",0,INDEX(CR_3_GRIGLIA!$D$3:$K$13,+VLOOKUP(B377,CR_3_GRIGLIA!$A$3:$C$13,3,FALSE),+HLOOKUP(D377,CR_3_GRIGLIA!$D$1:$K$2,2,FALSE))))","v":""},""]
[377,null,{"$f":"+IF(B378=\"\",\"\",VLOOKUP(B378,CR_3_GRIGLIA!$A$3:$B$13,2,FALSE))","v":""},null,null,null,{"$f":"+IF(I378=\"\",\"\",IF(I378=CR_3_GRIGLIA!$C$16,CR_3_GRIGLIA!$B$16,IF(I378=CR_3_GRIGLIA!$C$17,CR_3_GRIGLIA!$B$17,IF(I378=CR_3_GRIGLIA!$C$18,CR_3_GRIGLIA!$B$18,IF(I378=CR_3_GRIGLIA!$C$19,CR_3_GRIGLIA!$B$19,CR_3_GRIGLIA!$B$20)))))","v":""},"",{"$f":"+IF(D378=\"\",\"\",IF(C378=\"\",0,INDEX(CR_3_GRIGLIA!$D$3:$K$13,+VLOOKUP(B378,CR_3_GRIGLIA!$A$3:$C$13,3,FALSE),+HLOOKUP(D378,CR_3_GRIGLIA!$D$1:$K$2,2,FALSE))))","v":""},""]
[378,null,{"$f":"+IF(B379=\"\",\"\",VLOOKUP(B379,CR_3_GRIGLIA!$A$3:$B$13,2,FALSE))","v":""},null,null,null,{"$f":"+IF(I379=\"\",\"\",IF(I379=CR_3_GRIGLIA!$C$16,CR_3_GRIGLIA!$B$16,IF(I379=CR_3_GRIGLIA!$C$17,CR_3_GRIGLIA!$B$17,IF(I379=CR_3_GRIGLIA!$C$18,CR_3_GRIGLIA!$B$18,IF(I379=CR_3_GRIGLIA!$C$19,CR_3_GRIGLIA!$B$19,CR_3_GRIGLIA!$B$20)))))","v":""},"",{"$f":"+IF(D379=\"\",\"\",IF(C379=\"\",0,INDEX(CR_3_GRIGLIA!$D$3:$K$13,+VLOOKUP(B379,CR_3_GRIGLIA!$A$3:$C$13,3,FALSE),+HLOOKUP(D379,CR_3_GRIGLIA!$D$1:$K$2,2,FALSE))))","v":""},""]
[379,null,{"$f":"+IF(B380=\"\",\"\",VLOOKUP(B380,CR_3_GRIGLIA!$A$3:$B$13,2,FALSE))","v":""},null,null,null,{"$f":"+IF(I380=\"\",\"\",IF(I380=CR_3_GRIGLIA!$C$16,CR_3_GRIGLIA!$B$16,IF(I380=CR_3_GRIGLIA!$C$17,CR_3_GRIGLIA!$B$17,IF(I380=CR_3_GRIGLIA!$C$18,CR_3_GRIGLIA!$B$18,IF(I380=CR_3_GRIGLIA!$C$19,CR_3_GRIGLIA!$B$19,CR_3_GRIGLIA!$B$20)))))","v":""},"",{"$f":"+IF(D380=\"\",\"\",IF(C380=\"\",0,INDEX(CR_3_GRIGLIA!$D$3:$K$13,+VLOOKUP(B380,CR_3_GRIGLIA!$A$3:$C$13,3,FALSE),+HLOOKUP(D380,CR_3_GRIGLIA!$D$1:$K$2,2,FALSE))))","v":""},""]
[380,null,{"$f":"+IF(B381=\"\",\"\",VLOOKUP(B381,CR_3_GRIGLIA!$A$3:$B$13,2,FALSE))","v":""},null,null,null,{"$f":"+IF(I381=\"\",\"\",IF(I381=CR_3_GRIGLIA!$C$16,CR_3_GRIGLIA!$B$16,IF(I381=CR_3_GRIGLIA!$C$17,CR_3_GRIGLIA!$B$17,IF(I381=CR_3_GRIGLIA!$C$18,CR_3_GRIGLIA!$B$18,IF(I381=CR_3_GRIGLIA!$C$19,CR_3_GRIGLIA!$B$19,CR_3_GRIGLIA!$B$20)))))","v":""},"",{"$f":"+IF(D381=\"\",\"\",IF(C381=\"\",0,INDEX(CR_3_GRIGLIA!$D$3:$K$13,+VLOOKUP(B381,CR_3_GRIGLIA!$A$3:$C$13,3,FALSE),+HLOOKUP(D381,CR_3_GRIGLIA!$D$1:$K$2,2,FALSE))))","v":""},""]
[381,null,{"$f":"+IF(B382=\"\",\"\",VLOOKUP(B382,CR_3_GRIGLIA!$A$3:$B$13,2,FALSE))","v":""},null,null,null,{"$f":"+IF(I382=\"\",\"\",IF(I382=CR_3_GRIGLIA!$C$16,CR_3_GRIGLIA!$B$16,IF(I382=CR_3_GRIGLIA!$C$17,CR_3_GRIGLIA!$B$17,IF(I382=CR_3_GRIGLIA!$C$18,CR_3_GRIGLIA!$B$18,IF(I382=CR_3_GRIGLIA!$C$19,CR_3_GRIGLIA!$B$19,CR_3_GRIGLIA!$B$20)))))","v":""},"",{"$f":"+IF(D382=\"\",\"\",IF(C382=\"\",0,INDEX(CR_3_GRIGLIA!$D$3:$K$13,+VLOOKUP(B382,CR_3_GRIGLIA!$A$3:$C$13,3,FALSE),+HLOOKUP(D382,CR_3_GRIGLIA!$D$1:$K$2,2,FALSE))))","v":""},""]
[382,null,{"$f":"+IF(B383=\"\",\"\",VLOOKUP(B383,CR_3_GRIGLIA!$A$3:$B$13,2,FALSE))","v":""},null,null,null,{"$f":"+IF(I383=\"\",\"\",IF(I383=CR_3_GRIGLIA!$C$16,CR_3_GRIGLIA!$B$16,IF(I383=CR_3_GRIGLIA!$C$17,CR_3_GRIGLIA!$B$17,IF(I383=CR_3_GRIGLIA!$C$18,CR_3_GRIGLIA!$B$18,IF(I383=CR_3_GRIGLIA!$C$19,CR_3_GRIGLIA!$B$19,CR_3_GRIGLIA!$B$20)))))","v":""},"",{"$f":"+IF(D383=\"\",\"\",IF(C383=\"\",0,INDEX(CR_3_GRIGLIA!$D$3:$K$13,+VLOOKUP(B383,CR_3_GRIGLIA!$A$3:$C$13,3,FALSE),+HLOOKUP(D383,CR_3_GRIGLIA!$D$1:$K$2,2,FALSE))))","v":""},""]
[383,null,{"$f":"+IF(B384=\"\",\"\",VLOOKUP(B384,CR_3_GRIGLIA!$A$3:$B$13,2,FALSE))","v":""},null,null,null,{"$f":"+IF(I384=\"\",\"\",IF(I384=CR_3_GRIGLIA!$C$16,CR_3_GRIGLIA!$B$16,IF(I384=CR_3_GRIGLIA!$C$17,CR_3_GRIGLIA!$B$17,IF(I384=CR_3_GRIGLIA!$C$18,CR_3_GRIGLIA!$B$18,IF(I384=CR_3_GRIGLIA!$C$19,CR_3_GRIGLIA!$B$19,CR_3_GRIGLIA!$B$20)))))","v":""},"",{"$f":"+IF(D384=\"\",\"\",IF(C384=\"\",0,INDEX(CR_3_GRIGLIA!$D$3:$K$13,+VLOOKUP(B384,CR_3_GRIGLIA!$A$3:$C$13,3,FALSE),+HLOOKUP(D384,CR_3_GRIGLIA!$D$1:$K$2,2,FALSE))))","v":""},""]
[384,null,{"$f":"+IF(B385=\"\",\"\",VLOOKUP(B385,CR_3_GRIGLIA!$A$3:$B$13,2,FALSE))","v":""},null,null,null,{"$f":"+IF(I385=\"\",\"\",IF(I385=CR_3_GRIGLIA!$C$16,CR_3_GRIGLIA!$B$16,IF(I385=CR_3_GRIGLIA!$C$17,CR_3_GRIGLIA!$B$17,IF(I385=CR_3_GRIGLIA!$C$18,CR_3_GRIGLIA!$B$18,IF(I385=CR_3_GRIGLIA!$C$19,CR_3_GRIGLIA!$B$19,CR_3_GRIGLIA!$B$20)))))","v":""},"",{"$f":"+IF(D385=\"\",\"\",IF(C385=\"\",0,INDEX(CR_3_GRIGLIA!$D$3:$K$13,+VLOOKUP(B385,CR_3_GRIGLIA!$A$3:$C$13,3,FALSE),+HLOOKUP(D385,CR_3_GRIGLIA!$D$1:$K$2,2,FALSE))))","v":""},""]
[385,null,{"$f":"+IF(B386=\"\",\"\",VLOOKUP(B386,CR_3_GRIGLIA!$A$3:$B$13,2,FALSE))","v":""},null,null,null,{"$f":"+IF(I386=\"\",\"\",IF(I386=CR_3_GRIGLIA!$C$16,CR_3_GRIGLIA!$B$16,IF(I386=CR_3_GRIGLIA!$C$17,CR_3_GRIGLIA!$B$17,IF(I386=CR_3_GRIGLIA!$C$18,CR_3_GRIGLIA!$B$18,IF(I386=CR_3_GRIGLIA!$C$19,CR_3_GRIGLIA!$B$19,CR_3_GRIGLIA!$B$20)))))","v":""},"",{"$f":"+IF(D386=\"\",\"\",IF(C386=\"\",0,INDEX(CR_3_GRIGLIA!$D$3:$K$13,+VLOOKUP(B386,CR_3_GRIGLIA!$A$3:$C$13,3,FALSE),+HLOOKUP(D386,CR_3_GRIGLIA!$D$1:$K$2,2,FALSE))))","v":""},""]
[386,null,{"$f":"+IF(B387=\"\",\"\",VLOOKUP(B387,CR_3_GRIGLIA!$A$3:$B$13,2,FALSE))","v":""},null,null,null,{"$f":"+IF(I387=\"\",\"\",IF(I387=CR_3_GRIGLIA!$C$16,CR_3_GRIGLIA!$B$16,IF(I387=CR_3_GRIGLIA!$C$17,CR_3_GRIGLIA!$B$17,IF(I387=CR_3_GRIGLIA!$C$18,CR_3_GRIGLIA!$B$18,IF(I387=CR_3_GRIGLIA!$C$19,CR_3_GRIGLIA!$B$19,CR_3_GRIGLIA!$B$20)))))","v":""},{"$f":"IFERROR(IF(F387=\"\",\"\",F387/$F$504),0)","v":""},{"$f":"+IF(D387=\"\",\"\",IF(C387=\"\",0,INDEX(CR_3_GRIGLIA!$D$3:$K$13,+VLOOKUP(B387,CR_3_GRIGLIA!$A$3:$C$13,3,FALSE),+HLOOKUP(D387,CR_3_GRIGLIA!$D$1:$K$2,2,FALSE))))","v":""},{"$f":"IFERROR(IF(I387=\"\",\"\",I387*F387/$F$504),0)","v":""}]
[387,null,{"$f":"+IF(B388=\"\",\"\",VLOOKUP(B388,CR_3_GRIGLIA!$A$3:$B$13,2,FALSE))","v":""},null,null,null,{"$f":"+IF(I388=\"\",\"\",IF(I388=CR_3_GRIGLIA!$C$16,CR_3_GRIGLIA!$B$16,IF(I388=CR_3_GRIGLIA!$C$17,CR_3_GRIGLIA!$B$17,IF(I388=CR_3_GRIGLIA!$C$18,CR_3_GRIGLIA!$B$18,IF(I388=CR_3_GRIGLIA!$C$19,CR_3_GRIGLIA!$B$19,CR_3_GRIGLIA!$B$20)))))","v":""},"",{"$f":"+IF(D388=\"\",\"\",IF(C388=\"\",0,INDEX(CR_3_GRIGLIA!$D$3:$K$13,+VLOOKUP(B388,CR_3_GRIGLIA!$A$3:$C$13,3,FALSE),+HLOOKUP(D388,CR_3_GRIGLIA!$D$1:$K$2,2,FALSE))))","v":""},""]
[388,null,{"$f":"+IF(B389=\"\",\"\",VLOOKUP(B389,CR_3_GRIGLIA!$A$3:$B$13,2,FALSE))","v":""},null,null,null,{"$f":"+IF(I389=\"\",\"\",IF(I389=CR_3_GRIGLIA!$C$16,CR_3_GRIGLIA!$B$16,IF(I389=CR_3_GRIGLIA!$C$17,CR_3_GRIGLIA!$B$17,IF(I389=CR_3_GRIGLIA!$C$18,CR_3_GRIGLIA!$B$18,IF(I389=CR_3_GRIGLIA!$C$19,CR_3_GRIGLIA!$B$19,CR_3_GRIGLIA!$B$20)))))","v":""},"",{"$f":"+IF(D389=\"\",\"\",IF(C389=\"\",0,INDEX(CR_3_GRIGLIA!$D$3:$K$13,+VLOOKUP(B389,CR_3_GRIGLIA!$A$3:$C$13,3,FALSE),+HLOOKUP(D389,CR_3_GRIGLIA!$D$1:$K$2,2,FALSE))))","v":""},""]
[389,null,{"$f":"+IF(B390=\"\",\"\",VLOOKUP(B390,CR_3_GRIGLIA!$A$3:$B$13,2,FALSE))","v":""},null,null,null,{"$f":"+IF(I390=\"\",\"\",IF(I390=CR_3_GRIGLIA!$C$16,CR_3_GRIGLIA!$B$16,IF(I390=CR_3_GRIGLIA!$C$17,CR_3_GRIGLIA!$B$17,IF(I390=CR_3_GRIGLIA!$C$18,CR_3_GRIGLIA!$B$18,IF(I390=CR_3_GRIGLIA!$C$19,CR_3_GRIGLIA!$B$19,CR_3_GRIGLIA!$B$20)))))","v":""},"",{"$f":"+IF(D390=\"\",\"\",IF(C390=\"\",0,INDEX(CR_3_GRIGLIA!$D$3:$K$13,+VLOOKUP(B390,CR_3_GRIGLIA!$A$3:$C$13,3,FALSE),+HLOOKUP(D390,CR_3_GRIGLIA!$D$1:$K$2,2,FALSE))))","v":""},""]
[390,null,{"$f":"+IF(B391=\"\",\"\",VLOOKUP(B391,CR_3_GRIGLIA!$A$3:$B$13,2,FALSE))","v":""},null,null,null,{"$f":"+IF(I391=\"\",\"\",IF(I391=CR_3_GRIGLIA!$C$16,CR_3_GRIGLIA!$B$16,IF(I391=CR_3_GRIGLIA!$C$17,CR_3_GRIGLIA!$B$17,IF(I391=CR_3_GRIGLIA!$C$18,CR_3_GRIGLIA!$B$18,IF(I391=CR_3_GRIGLIA!$C$19,CR_3_GRIGLIA!$B$19,CR_3_GRIGLIA!$B$20)))))","v":""},"",{"$f":"+IF(D391=\"\",\"\",IF(C391=\"\",0,INDEX(CR_3_GRIGLIA!$D$3:$K$13,+VLOOKUP(B391,CR_3_GRIGLIA!$A$3:$C$13,3,FALSE),+HLOOKUP(D391,CR_3_GRIGLIA!$D$1:$K$2,2,FALSE))))","v":""},""]
[391,null,{"$f":"+IF(B392=\"\",\"\",VLOOKUP(B392,CR_3_GRIGLIA!$A$3:$B$13,2,FALSE))","v":""},null,null,null,{"$f":"+IF(I392=\"\",\"\",IF(I392=CR_3_GRIGLIA!$C$16,CR_3_GRIGLIA!$B$16,IF(I392=CR_3_GRIGLIA!$C$17,CR_3_GRIGLIA!$B$17,IF(I392=CR_3_GRIGLIA!$C$18,CR_3_GRIGLIA!$B$18,IF(I392=CR_3_GRIGLIA!$C$19,CR_3_GRIGLIA!$B$19,CR_3_GRIGLIA!$B$20)))))","v":""},"",{"$f":"+IF(D392=\"\",\"\",IF(C392=\"\",0,INDEX(CR_3_GRIGLIA!$D$3:$K$13,+VLOOKUP(B392,CR_3_GRIGLIA!$A$3:$C$13,3,FALSE),+HLOOKUP(D392,CR_3_GRIGLIA!$D$1:$K$2,2,FALSE))))","v":""},""]
[392,null,{"$f":"+IF(B393=\"\",\"\",VLOOKUP(B393,CR_3_GRIGLIA!$A$3:$B$13,2,FALSE))","v":""},null,null,null,{"$f":"+IF(I393=\"\",\"\",IF(I393=CR_3_GRIGLIA!$C$16,CR_3_GRIGLIA!$B$16,IF(I393=CR_3_GRIGLIA!$C$17,CR_3_GRIGLIA!$B$17,IF(I393=CR_3_GRIGLIA!$C$18,CR_3_GRIGLIA!$B$18,IF(I393=CR_3_GRIGLIA!$C$19,CR_3_GRIGLIA!$B$19,CR_3_GRIGLIA!$B$20)))))","v":""},"",{"$f":"+IF(D393=\"\",\"\",IF(C393=\"\",0,INDEX(CR_3_GRIGLIA!$D$3:$K$13,+VLOOKUP(B393,CR_3_GRIGLIA!$A$3:$C$13,3,FALSE),+HLOOKUP(D393,CR_3_GRIGLIA!$D$1:$K$2,2,FALSE))))","v":""},""]
[393,null,{"$f":"+IF(B394=\"\",\"\",VLOOKUP(B394,CR_3_GRIGLIA!$A$3:$B$13,2,FALSE))","v":""},null,null,null,{"$f":"+IF(I394=\"\",\"\",IF(I394=CR_3_GRIGLIA!$C$16,CR_3_GRIGLIA!$B$16,IF(I394=CR_3_GRIGLIA!$C$17,CR_3_GRIGLIA!$B$17,IF(I394=CR_3_GRIGLIA!$C$18,CR_3_GRIGLIA!$B$18,IF(I394=CR_3_GRIGLIA!$C$19,CR_3_GRIGLIA!$B$19,CR_3_GRIGLIA!$B$20)))))","v":""},"",{"$f":"+IF(D394=\"\",\"\",IF(C394=\"\",0,INDEX(CR_3_GRIGLIA!$D$3:$K$13,+VLOOKUP(B394,CR_3_GRIGLIA!$A$3:$C$13,3,FALSE),+HLOOKUP(D394,CR_3_GRIGLIA!$D$1:$K$2,2,FALSE))))","v":""},""]
[394,null,{"$f":"+IF(B395=\"\",\"\",VLOOKUP(B395,CR_3_GRIGLIA!$A$3:$B$13,2,FALSE))","v":""},null,null,null,{"$f":"+IF(I395=\"\",\"\",IF(I395=CR_3_GRIGLIA!$C$16,CR_3_GRIGLIA!$B$16,IF(I395=CR_3_GRIGLIA!$C$17,CR_3_GRIGLIA!$B$17,IF(I395=CR_3_GRIGLIA!$C$18,CR_3_GRIGLIA!$B$18,IF(I395=CR_3_GRIGLIA!$C$19,CR_3_GRIGLIA!$B$19,CR_3_GRIGLIA!$B$20)))))","v":""},"",{"$f":"+IF(D395=\"\",\"\",IF(C395=\"\",0,INDEX(CR_3_GRIGLIA!$D$3:$K$13,+VLOOKUP(B395,CR_3_GRIGLIA!$A$3:$C$13,3,FALSE),+HLOOKUP(D395,CR_3_GRIGLIA!$D$1:$K$2,2,FALSE))))","v":""},""]
[395,null,{"$f":"+IF(B396=\"\",\"\",VLOOKUP(B396,CR_3_GRIGLIA!$A$3:$B$13,2,FALSE))","v":""},null,null,null,{"$f":"+IF(I396=\"\",\"\",IF(I396=CR_3_GRIGLIA!$C$16,CR_3_GRIGLIA!$B$16,IF(I396=CR_3_GRIGLIA!$C$17,CR_3_GRIGLIA!$B$17,IF(I396=CR_3_GRIGLIA!$C$18,CR_3_GRIGLIA!$B$18,IF(I396=CR_3_GRIGLIA!$C$19,CR_3_GRIGLIA!$B$19,CR_3_GRIGLIA!$B$20)))))","v":""},"",{"$f":"+IF(D396=\"\",\"\",IF(C396=\"\",0,INDEX(CR_3_GRIGLIA!$D$3:$K$13,+VLOOKUP(B396,CR_3_GRIGLIA!$A$3:$C$13,3,FALSE),+HLOOKUP(D396,CR_3_GRIGLIA!$D$1:$K$2,2,FALSE))))","v":""},""]
[396,null,{"$f":"+IF(B397=\"\",\"\",VLOOKUP(B397,CR_3_GRIGLIA!$A$3:$B$13,2,FALSE))","v":""},null,null,null,{"$f":"+IF(I397=\"\",\"\",IF(I397=CR_3_GRIGLIA!$C$16,CR_3_GRIGLIA!$B$16,IF(I397=CR_3_GRIGLIA!$C$17,CR_3_GRIGLIA!$B$17,IF(I397=CR_3_GRIGLIA!$C$18,CR_3_GRIGLIA!$B$18,IF(I397=CR_3_GRIGLIA!$C$19,CR_3_GRIGLIA!$B$19,CR_3_GRIGLIA!$B$20)))))","v":""},"",{"$f":"+IF(D397=\"\",\"\",IF(C397=\"\",0,INDEX(CR_3_GRIGLIA!$D$3:$K$13,+VLOOKUP(B397,CR_3_GRIGLIA!$A$3:$C$13,3,FALSE),+HLOOKUP(D397,CR_3_GRIGLIA!$D$1:$K$2,2,FALSE))))","v":""},""]
[397,null,{"$f":"+IF(B398=\"\",\"\",VLOOKUP(B398,CR_3_GRIGLIA!$A$3:$B$13,2,FALSE))","v":""},null,null,null,{"$f":"+IF(I398=\"\",\"\",IF(I398=CR_3_GRIGLIA!$C$16,CR_3_GRIGLIA!$B$16,IF(I398=CR_3_GRIGLIA!$C$17,CR_3_GRIGLIA!$B$17,IF(I398=CR_3_GRIGLIA!$C$18,CR_3_GRIGLIA!$B$18,IF(I398=CR_3_GRIGLIA!$C$19,CR_3_GRIGLIA!$B$19,CR_3_GRIGLIA!$B$20)))))","v":""},"",{"$f":"+IF(D398=\"\",\"\",IF(C398=\"\",0,INDEX(CR_3_GRIGLIA!$D$3:$K$13,+VLOOKUP(B398,CR_3_GRIGLIA!$A$3:$C$13,3,FALSE),+HLOOKUP(D398,CR_3_GRIGLIA!$D$1:$K$2,2,FALSE))))","v":""},""]
[398,null,{"$f":"+IF(B399=\"\",\"\",VLOOKUP(B399,CR_3_GRIGLIA!$A$3:$B$13,2,FALSE))","v":""},null,null,null,{"$f":"+IF(I399=\"\",\"\",IF(I399=CR_3_GRIGLIA!$C$16,CR_3_GRIGLIA!$B$16,IF(I399=CR_3_GRIGLIA!$C$17,CR_3_GRIGLIA!$B$17,IF(I399=CR_3_GRIGLIA!$C$18,CR_3_GRIGLIA!$B$18,IF(I399=CR_3_GRIGLIA!$C$19,CR_3_GRIGLIA!$B$19,CR_3_GRIGLIA!$B$20)))))","v":""},"",{"$f":"+IF(D399=\"\",\"\",IF(C399=\"\",0,INDEX(CR_3_GRIGLIA!$D$3:$K$13,+VLOOKUP(B399,CR_3_GRIGLIA!$A$3:$C$13,3,FALSE),+HLOOKUP(D399,CR_3_GRIGLIA!$D$1:$K$2,2,FALSE))))","v":""},""]
[399,null,{"$f":"+IF(B400=\"\",\"\",VLOOKUP(B400,CR_3_GRIGLIA!$A$3:$B$13,2,FALSE))","v":""},null,null,null,{"$f":"+IF(I400=\"\",\"\",IF(I400=CR_3_GRIGLIA!$C$16,CR_3_GRIGLIA!$B$16,IF(I400=CR_3_GRIGLIA!$C$17,CR_3_GRIGLIA!$B$17,IF(I400=CR_3_GRIGLIA!$C$18,CR_3_GRIGLIA!$B$18,IF(I400=CR_3_GRIGLIA!$C$19,CR_3_GRIGLIA!$B$19,CR_3_GRIGLIA!$B$20)))))","v":""},"",{"$f":"+IF(D400=\"\",\"\",IF(C400=\"\",0,INDEX(CR_3_GRIGLIA!$D$3:$K$13,+VLOOKUP(B400,CR_3_GRIGLIA!$A$3:$C$13,3,FALSE),+HLOOKUP(D400,CR_3_GRIGLIA!$D$1:$K$2,2,FALSE))))","v":""},""]
[400,null,{"$f":"+IF(B401=\"\",\"\",VLOOKUP(B401,CR_3_GRIGLIA!$A$3:$B$13,2,FALSE))","v":""},null,null,null,{"$f":"+IF(I401=\"\",\"\",IF(I401=CR_3_GRIGLIA!$C$16,CR_3_GRIGLIA!$B$16,IF(I401=CR_3_GRIGLIA!$C$17,CR_3_GRIGLIA!$B$17,IF(I401=CR_3_GRIGLIA!$C$18,CR_3_GRIGLIA!$B$18,IF(I401=CR_3_GRIGLIA!$C$19,CR_3_GRIGLIA!$B$19,CR_3_GRIGLIA!$B$20)))))","v":""},"",{"$f":"+IF(D401=\"\",\"\",IF(C401=\"\",0,INDEX(CR_3_GRIGLIA!$D$3:$K$13,+VLOOKUP(B401,CR_3_GRIGLIA!$A$3:$C$13,3,FALSE),+HLOOKUP(D401,CR_3_GRIGLIA!$D$1:$K$2,2,FALSE))))","v":""},""]
[401,null,{"$f":"+IF(B402=\"\",\"\",VLOOKUP(B402,CR_3_GRIGLIA!$A$3:$B$13,2,FALSE))","v":""},null,null,null,{"$f":"+IF(I402=\"\",\"\",IF(I402=CR_3_GRIGLIA!$C$16,CR_3_GRIGLIA!$B$16,IF(I402=CR_3_GRIGLIA!$C$17,CR_3_GRIGLIA!$B$17,IF(I402=CR_3_GRIGLIA!$C$18,CR_3_GRIGLIA!$B$18,IF(I402=CR_3_GRIGLIA!$C$19,CR_3_GRIGLIA!$B$19,CR_3_GRIGLIA!$B$20)))))","v":""},"",{"$f":"+IF(D402=\"\",\"\",IF(C402=\"\",0,INDEX(CR_3_GRIGLIA!$D$3:$K$13,+VLOOKUP(B402,CR_3_GRIGLIA!$A$3:$C$13,3,FALSE),+HLOOKUP(D402,CR_3_GRIGLIA!$D$1:$K$2,2,FALSE))))","v":""},""]
[402,null,{"$f":"+IF(B403=\"\",\"\",VLOOKUP(B403,CR_3_GRIGLIA!$A$3:$B$13,2,FALSE))","v":""},null,null,null,{"$f":"+IF(I403=\"\",\"\",IF(I403=CR_3_GRIGLIA!$C$16,CR_3_GRIGLIA!$B$16,IF(I403=CR_3_GRIGLIA!$C$17,CR_3_GRIGLIA!$B$17,IF(I403=CR_3_GRIGLIA!$C$18,CR_3_GRIGLIA!$B$18,IF(I403=CR_3_GRIGLIA!$C$19,CR_3_GRIGLIA!$B$19,CR_3_GRIGLIA!$B$20)))))","v":""},"",{"$f":"+IF(D403=\"\",\"\",IF(C403=\"\",0,INDEX(CR_3_GRIGLIA!$D$3:$K$13,+VLOOKUP(B403,CR_3_GRIGLIA!$A$3:$C$13,3,FALSE),+HLOOKUP(D403,CR_3_GRIGLIA!$D$1:$K$2,2,FALSE))))","v":""},""]
[403,null,{"$f":"+IF(B404=\"\",\"\",VLOOKUP(B404,CR_3_GRIGLIA!$A$3:$B$13,2,FALSE))","v":""},null,null,null,{"$f":"+IF(I404=\"\",\"\",IF(I404=CR_3_GRIGLIA!$C$16,CR_3_GRIGLIA!$B$16,IF(I404=CR_3_GRIGLIA!$C$17,CR_3_GRIGLIA!$B$17,IF(I404=CR_3_GRIGLIA!$C$18,CR_3_GRIGLIA!$B$18,IF(I404=CR_3_GRIGLIA!$C$19,CR_3_GRIGLIA!$B$19,CR_3_GRIGLIA!$B$20)))))","v":""},"",{"$f":"+IF(D404=\"\",\"\",IF(C404=\"\",0,INDEX(CR_3_GRIGLIA!$D$3:$K$13,+VLOOKUP(B404,CR_3_GRIGLIA!$A$3:$C$13,3,FALSE),+HLOOKUP(D404,CR_3_GRIGLIA!$D$1:$K$2,2,FALSE))))","v":""},""]
[404,null,{"$f":"+IF(B405=\"\",\"\",VLOOKUP(B405,CR_3_GRIGLIA!$A$3:$B$13,2,FALSE))","v":""},null,null,null,{"$f":"+IF(I405=\"\",\"\",IF(I405=CR_3_GRIGLIA!$C$16,CR_3_GRIGLIA!$B$16,IF(I405=CR_3_GRIGLIA!$C$17,CR_3_GRIGLIA!$B$17,IF(I405=CR_3_GRIGLIA!$C$18,CR_3_GRIGLIA!$B$18,IF(I405=CR_3_GRIGLIA!$C$19,CR_3_GRIGLIA!$B$19,CR_3_GRIGLIA!$B$20)))))","v":""},"",{"$f":"+IF(D405=\"\",\"\",IF(C405=\"\",0,INDEX(CR_3_GRIGLIA!$D$3:$K$13,+VLOOKUP(B405,CR_3_GRIGLIA!$A$3:$C$13,3,FALSE),+HLOOKUP(D405,CR_3_GRIGLIA!$D$1:$K$2,2,FALSE))))","v":""},""]
[405,null,{"$f":"+IF(B406=\"\",\"\",VLOOKUP(B406,CR_3_GRIGLIA!$A$3:$B$13,2,FALSE))","v":""},null,null,null,{"$f":"+IF(I406=\"\",\"\",IF(I406=CR_3_GRIGLIA!$C$16,CR_3_GRIGLIA!$B$16,IF(I406=CR_3_GRIGLIA!$C$17,CR_3_GRIGLIA!$B$17,IF(I406=CR_3_GRIGLIA!$C$18,CR_3_GRIGLIA!$B$18,IF(I406=CR_3_GRIGLIA!$C$19,CR_3_GRIGLIA!$B$19,CR_3_GRIGLIA!$B$20)))))","v":""},"",{"$f":"+IF(D406=\"\",\"\",IF(C406=\"\",0,INDEX(CR_3_GRIGLIA!$D$3:$K$13,+VLOOKUP(B406,CR_3_GRIGLIA!$A$3:$C$13,3,FALSE),+HLOOKUP(D406,CR_3_GRIGLIA!$D$1:$K$2,2,FALSE))))","v":""},""]
[406,null,{"$f":"+IF(B407=\"\",\"\",VLOOKUP(B407,CR_3_GRIGLIA!$A$3:$B$13,2,FALSE))","v":""},null,null,null,{"$f":"+IF(I407=\"\",\"\",IF(I407=CR_3_GRIGLIA!$C$16,CR_3_GRIGLIA!$B$16,IF(I407=CR_3_GRIGLIA!$C$17,CR_3_GRIGLIA!$B$17,IF(I407=CR_3_GRIGLIA!$C$18,CR_3_GRIGLIA!$B$18,IF(I407=CR_3_GRIGLIA!$C$19,CR_3_GRIGLIA!$B$19,CR_3_GRIGLIA!$B$20)))))","v":""},"",{"$f":"+IF(D407=\"\",\"\",IF(C407=\"\",0,INDEX(CR_3_GRIGLIA!$D$3:$K$13,+VLOOKUP(B407,CR_3_GRIGLIA!$A$3:$C$13,3,FALSE),+HLOOKUP(D407,CR_3_GRIGLIA!$D$1:$K$2,2,FALSE))))","v":""},""]
[407,null,{"$f":"+IF(B408=\"\",\"\",VLOOKUP(B408,CR_3_GRIGLIA!$A$3:$B$13,2,FALSE))","v":""},null,null,null,{"$f":"+IF(I408=\"\",\"\",IF(I408=CR_3_GRIGLIA!$C$16,CR_3_GRIGLIA!$B$16,IF(I408=CR_3_GRIGLIA!$C$17,CR_3_GRIGLIA!$B$17,IF(I408=CR_3_GRIGLIA!$C$18,CR_3_GRIGLIA!$B$18,IF(I408=CR_3_GRIGLIA!$C$19,CR_3_GRIGLIA!$B$19,CR_3_GRIGLIA!$B$20)))))","v":""},"",{"$f":"+IF(D408=\"\",\"\",IF(C408=\"\",0,INDEX(CR_3_GRIGLIA!$D$3:$K$13,+VLOOKUP(B408,CR_3_GRIGLIA!$A$3:$C$13,3,FALSE),+HLOOKUP(D408,CR_3_GRIGLIA!$D$1:$K$2,2,FALSE))))","v":""},""]
[408,null,{"$f":"+IF(B409=\"\",\"\",VLOOKUP(B409,CR_3_GRIGLIA!$A$3:$B$13,2,FALSE))","v":""},null,null,null,{"$f":"+IF(I409=\"\",\"\",IF(I409=CR_3_GRIGLIA!$C$16,CR_3_GRIGLIA!$B$16,IF(I409=CR_3_GRIGLIA!$C$17,CR_3_GRIGLIA!$B$17,IF(I409=CR_3_GRIGLIA!$C$18,CR_3_GRIGLIA!$B$18,IF(I409=CR_3_GRIGLIA!$C$19,CR_3_GRIGLIA!$B$19,CR_3_GRIGLIA!$B$20)))))","v":""},"",{"$f":"+IF(D409=\"\",\"\",IF(C409=\"\",0,INDEX(CR_3_GRIGLIA!$D$3:$K$13,+VLOOKUP(B409,CR_3_GRIGLIA!$A$3:$C$13,3,FALSE),+HLOOKUP(D409,CR_3_GRIGLIA!$D$1:$K$2,2,FALSE))))","v":""},""]
[409,null,{"$f":"+IF(B410=\"\",\"\",VLOOKUP(B410,CR_3_GRIGLIA!$A$3:$B$13,2,FALSE))","v":""},null,null,null,{"$f":"+IF(I410=\"\",\"\",IF(I410=CR_3_GRIGLIA!$C$16,CR_3_GRIGLIA!$B$16,IF(I410=CR_3_GRIGLIA!$C$17,CR_3_GRIGLIA!$B$17,IF(I410=CR_3_GRIGLIA!$C$18,CR_3_GRIGLIA!$B$18,IF(I410=CR_3_GRIGLIA!$C$19,CR_3_GRIGLIA!$B$19,CR_3_GRIGLIA!$B$20)))))","v":""},"",{"$f":"+IF(D410=\"\",\"\",IF(C410=\"\",0,INDEX(CR_3_GRIGLIA!$D$3:$K$13,+VLOOKUP(B410,CR_3_GRIGLIA!$A$3:$C$13,3,FALSE),+HLOOKUP(D410,CR_3_GRIGLIA!$D$1:$K$2,2,FALSE))))","v":""},""]
[410,null,{"$f":"+IF(B411=\"\",\"\",VLOOKUP(B411,CR_3_GRIGLIA!$A$3:$B$13,2,FALSE))","v":""},null,null,null,{"$f":"+IF(I411=\"\",\"\",IF(I411=CR_3_GRIGLIA!$C$16,CR_3_GRIGLIA!$B$16,IF(I411=CR_3_GRIGLIA!$C$17,CR_3_GRIGLIA!$B$17,IF(I411=CR_3_GRIGLIA!$C$18,CR_3_GRIGLIA!$B$18,IF(I411=CR_3_GRIGLIA!$C$19,CR_3_GRIGLIA!$B$19,CR_3_GRIGLIA!$B$20)))))","v":""},"",{"$f":"+IF(D411=\"\",\"\",IF(C411=\"\",0,INDEX(CR_3_GRIGLIA!$D$3:$K$13,+VLOOKUP(B411,CR_3_GRIGLIA!$A$3:$C$13,3,FALSE),+HLOOKUP(D411,CR_3_GRIGLIA!$D$1:$K$2,2,FALSE))))","v":""},""]
[411,null,{"$f":"+IF(B412=\"\",\"\",VLOOKUP(B412,CR_3_GRIGLIA!$A$3:$B$13,2,FALSE))","v":""},null,null,null,{"$f":"+IF(I412=\"\",\"\",IF(I412=CR_3_GRIGLIA!$C$16,CR_3_GRIGLIA!$B$16,IF(I412=CR_3_GRIGLIA!$C$17,CR_3_GRIGLIA!$B$17,IF(I412=CR_3_GRIGLIA!$C$18,CR_3_GRIGLIA!$B$18,IF(I412=CR_3_GRIGLIA!$C$19,CR_3_GRIGLIA!$B$19,CR_3_GRIGLIA!$B$20)))))","v":""},"",{"$f":"+IF(D412=\"\",\"\",IF(C412=\"\",0,INDEX(CR_3_GRIGLIA!$D$3:$K$13,+VLOOKUP(B412,CR_3_GRIGLIA!$A$3:$C$13,3,FALSE),+HLOOKUP(D412,CR_3_GRIGLIA!$D$1:$K$2,2,FALSE))))","v":""},""]
[412,null,{"$f":"+IF(B413=\"\",\"\",VLOOKUP(B413,CR_3_GRIGLIA!$A$3:$B$13,2,FALSE))","v":""},null,null,null,{"$f":"+IF(I413=\"\",\"\",IF(I413=CR_3_GRIGLIA!$C$16,CR_3_GRIGLIA!$B$16,IF(I413=CR_3_GRIGLIA!$C$17,CR_3_GRIGLIA!$B$17,IF(I413=CR_3_GRIGLIA!$C$18,CR_3_GRIGLIA!$B$18,IF(I413=CR_3_GRIGLIA!$C$19,CR_3_GRIGLIA!$B$19,CR_3_GRIGLIA!$B$20)))))","v":""},"",{"$f":"+IF(D413=\"\",\"\",IF(C413=\"\",0,INDEX(CR_3_GRIGLIA!$D$3:$K$13,+VLOOKUP(B413,CR_3_GRIGLIA!$A$3:$C$13,3,FALSE),+HLOOKUP(D413,CR_3_GRIGLIA!$D$1:$K$2,2,FALSE))))","v":""},""]
[413,null,{"$f":"+IF(B414=\"\",\"\",VLOOKUP(B414,CR_3_GRIGLIA!$A$3:$B$13,2,FALSE))","v":""},null,null,null,{"$f":"+IF(I414=\"\",\"\",IF(I414=CR_3_GRIGLIA!$C$16,CR_3_GRIGLIA!$B$16,IF(I414=CR_3_GRIGLIA!$C$17,CR_3_GRIGLIA!$B$17,IF(I414=CR_3_GRIGLIA!$C$18,CR_3_GRIGLIA!$B$18,IF(I414=CR_3_GRIGLIA!$C$19,CR_3_GRIGLIA!$B$19,CR_3_GRIGLIA!$B$20)))))","v":""},"",{"$f":"+IF(D414=\"\",\"\",IF(C414=\"\",0,INDEX(CR_3_GRIGLIA!$D$3:$K$13,+VLOOKUP(B414,CR_3_GRIGLIA!$A$3:$C$13,3,FALSE),+HLOOKUP(D414,CR_3_GRIGLIA!$D$1:$K$2,2,FALSE))))","v":""},""]
[414,null,{"$f":"+IF(B415=\"\",\"\",VLOOKUP(B415,CR_3_GRIGLIA!$A$3:$B$13,2,FALSE))","v":""},null,null,null,{"$f":"+IF(I415=\"\",\"\",IF(I415=CR_3_GRIGLIA!$C$16,CR_3_GRIGLIA!$B$16,IF(I415=CR_3_GRIGLIA!$C$17,CR_3_GRIGLIA!$B$17,IF(I415=CR_3_GRIGLIA!$C$18,CR_3_GRIGLIA!$B$18,IF(I415=CR_3_GRIGLIA!$C$19,CR_3_GRIGLIA!$B$19,CR_3_GRIGLIA!$B$20)))))","v":""},"",{"$f":"+IF(D415=\"\",\"\",IF(C415=\"\",0,INDEX(CR_3_GRIGLIA!$D$3:$K$13,+VLOOKUP(B415,CR_3_GRIGLIA!$A$3:$C$13,3,FALSE),+HLOOKUP(D415,CR_3_GRIGLIA!$D$1:$K$2,2,FALSE))))","v":""},""]
[415,null,{"$f":"+IF(B416=\"\",\"\",VLOOKUP(B416,CR_3_GRIGLIA!$A$3:$B$13,2,FALSE))","v":""},null,null,null,{"$f":"+IF(I416=\"\",\"\",IF(I416=CR_3_GRIGLIA!$C$16,CR_3_GRIGLIA!$B$16,IF(I416=CR_3_GRIGLIA!$C$17,CR_3_GRIGLIA!$B$17,IF(I416=CR_3_GRIGLIA!$C$18,CR_3_GRIGLIA!$B$18,IF(I416=CR_3_GRIGLIA!$C$19,CR_3_GRIGLIA!$B$19,CR_3_GRIGLIA!$B$20)))))","v":""},"",{"$f":"+IF(D416=\"\",\"\",IF(C416=\"\",0,INDEX(CR_3_GRIGLIA!$D$3:$K$13,+VLOOKUP(B416,CR_3_GRIGLIA!$A$3:$C$13,3,FALSE),+HLOOKUP(D416,CR_3_GRIGLIA!$D$1:$K$2,2,FALSE))))","v":""},""]
[416,null,{"$f":"+IF(B417=\"\",\"\",VLOOKUP(B417,CR_3_GRIGLIA!$A$3:$B$13,2,FALSE))","v":""},null,null,null,{"$f":"+IF(I417=\"\",\"\",IF(I417=CR_3_GRIGLIA!$C$16,CR_3_GRIGLIA!$B$16,IF(I417=CR_3_GRIGLIA!$C$17,CR_3_GRIGLIA!$B$17,IF(I417=CR_3_GRIGLIA!$C$18,CR_3_GRIGLIA!$B$18,IF(I417=CR_3_GRIGLIA!$C$19,CR_3_GRIGLIA!$B$19,CR_3_GRIGLIA!$B$20)))))","v":""},"",{"$f":"+IF(D417=\"\",\"\",IF(C417=\"\",0,INDEX(CR_3_GRIGLIA!$D$3:$K$13,+VLOOKUP(B417,CR_3_GRIGLIA!$A$3:$C$13,3,FALSE),+HLOOKUP(D417,CR_3_GRIGLIA!$D$1:$K$2,2,FALSE))))","v":""},""]
[417,null,{"$f":"+IF(B418=\"\",\"\",VLOOKUP(B418,CR_3_GRIGLIA!$A$3:$B$13,2,FALSE))","v":""},null,null,null,{"$f":"+IF(I418=\"\",\"\",IF(I418=CR_3_GRIGLIA!$C$16,CR_3_GRIGLIA!$B$16,IF(I418=CR_3_GRIGLIA!$C$17,CR_3_GRIGLIA!$B$17,IF(I418=CR_3_GRIGLIA!$C$18,CR_3_GRIGLIA!$B$18,IF(I418=CR_3_GRIGLIA!$C$19,CR_3_GRIGLIA!$B$19,CR_3_GRIGLIA!$B$20)))))","v":""},"",{"$f":"+IF(D418=\"\",\"\",IF(C418=\"\",0,INDEX(CR_3_GRIGLIA!$D$3:$K$13,+VLOOKUP(B418,CR_3_GRIGLIA!$A$3:$C$13,3,FALSE),+HLOOKUP(D418,CR_3_GRIGLIA!$D$1:$K$2,2,FALSE))))","v":""},""]
[418,null,{"$f":"+IF(B419=\"\",\"\",VLOOKUP(B419,CR_3_GRIGLIA!$A$3:$B$13,2,FALSE))","v":""},null,null,null,{"$f":"+IF(I419=\"\",\"\",IF(I419=CR_3_GRIGLIA!$C$16,CR_3_GRIGLIA!$B$16,IF(I419=CR_3_GRIGLIA!$C$17,CR_3_GRIGLIA!$B$17,IF(I419=CR_3_GRIGLIA!$C$18,CR_3_GRIGLIA!$B$18,IF(I419=CR_3_GRIGLIA!$C$19,CR_3_GRIGLIA!$B$19,CR_3_GRIGLIA!$B$20)))))","v":""},"",{"$f":"+IF(D419=\"\",\"\",IF(C419=\"\",0,INDEX(CR_3_GRIGLIA!$D$3:$K$13,+VLOOKUP(B419,CR_3_GRIGLIA!$A$3:$C$13,3,FALSE),+HLOOKUP(D419,CR_3_GRIGLIA!$D$1:$K$2,2,FALSE))))","v":""},""]
[419,null,{"$f":"+IF(B420=\"\",\"\",VLOOKUP(B420,CR_3_GRIGLIA!$A$3:$B$13,2,FALSE))","v":""},null,null,null,{"$f":"+IF(I420=\"\",\"\",IF(I420=CR_3_GRIGLIA!$C$16,CR_3_GRIGLIA!$B$16,IF(I420=CR_3_GRIGLIA!$C$17,CR_3_GRIGLIA!$B$17,IF(I420=CR_3_GRIGLIA!$C$18,CR_3_GRIGLIA!$B$18,IF(I420=CR_3_GRIGLIA!$C$19,CR_3_GRIGLIA!$B$19,CR_3_GRIGLIA!$B$20)))))","v":""},"",{"$f":"+IF(D420=\"\",\"\",IF(C420=\"\",0,INDEX(CR_3_GRIGLIA!$D$3:$K$13,+VLOOKUP(B420,CR_3_GRIGLIA!$A$3:$C$13,3,FALSE),+HLOOKUP(D420,CR_3_GRIGLIA!$D$1:$K$2,2,FALSE))))","v":""},""]
[420,null,{"$f":"+IF(B421=\"\",\"\",VLOOKUP(B421,CR_3_GRIGLIA!$A$3:$B$13,2,FALSE))","v":""},null,null,null,{"$f":"+IF(I421=\"\",\"\",IF(I421=CR_3_GRIGLIA!$C$16,CR_3_GRIGLIA!$B$16,IF(I421=CR_3_GRIGLIA!$C$17,CR_3_GRIGLIA!$B$17,IF(I421=CR_3_GRIGLIA!$C$18,CR_3_GRIGLIA!$B$18,IF(I421=CR_3_GRIGLIA!$C$19,CR_3_GRIGLIA!$B$19,CR_3_GRIGLIA!$B$20)))))","v":""},"",{"$f":"+IF(D421=\"\",\"\",IF(C421=\"\",0,INDEX(CR_3_GRIGLIA!$D$3:$K$13,+VLOOKUP(B421,CR_3_GRIGLIA!$A$3:$C$13,3,FALSE),+HLOOKUP(D421,CR_3_GRIGLIA!$D$1:$K$2,2,FALSE))))","v":""},""]
[421,null,{"$f":"+IF(B422=\"\",\"\",VLOOKUP(B422,CR_3_GRIGLIA!$A$3:$B$13,2,FALSE))","v":""},null,null,null,{"$f":"+IF(I422=\"\",\"\",IF(I422=CR_3_GRIGLIA!$C$16,CR_3_GRIGLIA!$B$16,IF(I422=CR_3_GRIGLIA!$C$17,CR_3_GRIGLIA!$B$17,IF(I422=CR_3_GRIGLIA!$C$18,CR_3_GRIGLIA!$B$18,IF(I422=CR_3_GRIGLIA!$C$19,CR_3_GRIGLIA!$B$19,CR_3_GRIGLIA!$B$20)))))","v":""},"",{"$f":"+IF(D422=\"\",\"\",IF(C422=\"\",0,INDEX(CR_3_GRIGLIA!$D$3:$K$13,+VLOOKUP(B422,CR_3_GRIGLIA!$A$3:$C$13,3,FALSE),+HLOOKUP(D422,CR_3_GRIGLIA!$D$1:$K$2,2,FALSE))))","v":""},""]
[422,null,{"$f":"+IF(B423=\"\",\"\",VLOOKUP(B423,CR_3_GRIGLIA!$A$3:$B$13,2,FALSE))","v":""},null,null,null,{"$f":"+IF(I423=\"\",\"\",IF(I423=CR_3_GRIGLIA!$C$16,CR_3_GRIGLIA!$B$16,IF(I423=CR_3_GRIGLIA!$C$17,CR_3_GRIGLIA!$B$17,IF(I423=CR_3_GRIGLIA!$C$18,CR_3_GRIGLIA!$B$18,IF(I423=CR_3_GRIGLIA!$C$19,CR_3_GRIGLIA!$B$19,CR_3_GRIGLIA!$B$20)))))","v":""},"",{"$f":"+IF(D423=\"\",\"\",IF(C423=\"\",0,INDEX(CR_3_GRIGLIA!$D$3:$K$13,+VLOOKUP(B423,CR_3_GRIGLIA!$A$3:$C$13,3,FALSE),+HLOOKUP(D423,CR_3_GRIGLIA!$D$1:$K$2,2,FALSE))))","v":""},""]
[423,null,{"$f":"+IF(B424=\"\",\"\",VLOOKUP(B424,CR_3_GRIGLIA!$A$3:$B$13,2,FALSE))","v":""},null,null,null,{"$f":"+IF(I424=\"\",\"\",IF(I424=CR_3_GRIGLIA!$C$16,CR_3_GRIGLIA!$B$16,IF(I424=CR_3_GRIGLIA!$C$17,CR_3_GRIGLIA!$B$17,IF(I424=CR_3_GRIGLIA!$C$18,CR_3_GRIGLIA!$B$18,IF(I424=CR_3_GRIGLIA!$C$19,CR_3_GRIGLIA!$B$19,CR_3_GRIGLIA!$B$20)))))","v":""},"",{"$f":"+IF(D424=\"\",\"\",IF(C424=\"\",0,INDEX(CR_3_GRIGLIA!$D$3:$K$13,+VLOOKUP(B424,CR_3_GRIGLIA!$A$3:$C$13,3,FALSE),+HLOOKUP(D424,CR_3_GRIGLIA!$D$1:$K$2,2,FALSE))))","v":""},""]
[424,null,{"$f":"+IF(B425=\"\",\"\",VLOOKUP(B425,CR_3_GRIGLIA!$A$3:$B$13,2,FALSE))","v":""},null,null,null,{"$f":"+IF(I425=\"\",\"\",IF(I425=CR_3_GRIGLIA!$C$16,CR_3_GRIGLIA!$B$16,IF(I425=CR_3_GRIGLIA!$C$17,CR_3_GRIGLIA!$B$17,IF(I425=CR_3_GRIGLIA!$C$18,CR_3_GRIGLIA!$B$18,IF(I425=CR_3_GRIGLIA!$C$19,CR_3_GRIGLIA!$B$19,CR_3_GRIGLIA!$B$20)))))","v":""},"",{"$f":"+IF(D425=\"\",\"\",IF(C425=\"\",0,INDEX(CR_3_GRIGLIA!$D$3:$K$13,+VLOOKUP(B425,CR_3_GRIGLIA!$A$3:$C$13,3,FALSE),+HLOOKUP(D425,CR_3_GRIGLIA!$D$1:$K$2,2,FALSE))))","v":""},""]
[425,null,{"$f":"+IF(B426=\"\",\"\",VLOOKUP(B426,CR_3_GRIGLIA!$A$3:$B$13,2,FALSE))","v":""},null,null,null,{"$f":"+IF(I426=\"\",\"\",IF(I426=CR_3_GRIGLIA!$C$16,CR_3_GRIGLIA!$B$16,IF(I426=CR_3_GRIGLIA!$C$17,CR_3_GRIGLIA!$B$17,IF(I426=CR_3_GRIGLIA!$C$18,CR_3_GRIGLIA!$B$18,IF(I426=CR_3_GRIGLIA!$C$19,CR_3_GRIGLIA!$B$19,CR_3_GRIGLIA!$B$20)))))","v":""},"",{"$f":"+IF(D426=\"\",\"\",IF(C426=\"\",0,INDEX(CR_3_GRIGLIA!$D$3:$K$13,+VLOOKUP(B426,CR_3_GRIGLIA!$A$3:$C$13,3,FALSE),+HLOOKUP(D426,CR_3_GRIGLIA!$D$1:$K$2,2,FALSE))))","v":""},""]
[426,null,{"$f":"+IF(B427=\"\",\"\",VLOOKUP(B427,CR_3_GRIGLIA!$A$3:$B$13,2,FALSE))","v":""},null,null,null,{"$f":"+IF(I427=\"\",\"\",IF(I427=CR_3_GRIGLIA!$C$16,CR_3_GRIGLIA!$B$16,IF(I427=CR_3_GRIGLIA!$C$17,CR_3_GRIGLIA!$B$17,IF(I427=CR_3_GRIGLIA!$C$18,CR_3_GRIGLIA!$B$18,IF(I427=CR_3_GRIGLIA!$C$19,CR_3_GRIGLIA!$B$19,CR_3_GRIGLIA!$B$20)))))","v":""},"",{"$f":"+IF(D427=\"\",\"\",IF(C427=\"\",0,INDEX(CR_3_GRIGLIA!$D$3:$K$13,+VLOOKUP(B427,CR_3_GRIGLIA!$A$3:$C$13,3,FALSE),+HLOOKUP(D427,CR_3_GRIGLIA!$D$1:$K$2,2,FALSE))))","v":""},""]
[427,null,{"$f":"+IF(B428=\"\",\"\",VLOOKUP(B428,CR_3_GRIGLIA!$A$3:$B$13,2,FALSE))","v":""},null,null,null,{"$f":"+IF(I428=\"\",\"\",IF(I428=CR_3_GRIGLIA!$C$16,CR_3_GRIGLIA!$B$16,IF(I428=CR_3_GRIGLIA!$C$17,CR_3_GRIGLIA!$B$17,IF(I428=CR_3_GRIGLIA!$C$18,CR_3_GRIGLIA!$B$18,IF(I428=CR_3_GRIGLIA!$C$19,CR_3_GRIGLIA!$B$19,CR_3_GRIGLIA!$B$20)))))","v":""},"",{"$f":"+IF(D428=\"\",\"\",IF(C428=\"\",0,INDEX(CR_3_GRIGLIA!$D$3:$K$13,+VLOOKUP(B428,CR_3_GRIGLIA!$A$3:$C$13,3,FALSE),+HLOOKUP(D428,CR_3_GRIGLIA!$D$1:$K$2,2,FALSE))))","v":""},""]
[428,null,{"$f":"+IF(B429=\"\",\"\",VLOOKUP(B429,CR_3_GRIGLIA!$A$3:$B$13,2,FALSE))","v":""},null,null,null,{"$f":"+IF(I429=\"\",\"\",IF(I429=CR_3_GRIGLIA!$C$16,CR_3_GRIGLIA!$B$16,IF(I429=CR_3_GRIGLIA!$C$17,CR_3_GRIGLIA!$B$17,IF(I429=CR_3_GRIGLIA!$C$18,CR_3_GRIGLIA!$B$18,IF(I429=CR_3_GRIGLIA!$C$19,CR_3_GRIGLIA!$B$19,CR_3_GRIGLIA!$B$20)))))","v":""},"",{"$f":"+IF(D429=\"\",\"\",IF(C429=\"\",0,INDEX(CR_3_GRIGLIA!$D$3:$K$13,+VLOOKUP(B429,CR_3_GRIGLIA!$A$3:$C$13,3,FALSE),+HLOOKUP(D429,CR_3_GRIGLIA!$D$1:$K$2,2,FALSE))))","v":""},""]
[429,null,{"$f":"+IF(B430=\"\",\"\",VLOOKUP(B430,CR_3_GRIGLIA!$A$3:$B$13,2,FALSE))","v":""},null,null,null,{"$f":"+IF(I430=\"\",\"\",IF(I430=CR_3_GRIGLIA!$C$16,CR_3_GRIGLIA!$B$16,IF(I430=CR_3_GRIGLIA!$C$17,CR_3_GRIGLIA!$B$17,IF(I430=CR_3_GRIGLIA!$C$18,CR_3_GRIGLIA!$B$18,IF(I430=CR_3_GRIGLIA!$C$19,CR_3_GRIGLIA!$B$19,CR_3_GRIGLIA!$B$20)))))","v":""},"",{"$f":"+IF(D430=\"\",\"\",IF(C430=\"\",0,INDEX(CR_3_GRIGLIA!$D$3:$K$13,+VLOOKUP(B430,CR_3_GRIGLIA!$A$3:$C$13,3,FALSE),+HLOOKUP(D430,CR_3_GRIGLIA!$D$1:$K$2,2,FALSE))))","v":""},""]
[430,null,{"$f":"+IF(B431=\"\",\"\",VLOOKUP(B431,CR_3_GRIGLIA!$A$3:$B$13,2,FALSE))","v":""},null,null,null,{"$f":"+IF(I431=\"\",\"\",IF(I431=CR_3_GRIGLIA!$C$16,CR_3_GRIGLIA!$B$16,IF(I431=CR_3_GRIGLIA!$C$17,CR_3_GRIGLIA!$B$17,IF(I431=CR_3_GRIGLIA!$C$18,CR_3_GRIGLIA!$B$18,IF(I431=CR_3_GRIGLIA!$C$19,CR_3_GRIGLIA!$B$19,CR_3_GRIGLIA!$B$20)))))","v":""},"",{"$f":"+IF(D431=\"\",\"\",IF(C431=\"\",0,INDEX(CR_3_GRIGLIA!$D$3:$K$13,+VLOOKUP(B431,CR_3_GRIGLIA!$A$3:$C$13,3,FALSE),+HLOOKUP(D431,CR_3_GRIGLIA!$D$1:$K$2,2,FALSE))))","v":""},""]
[431,null,{"$f":"+IF(B432=\"\",\"\",VLOOKUP(B432,CR_3_GRIGLIA!$A$3:$B$13,2,FALSE))","v":""},null,null,null,{"$f":"+IF(I432=\"\",\"\",IF(I432=CR_3_GRIGLIA!$C$16,CR_3_GRIGLIA!$B$16,IF(I432=CR_3_GRIGLIA!$C$17,CR_3_GRIGLIA!$B$17,IF(I432=CR_3_GRIGLIA!$C$18,CR_3_GRIGLIA!$B$18,IF(I432=CR_3_GRIGLIA!$C$19,CR_3_GRIGLIA!$B$19,CR_3_GRIGLIA!$B$20)))))","v":""},"",{"$f":"+IF(D432=\"\",\"\",IF(C432=\"\",0,INDEX(CR_3_GRIGLIA!$D$3:$K$13,+VLOOKUP(B432,CR_3_GRIGLIA!$A$3:$C$13,3,FALSE),+HLOOKUP(D432,CR_3_GRIGLIA!$D$1:$K$2,2,FALSE))))","v":""},""]
[432,null,{"$f":"+IF(B433=\"\",\"\",VLOOKUP(B433,CR_3_GRIGLIA!$A$3:$B$13,2,FALSE))","v":""},null,null,null,{"$f":"+IF(I433=\"\",\"\",IF(I433=CR_3_GRIGLIA!$C$16,CR_3_GRIGLIA!$B$16,IF(I433=CR_3_GRIGLIA!$C$17,CR_3_GRIGLIA!$B$17,IF(I433=CR_3_GRIGLIA!$C$18,CR_3_GRIGLIA!$B$18,IF(I433=CR_3_GRIGLIA!$C$19,CR_3_GRIGLIA!$B$19,CR_3_GRIGLIA!$B$20)))))","v":""},"",{"$f":"+IF(D433=\"\",\"\",IF(C433=\"\",0,INDEX(CR_3_GRIGLIA!$D$3:$K$13,+VLOOKUP(B433,CR_3_GRIGLIA!$A$3:$C$13,3,FALSE),+HLOOKUP(D433,CR_3_GRIGLIA!$D$1:$K$2,2,FALSE))))","v":""},""]
[433,null,{"$f":"+IF(B434=\"\",\"\",VLOOKUP(B434,CR_3_GRIGLIA!$A$3:$B$13,2,FALSE))","v":""},null,null,null,{"$f":"+IF(I434=\"\",\"\",IF(I434=CR_3_GRIGLIA!$C$16,CR_3_GRIGLIA!$B$16,IF(I434=CR_3_GRIGLIA!$C$17,CR_3_GRIGLIA!$B$17,IF(I434=CR_3_GRIGLIA!$C$18,CR_3_GRIGLIA!$B$18,IF(I434=CR_3_GRIGLIA!$C$19,CR_3_GRIGLIA!$B$19,CR_3_GRIGLIA!$B$20)))))","v":""},"",{"$f":"+IF(D434=\"\",\"\",IF(C434=\"\",0,INDEX(CR_3_GRIGLIA!$D$3:$K$13,+VLOOKUP(B434,CR_3_GRIGLIA!$A$3:$C$13,3,FALSE),+HLOOKUP(D434,CR_3_GRIGLIA!$D$1:$K$2,2,FALSE))))","v":""},""]
[434,null,{"$f":"+IF(B435=\"\",\"\",VLOOKUP(B435,CR_3_GRIGLIA!$A$3:$B$13,2,FALSE))","v":""},null,null,null,{"$f":"+IF(I435=\"\",\"\",IF(I435=CR_3_GRIGLIA!$C$16,CR_3_GRIGLIA!$B$16,IF(I435=CR_3_GRIGLIA!$C$17,CR_3_GRIGLIA!$B$17,IF(I435=CR_3_GRIGLIA!$C$18,CR_3_GRIGLIA!$B$18,IF(I435=CR_3_GRIGLIA!$C$19,CR_3_GRIGLIA!$B$19,CR_3_GRIGLIA!$B$20)))))","v":""},"",{"$f":"+IF(D435=\"\",\"\",IF(C435=\"\",0,INDEX(CR_3_GRIGLIA!$D$3:$K$13,+VLOOKUP(B435,CR_3_GRIGLIA!$A$3:$C$13,3,FALSE),+HLOOKUP(D435,CR_3_GRIGLIA!$D$1:$K$2,2,FALSE))))","v":""},""]
[435,null,{"$f":"+IF(B436=\"\",\"\",VLOOKUP(B436,CR_3_GRIGLIA!$A$3:$B$13,2,FALSE))","v":""},null,null,null,{"$f":"+IF(I436=\"\",\"\",IF(I436=CR_3_GRIGLIA!$C$16,CR_3_GRIGLIA!$B$16,IF(I436=CR_3_GRIGLIA!$C$17,CR_3_GRIGLIA!$B$17,IF(I436=CR_3_GRIGLIA!$C$18,CR_3_GRIGLIA!$B$18,IF(I436=CR_3_GRIGLIA!$C$19,CR_3_GRIGLIA!$B$19,CR_3_GRIGLIA!$B$20)))))","v":""},"",{"$f":"+IF(D436=\"\",\"\",IF(C436=\"\",0,INDEX(CR_3_GRIGLIA!$D$3:$K$13,+VLOOKUP(B436,CR_3_GRIGLIA!$A$3:$C$13,3,FALSE),+HLOOKUP(D436,CR_3_GRIGLIA!$D$1:$K$2,2,FALSE))))","v":""},""]
[436,null,{"$f":"+IF(B437=\"\",\"\",VLOOKUP(B437,CR_3_GRIGLIA!$A$3:$B$13,2,FALSE))","v":""},null,null,null,{"$f":"+IF(I437=\"\",\"\",IF(I437=CR_3_GRIGLIA!$C$16,CR_3_GRIGLIA!$B$16,IF(I437=CR_3_GRIGLIA!$C$17,CR_3_GRIGLIA!$B$17,IF(I437=CR_3_GRIGLIA!$C$18,CR_3_GRIGLIA!$B$18,IF(I437=CR_3_GRIGLIA!$C$19,CR_3_GRIGLIA!$B$19,CR_3_GRIGLIA!$B$20)))))","v":""},"",{"$f":"+IF(D437=\"\",\"\",IF(C437=\"\",0,INDEX(CR_3_GRIGLIA!$D$3:$K$13,+VLOOKUP(B437,CR_3_GRIGLIA!$A$3:$C$13,3,FALSE),+HLOOKUP(D437,CR_3_GRIGLIA!$D$1:$K$2,2,FALSE))))","v":""},""]
[437,null,{"$f":"+IF(B438=\"\",\"\",VLOOKUP(B438,CR_3_GRIGLIA!$A$3:$B$13,2,FALSE))","v":""},null,null,null,{"$f":"+IF(I438=\"\",\"\",IF(I438=CR_3_GRIGLIA!$C$16,CR_3_GRIGLIA!$B$16,IF(I438=CR_3_GRIGLIA!$C$17,CR_3_GRIGLIA!$B$17,IF(I438=CR_3_GRIGLIA!$C$18,CR_3_GRIGLIA!$B$18,IF(I438=CR_3_GRIGLIA!$C$19,CR_3_GRIGLIA!$B$19,CR_3_GRIGLIA!$B$20)))))","v":""},"",{"$f":"+IF(D438=\"\",\"\",IF(C438=\"\",0,INDEX(CR_3_GRIGLIA!$D$3:$K$13,+VLOOKUP(B438,CR_3_GRIGLIA!$A$3:$C$13,3,FALSE),+HLOOKUP(D438,CR_3_GRIGLIA!$D$1:$K$2,2,FALSE))))","v":""},""]
[438,null,{"$f":"+IF(B439=\"\",\"\",VLOOKUP(B439,CR_3_GRIGLIA!$A$3:$B$13,2,FALSE))","v":""},null,null,null,{"$f":"+IF(I439=\"\",\"\",IF(I439=CR_3_GRIGLIA!$C$16,CR_3_GRIGLIA!$B$16,IF(I439=CR_3_GRIGLIA!$C$17,CR_3_GRIGLIA!$B$17,IF(I439=CR_3_GRIGLIA!$C$18,CR_3_GRIGLIA!$B$18,IF(I439=CR_3_GRIGLIA!$C$19,CR_3_GRIGLIA!$B$19,CR_3_GRIGLIA!$B$20)))))","v":""},"",{"$f":"+IF(D439=\"\",\"\",IF(C439=\"\",0,INDEX(CR_3_GRIGLIA!$D$3:$K$13,+VLOOKUP(B439,CR_3_GRIGLIA!$A$3:$C$13,3,FALSE),+HLOOKUP(D439,CR_3_GRIGLIA!$D$1:$K$2,2,FALSE))))","v":""},""]
[439,null,{"$f":"+IF(B440=\"\",\"\",VLOOKUP(B440,CR_3_GRIGLIA!$A$3:$B$13,2,FALSE))","v":""},null,null,null,{"$f":"+IF(I440=\"\",\"\",IF(I440=CR_3_GRIGLIA!$C$16,CR_3_GRIGLIA!$B$16,IF(I440=CR_3_GRIGLIA!$C$17,CR_3_GRIGLIA!$B$17,IF(I440=CR_3_GRIGLIA!$C$18,CR_3_GRIGLIA!$B$18,IF(I440=CR_3_GRIGLIA!$C$19,CR_3_GRIGLIA!$B$19,CR_3_GRIGLIA!$B$20)))))","v":""},"",{"$f":"+IF(D440=\"\",\"\",IF(C440=\"\",0,INDEX(CR_3_GRIGLIA!$D$3:$K$13,+VLOOKUP(B440,CR_3_GRIGLIA!$A$3:$C$13,3,FALSE),+HLOOKUP(D440,CR_3_GRIGLIA!$D$1:$K$2,2,FALSE))))","v":""},""]
[440,null,{"$f":"+IF(B441=\"\",\"\",VLOOKUP(B441,CR_3_GRIGLIA!$A$3:$B$13,2,FALSE))","v":""},null,null,null,{"$f":"+IF(I441=\"\",\"\",IF(I441=CR_3_GRIGLIA!$C$16,CR_3_GRIGLIA!$B$16,IF(I441=CR_3_GRIGLIA!$C$17,CR_3_GRIGLIA!$B$17,IF(I441=CR_3_GRIGLIA!$C$18,CR_3_GRIGLIA!$B$18,IF(I441=CR_3_GRIGLIA!$C$19,CR_3_GRIGLIA!$B$19,CR_3_GRIGLIA!$B$20)))))","v":""},"",{"$f":"+IF(D441=\"\",\"\",IF(C441=\"\",0,INDEX(CR_3_GRIGLIA!$D$3:$K$13,+VLOOKUP(B441,CR_3_GRIGLIA!$A$3:$C$13,3,FALSE),+HLOOKUP(D441,CR_3_GRIGLIA!$D$1:$K$2,2,FALSE))))","v":""},""]
[441,null,{"$f":"+IF(B442=\"\",\"\",VLOOKUP(B442,CR_3_GRIGLIA!$A$3:$B$13,2,FALSE))","v":""},null,null,null,{"$f":"+IF(I442=\"\",\"\",IF(I442=CR_3_GRIGLIA!$C$16,CR_3_GRIGLIA!$B$16,IF(I442=CR_3_GRIGLIA!$C$17,CR_3_GRIGLIA!$B$17,IF(I442=CR_3_GRIGLIA!$C$18,CR_3_GRIGLIA!$B$18,IF(I442=CR_3_GRIGLIA!$C$19,CR_3_GRIGLIA!$B$19,CR_3_GRIGLIA!$B$20)))))","v":""},"",{"$f":"+IF(D442=\"\",\"\",IF(C442=\"\",0,INDEX(CR_3_GRIGLIA!$D$3:$K$13,+VLOOKUP(B442,CR_3_GRIGLIA!$A$3:$C$13,3,FALSE),+HLOOKUP(D442,CR_3_GRIGLIA!$D$1:$K$2,2,FALSE))))","v":""},""]
[442,null,{"$f":"+IF(B443=\"\",\"\",VLOOKUP(B443,CR_3_GRIGLIA!$A$3:$B$13,2,FALSE))","v":""},null,null,null,{"$f":"+IF(I443=\"\",\"\",IF(I443=CR_3_GRIGLIA!$C$16,CR_3_GRIGLIA!$B$16,IF(I443=CR_3_GRIGLIA!$C$17,CR_3_GRIGLIA!$B$17,IF(I443=CR_3_GRIGLIA!$C$18,CR_3_GRIGLIA!$B$18,IF(I443=CR_3_GRIGLIA!$C$19,CR_3_GRIGLIA!$B$19,CR_3_GRIGLIA!$B$20)))))","v":""},"",{"$f":"+IF(D443=\"\",\"\",IF(C443=\"\",0,INDEX(CR_3_GRIGLIA!$D$3:$K$13,+VLOOKUP(B443,CR_3_GRIGLIA!$A$3:$C$13,3,FALSE),+HLOOKUP(D443,CR_3_GRIGLIA!$D$1:$K$2,2,FALSE))))","v":""},""]
[443,null,{"$f":"+IF(B444=\"\",\"\",VLOOKUP(B444,CR_3_GRIGLIA!$A$3:$B$13,2,FALSE))","v":""},null,null,null,{"$f":"+IF(I444=\"\",\"\",IF(I444=CR_3_GRIGLIA!$C$16,CR_3_GRIGLIA!$B$16,IF(I444=CR_3_GRIGLIA!$C$17,CR_3_GRIGLIA!$B$17,IF(I444=CR_3_GRIGLIA!$C$18,CR_3_GRIGLIA!$B$18,IF(I444=CR_3_GRIGLIA!$C$19,CR_3_GRIGLIA!$B$19,CR_3_GRIGLIA!$B$20)))))","v":""},"",{"$f":"+IF(D444=\"\",\"\",IF(C444=\"\",0,INDEX(CR_3_GRIGLIA!$D$3:$K$13,+VLOOKUP(B444,CR_3_GRIGLIA!$A$3:$C$13,3,FALSE),+HLOOKUP(D444,CR_3_GRIGLIA!$D$1:$K$2,2,FALSE))))","v":""},""]
[444,null,{"$f":"+IF(B445=\"\",\"\",VLOOKUP(B445,CR_3_GRIGLIA!$A$3:$B$13,2,FALSE))","v":""},null,null,null,{"$f":"+IF(I445=\"\",\"\",IF(I445=CR_3_GRIGLIA!$C$16,CR_3_GRIGLIA!$B$16,IF(I445=CR_3_GRIGLIA!$C$17,CR_3_GRIGLIA!$B$17,IF(I445=CR_3_GRIGLIA!$C$18,CR_3_GRIGLIA!$B$18,IF(I445=CR_3_GRIGLIA!$C$19,CR_3_GRIGLIA!$B$19,CR_3_GRIGLIA!$B$20)))))","v":""},"",{"$f":"+IF(D445=\"\",\"\",IF(C445=\"\",0,INDEX(CR_3_GRIGLIA!$D$3:$K$13,+VLOOKUP(B445,CR_3_GRIGLIA!$A$3:$C$13,3,FALSE),+HLOOKUP(D445,CR_3_GRIGLIA!$D$1:$K$2,2,FALSE))))","v":""},""]
[445,null,{"$f":"+IF(B446=\"\",\"\",VLOOKUP(B446,CR_3_GRIGLIA!$A$3:$B$13,2,FALSE))","v":""},null,null,null,{"$f":"+IF(I446=\"\",\"\",IF(I446=CR_3_GRIGLIA!$C$16,CR_3_GRIGLIA!$B$16,IF(I446=CR_3_GRIGLIA!$C$17,CR_3_GRIGLIA!$B$17,IF(I446=CR_3_GRIGLIA!$C$18,CR_3_GRIGLIA!$B$18,IF(I446=CR_3_GRIGLIA!$C$19,CR_3_GRIGLIA!$B$19,CR_3_GRIGLIA!$B$20)))))","v":""},"",{"$f":"+IF(D446=\"\",\"\",IF(C446=\"\",0,INDEX(CR_3_GRIGLIA!$D$3:$K$13,+VLOOKUP(B446,CR_3_GRIGLIA!$A$3:$C$13,3,FALSE),+HLOOKUP(D446,CR_3_GRIGLIA!$D$1:$K$2,2,FALSE))))","v":""},""]
[446,null,{"$f":"+IF(B447=\"\",\"\",VLOOKUP(B447,CR_3_GRIGLIA!$A$3:$B$13,2,FALSE))","v":""},null,null,null,{"$f":"+IF(I447=\"\",\"\",IF(I447=CR_3_GRIGLIA!$C$16,CR_3_GRIGLIA!$B$16,IF(I447=CR_3_GRIGLIA!$C$17,CR_3_GRIGLIA!$B$17,IF(I447=CR_3_GRIGLIA!$C$18,CR_3_GRIGLIA!$B$18,IF(I447=CR_3_GRIGLIA!$C$19,CR_3_GRIGLIA!$B$19,CR_3_GRIGLIA!$B$20)))))","v":""},"",{"$f":"+IF(D447=\"\",\"\",IF(C447=\"\",0,INDEX(CR_3_GRIGLIA!$D$3:$K$13,+VLOOKUP(B447,CR_3_GRIGLIA!$A$3:$C$13,3,FALSE),+HLOOKUP(D447,CR_3_GRIGLIA!$D$1:$K$2,2,FALSE))))","v":""},""]
[447,null,{"$f":"+IF(B448=\"\",\"\",VLOOKUP(B448,CR_3_GRIGLIA!$A$3:$B$13,2,FALSE))","v":""},null,null,null,{"$f":"+IF(I448=\"\",\"\",IF(I448=CR_3_GRIGLIA!$C$16,CR_3_GRIGLIA!$B$16,IF(I448=CR_3_GRIGLIA!$C$17,CR_3_GRIGLIA!$B$17,IF(I448=CR_3_GRIGLIA!$C$18,CR_3_GRIGLIA!$B$18,IF(I448=CR_3_GRIGLIA!$C$19,CR_3_GRIGLIA!$B$19,CR_3_GRIGLIA!$B$20)))))","v":""},"",{"$f":"+IF(D448=\"\",\"\",IF(C448=\"\",0,INDEX(CR_3_GRIGLIA!$D$3:$K$13,+VLOOKUP(B448,CR_3_GRIGLIA!$A$3:$C$13,3,FALSE),+HLOOKUP(D448,CR_3_GRIGLIA!$D$1:$K$2,2,FALSE))))","v":""},""]
[448,null,{"$f":"+IF(B449=\"\",\"\",VLOOKUP(B449,CR_3_GRIGLIA!$A$3:$B$13,2,FALSE))","v":""},null,null,null,{"$f":"+IF(I449=\"\",\"\",IF(I449=CR_3_GRIGLIA!$C$16,CR_3_GRIGLIA!$B$16,IF(I449=CR_3_GRIGLIA!$C$17,CR_3_GRIGLIA!$B$17,IF(I449=CR_3_GRIGLIA!$C$18,CR_3_GRIGLIA!$B$18,IF(I449=CR_3_GRIGLIA!$C$19,CR_3_GRIGLIA!$B$19,CR_3_GRIGLIA!$B$20)))))","v":""},"",{"$f":"+IF(D449=\"\",\"\",IF(C449=\"\",0,INDEX(CR_3_GRIGLIA!$D$3:$K$13,+VLOOKUP(B449,CR_3_GRIGLIA!$A$3:$C$13,3,FALSE),+HLOOKUP(D449,CR_3_GRIGLIA!$D$1:$K$2,2,FALSE))))","v":""},""]
[449,null,{"$f":"+IF(B450=\"\",\"\",VLOOKUP(B450,CR_3_GRIGLIA!$A$3:$B$13,2,FALSE))","v":""},null,null,null,{"$f":"+IF(I450=\"\",\"\",IF(I450=CR_3_GRIGLIA!$C$16,CR_3_GRIGLIA!$B$16,IF(I450=CR_3_GRIGLIA!$C$17,CR_3_GRIGLIA!$B$17,IF(I450=CR_3_GRIGLIA!$C$18,CR_3_GRIGLIA!$B$18,IF(I450=CR_3_GRIGLIA!$C$19,CR_3_GRIGLIA!$B$19,CR_3_GRIGLIA!$B$20)))))","v":""},"",{"$f":"+IF(D450=\"\",\"\",IF(C450=\"\",0,INDEX(CR_3_GRIGLIA!$D$3:$K$13,+VLOOKUP(B450,CR_3_GRIGLIA!$A$3:$C$13,3,FALSE),+HLOOKUP(D450,CR_3_GRIGLIA!$D$1:$K$2,2,FALSE))))","v":""},""]
[450,null,{"$f":"+IF(B451=\"\",\"\",VLOOKUP(B451,CR_3_GRIGLIA!$A$3:$B$13,2,FALSE))","v":""},null,null,null,{"$f":"+IF(I451=\"\",\"\",IF(I451=CR_3_GRIGLIA!$C$16,CR_3_GRIGLIA!$B$16,IF(I451=CR_3_GRIGLIA!$C$17,CR_3_GRIGLIA!$B$17,IF(I451=CR_3_GRIGLIA!$C$18,CR_3_GRIGLIA!$B$18,IF(I451=CR_3_GRIGLIA!$C$19,CR_3_GRIGLIA!$B$19,CR_3_GRIGLIA!$B$20)))))","v":""},{"$f":"IFERROR(IF(F451=\"\",\"\",F451/$F$504),0)","v":""},{"$f":"+IF(D451=\"\",\"\",IF(C451=\"\",0,INDEX(CR_3_GRIGLIA!$D$3:$K$13,+VLOOKUP(B451,CR_3_GRIGLIA!$A$3:$C$13,3,FALSE),+HLOOKUP(D451,CR_3_GRIGLIA!$D$1:$K$2,2,FALSE))))","v":""},{"$f":"IFERROR(IF(I451=\"\",\"\",I451*F451/$F$504),0)","v":""}]
[451,null,{"$f":"+IF(B452=\"\",\"\",VLOOKUP(B452,CR_3_GRIGLIA!$A$3:$B$13,2,FALSE))","v":""},null,null,null,{"$f":"+IF(I452=\"\",\"\",IF(I452=CR_3_GRIGLIA!$C$16,CR_3_GRIGLIA!$B$16,IF(I452=CR_3_GRIGLIA!$C$17,CR_3_GRIGLIA!$B$17,IF(I452=CR_3_GRIGLIA!$C$18,CR_3_GRIGLIA!$B$18,IF(I452=CR_3_GRIGLIA!$C$19,CR_3_GRIGLIA!$B$19,CR_3_GRIGLIA!$B$20)))))","v":""},"",{"$f":"+IF(D452=\"\",\"\",IF(C452=\"\",0,INDEX(CR_3_GRIGLIA!$D$3:$K$13,+VLOOKUP(B452,CR_3_GRIGLIA!$A$3:$C$13,3,FALSE),+HLOOKUP(D452,CR_3_GRIGLIA!$D$1:$K$2,2,FALSE))))","v":""},""]
[452,null,{"$f":"+IF(B453=\"\",\"\",VLOOKUP(B453,CR_3_GRIGLIA!$A$3:$B$13,2,FALSE))","v":""},null,null,null,{"$f":"+IF(I453=\"\",\"\",IF(I453=CR_3_GRIGLIA!$C$16,CR_3_GRIGLIA!$B$16,IF(I453=CR_3_GRIGLIA!$C$17,CR_3_GRIGLIA!$B$17,IF(I453=CR_3_GRIGLIA!$C$18,CR_3_GRIGLIA!$B$18,IF(I453=CR_3_GRIGLIA!$C$19,CR_3_GRIGLIA!$B$19,CR_3_GRIGLIA!$B$20)))))","v":""},"",{"$f":"+IF(D453=\"\",\"\",IF(C453=\"\",0,INDEX(CR_3_GRIGLIA!$D$3:$K$13,+VLOOKUP(B453,CR_3_GRIGLIA!$A$3:$C$13,3,FALSE),+HLOOKUP(D453,CR_3_GRIGLIA!$D$1:$K$2,2,FALSE))))","v":""},""]
[453,null,{"$f":"+IF(B454=\"\",\"\",VLOOKUP(B454,CR_3_GRIGLIA!$A$3:$B$13,2,FALSE))","v":""},null,null,null,{"$f":"+IF(I454=\"\",\"\",IF(I454=CR_3_GRIGLIA!$C$16,CR_3_GRIGLIA!$B$16,IF(I454=CR_3_GRIGLIA!$C$17,CR_3_GRIGLIA!$B$17,IF(I454=CR_3_GRIGLIA!$C$18,CR_3_GRIGLIA!$B$18,IF(I454=CR_3_GRIGLIA!$C$19,CR_3_GRIGLIA!$B$19,CR_3_GRIGLIA!$B$20)))))","v":""},"",{"$f":"+IF(D454=\"\",\"\",IF(C454=\"\",0,INDEX(CR_3_GRIGLIA!$D$3:$K$13,+VLOOKUP(B454,CR_3_GRIGLIA!$A$3:$C$13,3,FALSE),+HLOOKUP(D454,CR_3_GRIGLIA!$D$1:$K$2,2,FALSE))))","v":""},""]
[454,null,{"$f":"+IF(B455=\"\",\"\",VLOOKUP(B455,CR_3_GRIGLIA!$A$3:$B$13,2,FALSE))","v":""},null,null,null,{"$f":"+IF(I455=\"\",\"\",IF(I455=CR_3_GRIGLIA!$C$16,CR_3_GRIGLIA!$B$16,IF(I455=CR_3_GRIGLIA!$C$17,CR_3_GRIGLIA!$B$17,IF(I455=CR_3_GRIGLIA!$C$18,CR_3_GRIGLIA!$B$18,IF(I455=CR_3_GRIGLIA!$C$19,CR_3_GRIGLIA!$B$19,CR_3_GRIGLIA!$B$20)))))","v":""},"",{"$f":"+IF(D455=\"\",\"\",IF(C455=\"\",0,INDEX(CR_3_GRIGLIA!$D$3:$K$13,+VLOOKUP(B455,CR_3_GRIGLIA!$A$3:$C$13,3,FALSE),+HLOOKUP(D455,CR_3_GRIGLIA!$D$1:$K$2,2,FALSE))))","v":""},""]
[455,null,{"$f":"+IF(B456=\"\",\"\",VLOOKUP(B456,CR_3_GRIGLIA!$A$3:$B$13,2,FALSE))","v":""},null,null,null,{"$f":"+IF(I456=\"\",\"\",IF(I456=CR_3_GRIGLIA!$C$16,CR_3_GRIGLIA!$B$16,IF(I456=CR_3_GRIGLIA!$C$17,CR_3_GRIGLIA!$B$17,IF(I456=CR_3_GRIGLIA!$C$18,CR_3_GRIGLIA!$B$18,IF(I456=CR_3_GRIGLIA!$C$19,CR_3_GRIGLIA!$B$19,CR_3_GRIGLIA!$B$20)))))","v":""},"",{"$f":"+IF(D456=\"\",\"\",IF(C456=\"\",0,INDEX(CR_3_GRIGLIA!$D$3:$K$13,+VLOOKUP(B456,CR_3_GRIGLIA!$A$3:$C$13,3,FALSE),+HLOOKUP(D456,CR_3_GRIGLIA!$D$1:$K$2,2,FALSE))))","v":""},""]
[456,null,{"$f":"+IF(B457=\"\",\"\",VLOOKUP(B457,CR_3_GRIGLIA!$A$3:$B$13,2,FALSE))","v":""},null,null,null,{"$f":"+IF(I457=\"\",\"\",IF(I457=CR_3_GRIGLIA!$C$16,CR_3_GRIGLIA!$B$16,IF(I457=CR_3_GRIGLIA!$C$17,CR_3_GRIGLIA!$B$17,IF(I457=CR_3_GRIGLIA!$C$18,CR_3_GRIGLIA!$B$18,IF(I457=CR_3_GRIGLIA!$C$19,CR_3_GRIGLIA!$B$19,CR_3_GRIGLIA!$B$20)))))","v":""},"",{"$f":"+IF(D457=\"\",\"\",IF(C457=\"\",0,INDEX(CR_3_GRIGLIA!$D$3:$K$13,+VLOOKUP(B457,CR_3_GRIGLIA!$A$3:$C$13,3,FALSE),+HLOOKUP(D457,CR_3_GRIGLIA!$D$1:$K$2,2,FALSE))))","v":""},""]
[457,null,{"$f":"+IF(B458=\"\",\"\",VLOOKUP(B458,CR_3_GRIGLIA!$A$3:$B$13,2,FALSE))","v":""},null,null,null,{"$f":"+IF(I458=\"\",\"\",IF(I458=CR_3_GRIGLIA!$C$16,CR_3_GRIGLIA!$B$16,IF(I458=CR_3_GRIGLIA!$C$17,CR_3_GRIGLIA!$B$17,IF(I458=CR_3_GRIGLIA!$C$18,CR_3_GRIGLIA!$B$18,IF(I458=CR_3_GRIGLIA!$C$19,CR_3_GRIGLIA!$B$19,CR_3_GRIGLIA!$B$20)))))","v":""},"",{"$f":"+IF(D458=\"\",\"\",IF(C458=\"\",0,INDEX(CR_3_GRIGLIA!$D$3:$K$13,+VLOOKUP(B458,CR_3_GRIGLIA!$A$3:$C$13,3,FALSE),+HLOOKUP(D458,CR_3_GRIGLIA!$D$1:$K$2,2,FALSE))))","v":""},""]
[458,null,{"$f":"+IF(B459=\"\",\"\",VLOOKUP(B459,CR_3_GRIGLIA!$A$3:$B$13,2,FALSE))","v":""},null,null,null,{"$f":"+IF(I459=\"\",\"\",IF(I459=CR_3_GRIGLIA!$C$16,CR_3_GRIGLIA!$B$16,IF(I459=CR_3_GRIGLIA!$C$17,CR_3_GRIGLIA!$B$17,IF(I459=CR_3_GRIGLIA!$C$18,CR_3_GRIGLIA!$B$18,IF(I459=CR_3_GRIGLIA!$C$19,CR_3_GRIGLIA!$B$19,CR_3_GRIGLIA!$B$20)))))","v":""},"",{"$f":"+IF(D459=\"\",\"\",IF(C459=\"\",0,INDEX(CR_3_GRIGLIA!$D$3:$K$13,+VLOOKUP(B459,CR_3_GRIGLIA!$A$3:$C$13,3,FALSE),+HLOOKUP(D459,CR_3_GRIGLIA!$D$1:$K$2,2,FALSE))))","v":""},""]
[459,null,{"$f":"+IF(B460=\"\",\"\",VLOOKUP(B460,CR_3_GRIGLIA!$A$3:$B$13,2,FALSE))","v":""},null,null,null,{"$f":"+IF(I460=\"\",\"\",IF(I460=CR_3_GRIGLIA!$C$16,CR_3_GRIGLIA!$B$16,IF(I460=CR_3_GRIGLIA!$C$17,CR_3_GRIGLIA!$B$17,IF(I460=CR_3_GRIGLIA!$C$18,CR_3_GRIGLIA!$B$18,IF(I460=CR_3_GRIGLIA!$C$19,CR_3_GRIGLIA!$B$19,CR_3_GRIGLIA!$B$20)))))","v":""},"",{"$f":"+IF(D460=\"\",\"\",IF(C460=\"\",0,INDEX(CR_3_GRIGLIA!$D$3:$K$13,+VLOOKUP(B460,CR_3_GRIGLIA!$A$3:$C$13,3,FALSE),+HLOOKUP(D460,CR_3_GRIGLIA!$D$1:$K$2,2,FALSE))))","v":""},""]
[460,null,{"$f":"+IF(B461=\"\",\"\",VLOOKUP(B461,CR_3_GRIGLIA!$A$3:$B$13,2,FALSE))","v":""},null,null,null,{"$f":"+IF(I461=\"\",\"\",IF(I461=CR_3_GRIGLIA!$C$16,CR_3_GRIGLIA!$B$16,IF(I461=CR_3_GRIGLIA!$C$17,CR_3_GRIGLIA!$B$17,IF(I461=CR_3_GRIGLIA!$C$18,CR_3_GRIGLIA!$B$18,IF(I461=CR_3_GRIGLIA!$C$19,CR_3_GRIGLIA!$B$19,CR_3_GRIGLIA!$B$20)))))","v":""},"",{"$f":"+IF(D461=\"\",\"\",IF(C461=\"\",0,INDEX(CR_3_GRIGLIA!$D$3:$K$13,+VLOOKUP(B461,CR_3_GRIGLIA!$A$3:$C$13,3,FALSE),+HLOOKUP(D461,CR_3_GRIGLIA!$D$1:$K$2,2,FALSE))))","v":""},""]
[461,null,{"$f":"+IF(B462=\"\",\"\",VLOOKUP(B462,CR_3_GRIGLIA!$A$3:$B$13,2,FALSE))","v":""},null,null,null,{"$f":"+IF(I462=\"\",\"\",IF(I462=CR_3_GRIGLIA!$C$16,CR_3_GRIGLIA!$B$16,IF(I462=CR_3_GRIGLIA!$C$17,CR_3_GRIGLIA!$B$17,IF(I462=CR_3_GRIGLIA!$C$18,CR_3_GRIGLIA!$B$18,IF(I462=CR_3_GRIGLIA!$C$19,CR_3_GRIGLIA!$B$19,CR_3_GRIGLIA!$B$20)))))","v":""},"",{"$f":"+IF(D462=\"\",\"\",IF(C462=\"\",0,INDEX(CR_3_GRIGLIA!$D$3:$K$13,+VLOOKUP(B462,CR_3_GRIGLIA!$A$3:$C$13,3,FALSE),+HLOOKUP(D462,CR_3_GRIGLIA!$D$1:$K$2,2,FALSE))))","v":""},""]
[462,null,{"$f":"+IF(B463=\"\",\"\",VLOOKUP(B463,CR_3_GRIGLIA!$A$3:$B$13,2,FALSE))","v":""},null,null,null,{"$f":"+IF(I463=\"\",\"\",IF(I463=CR_3_GRIGLIA!$C$16,CR_3_GRIGLIA!$B$16,IF(I463=CR_3_GRIGLIA!$C$17,CR_3_GRIGLIA!$B$17,IF(I463=CR_3_GRIGLIA!$C$18,CR_3_GRIGLIA!$B$18,IF(I463=CR_3_GRIGLIA!$C$19,CR_3_GRIGLIA!$B$19,CR_3_GRIGLIA!$B$20)))))","v":""},"",{"$f":"+IF(D463=\"\",\"\",IF(C463=\"\",0,INDEX(CR_3_GRIGLIA!$D$3:$K$13,+VLOOKUP(B463,CR_3_GRIGLIA!$A$3:$C$13,3,FALSE),+HLOOKUP(D463,CR_3_GRIGLIA!$D$1:$K$2,2,FALSE))))","v":""},""]
[463,null,{"$f":"+IF(B464=\"\",\"\",VLOOKUP(B464,CR_3_GRIGLIA!$A$3:$B$13,2,FALSE))","v":""},null,null,null,{"$f":"+IF(I464=\"\",\"\",IF(I464=CR_3_GRIGLIA!$C$16,CR_3_GRIGLIA!$B$16,IF(I464=CR_3_GRIGLIA!$C$17,CR_3_GRIGLIA!$B$17,IF(I464=CR_3_GRIGLIA!$C$18,CR_3_GRIGLIA!$B$18,IF(I464=CR_3_GRIGLIA!$C$19,CR_3_GRIGLIA!$B$19,CR_3_GRIGLIA!$B$20)))))","v":""},"",{"$f":"+IF(D464=\"\",\"\",IF(C464=\"\",0,INDEX(CR_3_GRIGLIA!$D$3:$K$13,+VLOOKUP(B464,CR_3_GRIGLIA!$A$3:$C$13,3,FALSE),+HLOOKUP(D464,CR_3_GRIGLIA!$D$1:$K$2,2,FALSE))))","v":""},""]
[464,null,{"$f":"+IF(B465=\"\",\"\",VLOOKUP(B465,CR_3_GRIGLIA!$A$3:$B$13,2,FALSE))","v":""},null,null,null,{"$f":"+IF(I465=\"\",\"\",IF(I465=CR_3_GRIGLIA!$C$16,CR_3_GRIGLIA!$B$16,IF(I465=CR_3_GRIGLIA!$C$17,CR_3_GRIGLIA!$B$17,IF(I465=CR_3_GRIGLIA!$C$18,CR_3_GRIGLIA!$B$18,IF(I465=CR_3_GRIGLIA!$C$19,CR_3_GRIGLIA!$B$19,CR_3_GRIGLIA!$B$20)))))","v":""},"",{"$f":"+IF(D465=\"\",\"\",IF(C465=\"\",0,INDEX(CR_3_GRIGLIA!$D$3:$K$13,+VLOOKUP(B465,CR_3_GRIGLIA!$A$3:$C$13,3,FALSE),+HLOOKUP(D465,CR_3_GRIGLIA!$D$1:$K$2,2,FALSE))))","v":""},""]
[465,null,{"$f":"+IF(B466=\"\",\"\",VLOOKUP(B466,CR_3_GRIGLIA!$A$3:$B$13,2,FALSE))","v":""},null,null,null,{"$f":"+IF(I466=\"\",\"\",IF(I466=CR_3_GRIGLIA!$C$16,CR_3_GRIGLIA!$B$16,IF(I466=CR_3_GRIGLIA!$C$17,CR_3_GRIGLIA!$B$17,IF(I466=CR_3_GRIGLIA!$C$18,CR_3_GRIGLIA!$B$18,IF(I466=CR_3_GRIGLIA!$C$19,CR_3_GRIGLIA!$B$19,CR_3_GRIGLIA!$B$20)))))","v":""},"",{"$f":"+IF(D466=\"\",\"\",IF(C466=\"\",0,INDEX(CR_3_GRIGLIA!$D$3:$K$13,+VLOOKUP(B466,CR_3_GRIGLIA!$A$3:$C$13,3,FALSE),+HLOOKUP(D466,CR_3_GRIGLIA!$D$1:$K$2,2,FALSE))))","v":""},""]
[466,null,{"$f":"+IF(B467=\"\",\"\",VLOOKUP(B467,CR_3_GRIGLIA!$A$3:$B$13,2,FALSE))","v":""},null,null,null,{"$f":"+IF(I467=\"\",\"\",IF(I467=CR_3_GRIGLIA!$C$16,CR_3_GRIGLIA!$B$16,IF(I467=CR_3_GRIGLIA!$C$17,CR_3_GRIGLIA!$B$17,IF(I467=CR_3_GRIGLIA!$C$18,CR_3_GRIGLIA!$B$18,IF(I467=CR_3_GRIGLIA!$C$19,CR_3_GRIGLIA!$B$19,CR_3_GRIGLIA!$B$20)))))","v":""},"",{"$f":"+IF(D467=\"\",\"\",IF(C467=\"\",0,INDEX(CR_3_GRIGLIA!$D$3:$K$13,+VLOOKUP(B467,CR_3_GRIGLIA!$A$3:$C$13,3,FALSE),+HLOOKUP(D467,CR_3_GRIGLIA!$D$1:$K$2,2,FALSE))))","v":""},""]
[467,null,{"$f":"+IF(B468=\"\",\"\",VLOOKUP(B468,CR_3_GRIGLIA!$A$3:$B$13,2,FALSE))","v":""},null,null,null,{"$f":"+IF(I468=\"\",\"\",IF(I468=CR_3_GRIGLIA!$C$16,CR_3_GRIGLIA!$B$16,IF(I468=CR_3_GRIGLIA!$C$17,CR_3_GRIGLIA!$B$17,IF(I468=CR_3_GRIGLIA!$C$18,CR_3_GRIGLIA!$B$18,IF(I468=CR_3_GRIGLIA!$C$19,CR_3_GRIGLIA!$B$19,CR_3_GRIGLIA!$B$20)))))","v":""},"",{"$f":"+IF(D468=\"\",\"\",IF(C468=\"\",0,INDEX(CR_3_GRIGLIA!$D$3:$K$13,+VLOOKUP(B468,CR_3_GRIGLIA!$A$3:$C$13,3,FALSE),+HLOOKUP(D468,CR_3_GRIGLIA!$D$1:$K$2,2,FALSE))))","v":""},""]
[468,null,{"$f":"+IF(B469=\"\",\"\",VLOOKUP(B469,CR_3_GRIGLIA!$A$3:$B$13,2,FALSE))","v":""},null,null,null,{"$f":"+IF(I469=\"\",\"\",IF(I469=CR_3_GRIGLIA!$C$16,CR_3_GRIGLIA!$B$16,IF(I469=CR_3_GRIGLIA!$C$17,CR_3_GRIGLIA!$B$17,IF(I469=CR_3_GRIGLIA!$C$18,CR_3_GRIGLIA!$B$18,IF(I469=CR_3_GRIGLIA!$C$19,CR_3_GRIGLIA!$B$19,CR_3_GRIGLIA!$B$20)))))","v":""},"",{"$f":"+IF(D469=\"\",\"\",IF(C469=\"\",0,INDEX(CR_3_GRIGLIA!$D$3:$K$13,+VLOOKUP(B469,CR_3_GRIGLIA!$A$3:$C$13,3,FALSE),+HLOOKUP(D469,CR_3_GRIGLIA!$D$1:$K$2,2,FALSE))))","v":""},""]
[469,null,{"$f":"+IF(B470=\"\",\"\",VLOOKUP(B470,CR_3_GRIGLIA!$A$3:$B$13,2,FALSE))","v":""},null,null,null,{"$f":"+IF(I470=\"\",\"\",IF(I470=CR_3_GRIGLIA!$C$16,CR_3_GRIGLIA!$B$16,IF(I470=CR_3_GRIGLIA!$C$17,CR_3_GRIGLIA!$B$17,IF(I470=CR_3_GRIGLIA!$C$18,CR_3_GRIGLIA!$B$18,IF(I470=CR_3_GRIGLIA!$C$19,CR_3_GRIGLIA!$B$19,CR_3_GRIGLIA!$B$20)))))","v":""},"",{"$f":"+IF(D470=\"\",\"\",IF(C470=\"\",0,INDEX(CR_3_GRIGLIA!$D$3:$K$13,+VLOOKUP(B470,CR_3_GRIGLIA!$A$3:$C$13,3,FALSE),+HLOOKUP(D470,CR_3_GRIGLIA!$D$1:$K$2,2,FALSE))))","v":""},""]
[470,null,{"$f":"+IF(B471=\"\",\"\",VLOOKUP(B471,CR_3_GRIGLIA!$A$3:$B$13,2,FALSE))","v":""},null,null,null,{"$f":"+IF(I471=\"\",\"\",IF(I471=CR_3_GRIGLIA!$C$16,CR_3_GRIGLIA!$B$16,IF(I471=CR_3_GRIGLIA!$C$17,CR_3_GRIGLIA!$B$17,IF(I471=CR_3_GRIGLIA!$C$18,CR_3_GRIGLIA!$B$18,IF(I471=CR_3_GRIGLIA!$C$19,CR_3_GRIGLIA!$B$19,CR_3_GRIGLIA!$B$20)))))","v":""},"",{"$f":"+IF(D471=\"\",\"\",IF(C471=\"\",0,INDEX(CR_3_GRIGLIA!$D$3:$K$13,+VLOOKUP(B471,CR_3_GRIGLIA!$A$3:$C$13,3,FALSE),+HLOOKUP(D471,CR_3_GRIGLIA!$D$1:$K$2,2,FALSE))))","v":""},""]
[471,null,{"$f":"+IF(B472=\"\",\"\",VLOOKUP(B472,CR_3_GRIGLIA!$A$3:$B$13,2,FALSE))","v":""},null,null,null,{"$f":"+IF(I472=\"\",\"\",IF(I472=CR_3_GRIGLIA!$C$16,CR_3_GRIGLIA!$B$16,IF(I472=CR_3_GRIGLIA!$C$17,CR_3_GRIGLIA!$B$17,IF(I472=CR_3_GRIGLIA!$C$18,CR_3_GRIGLIA!$B$18,IF(I472=CR_3_GRIGLIA!$C$19,CR_3_GRIGLIA!$B$19,CR_3_GRIGLIA!$B$20)))))","v":""},"",{"$f":"+IF(D472=\"\",\"\",IF(C472=\"\",0,INDEX(CR_3_GRIGLIA!$D$3:$K$13,+VLOOKUP(B472,CR_3_GRIGLIA!$A$3:$C$13,3,FALSE),+HLOOKUP(D472,CR_3_GRIGLIA!$D$1:$K$2,2,FALSE))))","v":""},""]
[472,null,{"$f":"+IF(B473=\"\",\"\",VLOOKUP(B473,CR_3_GRIGLIA!$A$3:$B$13,2,FALSE))","v":""},null,null,null,{"$f":"+IF(I473=\"\",\"\",IF(I473=CR_3_GRIGLIA!$C$16,CR_3_GRIGLIA!$B$16,IF(I473=CR_3_GRIGLIA!$C$17,CR_3_GRIGLIA!$B$17,IF(I473=CR_3_GRIGLIA!$C$18,CR_3_GRIGLIA!$B$18,IF(I473=CR_3_GRIGLIA!$C$19,CR_3_GRIGLIA!$B$19,CR_3_GRIGLIA!$B$20)))))","v":""},"",{"$f":"+IF(D473=\"\",\"\",IF(C473=\"\",0,INDEX(CR_3_GRIGLIA!$D$3:$K$13,+VLOOKUP(B473,CR_3_GRIGLIA!$A$3:$C$13,3,FALSE),+HLOOKUP(D473,CR_3_GRIGLIA!$D$1:$K$2,2,FALSE))))","v":""},""]
[473,null,{"$f":"+IF(B474=\"\",\"\",VLOOKUP(B474,CR_3_GRIGLIA!$A$3:$B$13,2,FALSE))","v":""},null,null,null,{"$f":"+IF(I474=\"\",\"\",IF(I474=CR_3_GRIGLIA!$C$16,CR_3_GRIGLIA!$B$16,IF(I474=CR_3_GRIGLIA!$C$17,CR_3_GRIGLIA!$B$17,IF(I474=CR_3_GRIGLIA!$C$18,CR_3_GRIGLIA!$B$18,IF(I474=CR_3_GRIGLIA!$C$19,CR_3_GRIGLIA!$B$19,CR_3_GRIGLIA!$B$20)))))","v":""},"",{"$f":"+IF(D474=\"\",\"\",IF(C474=\"\",0,INDEX(CR_3_GRIGLIA!$D$3:$K$13,+VLOOKUP(B474,CR_3_GRIGLIA!$A$3:$C$13,3,FALSE),+HLOOKUP(D474,CR_3_GRIGLIA!$D$1:$K$2,2,FALSE))))","v":""},""]
[474,null,{"$f":"+IF(B475=\"\",\"\",VLOOKUP(B475,CR_3_GRIGLIA!$A$3:$B$13,2,FALSE))","v":""},null,null,null,{"$f":"+IF(I475=\"\",\"\",IF(I475=CR_3_GRIGLIA!$C$16,CR_3_GRIGLIA!$B$16,IF(I475=CR_3_GRIGLIA!$C$17,CR_3_GRIGLIA!$B$17,IF(I475=CR_3_GRIGLIA!$C$18,CR_3_GRIGLIA!$B$18,IF(I475=CR_3_GRIGLIA!$C$19,CR_3_GRIGLIA!$B$19,CR_3_GRIGLIA!$B$20)))))","v":""},"",{"$f":"+IF(D475=\"\",\"\",IF(C475=\"\",0,INDEX(CR_3_GRIGLIA!$D$3:$K$13,+VLOOKUP(B475,CR_3_GRIGLIA!$A$3:$C$13,3,FALSE),+HLOOKUP(D475,CR_3_GRIGLIA!$D$1:$K$2,2,FALSE))))","v":""},""]
[475,null,{"$f":"+IF(B476=\"\",\"\",VLOOKUP(B476,CR_3_GRIGLIA!$A$3:$B$13,2,FALSE))","v":""},null,null,null,{"$f":"+IF(I476=\"\",\"\",IF(I476=CR_3_GRIGLIA!$C$16,CR_3_GRIGLIA!$B$16,IF(I476=CR_3_GRIGLIA!$C$17,CR_3_GRIGLIA!$B$17,IF(I476=CR_3_GRIGLIA!$C$18,CR_3_GRIGLIA!$B$18,IF(I476=CR_3_GRIGLIA!$C$19,CR_3_GRIGLIA!$B$19,CR_3_GRIGLIA!$B$20)))))","v":""},"",{"$f":"+IF(D476=\"\",\"\",IF(C476=\"\",0,INDEX(CR_3_GRIGLIA!$D$3:$K$13,+VLOOKUP(B476,CR_3_GRIGLIA!$A$3:$C$13,3,FALSE),+HLOOKUP(D476,CR_3_GRIGLIA!$D$1:$K$2,2,FALSE))))","v":""},""]
[476,null,{"$f":"+IF(B477=\"\",\"\",VLOOKUP(B477,CR_3_GRIGLIA!$A$3:$B$13,2,FALSE))","v":""},null,null,null,{"$f":"+IF(I477=\"\",\"\",IF(I477=CR_3_GRIGLIA!$C$16,CR_3_GRIGLIA!$B$16,IF(I477=CR_3_GRIGLIA!$C$17,CR_3_GRIGLIA!$B$17,IF(I477=CR_3_GRIGLIA!$C$18,CR_3_GRIGLIA!$B$18,IF(I477=CR_3_GRIGLIA!$C$19,CR_3_GRIGLIA!$B$19,CR_3_GRIGLIA!$B$20)))))","v":""},"",{"$f":"+IF(D477=\"\",\"\",IF(C477=\"\",0,INDEX(CR_3_GRIGLIA!$D$3:$K$13,+VLOOKUP(B477,CR_3_GRIGLIA!$A$3:$C$13,3,FALSE),+HLOOKUP(D477,CR_3_GRIGLIA!$D$1:$K$2,2,FALSE))))","v":""},""]
[477,null,{"$f":"+IF(B478=\"\",\"\",VLOOKUP(B478,CR_3_GRIGLIA!$A$3:$B$13,2,FALSE))","v":""},null,null,null,{"$f":"+IF(I478=\"\",\"\",IF(I478=CR_3_GRIGLIA!$C$16,CR_3_GRIGLIA!$B$16,IF(I478=CR_3_GRIGLIA!$C$17,CR_3_GRIGLIA!$B$17,IF(I478=CR_3_GRIGLIA!$C$18,CR_3_GRIGLIA!$B$18,IF(I478=CR_3_GRIGLIA!$C$19,CR_3_GRIGLIA!$B$19,CR_3_GRIGLIA!$B$20)))))","v":""},"",{"$f":"+IF(D478=\"\",\"\",IF(C478=\"\",0,INDEX(CR_3_GRIGLIA!$D$3:$K$13,+VLOOKUP(B478,CR_3_GRIGLIA!$A$3:$C$13,3,FALSE),+HLOOKUP(D478,CR_3_GRIGLIA!$D$1:$K$2,2,FALSE))))","v":""},""]
[478,null,{"$f":"+IF(B479=\"\",\"\",VLOOKUP(B479,CR_3_GRIGLIA!$A$3:$B$13,2,FALSE))","v":""},null,null,null,{"$f":"+IF(I479=\"\",\"\",IF(I479=CR_3_GRIGLIA!$C$16,CR_3_GRIGLIA!$B$16,IF(I479=CR_3_GRIGLIA!$C$17,CR_3_GRIGLIA!$B$17,IF(I479=CR_3_GRIGLIA!$C$18,CR_3_GRIGLIA!$B$18,IF(I479=CR_3_GRIGLIA!$C$19,CR_3_GRIGLIA!$B$19,CR_3_GRIGLIA!$B$20)))))","v":""},"",{"$f":"+IF(D479=\"\",\"\",IF(C479=\"\",0,INDEX(CR_3_GRIGLIA!$D$3:$K$13,+VLOOKUP(B479,CR_3_GRIGLIA!$A$3:$C$13,3,FALSE),+HLOOKUP(D479,CR_3_GRIGLIA!$D$1:$K$2,2,FALSE))))","v":""},""]
[479,null,{"$f":"+IF(B480=\"\",\"\",VLOOKUP(B480,CR_3_GRIGLIA!$A$3:$B$13,2,FALSE))","v":""},null,null,null,{"$f":"+IF(I480=\"\",\"\",IF(I480=CR_3_GRIGLIA!$C$16,CR_3_GRIGLIA!$B$16,IF(I480=CR_3_GRIGLIA!$C$17,CR_3_GRIGLIA!$B$17,IF(I480=CR_3_GRIGLIA!$C$18,CR_3_GRIGLIA!$B$18,IF(I480=CR_3_GRIGLIA!$C$19,CR_3_GRIGLIA!$B$19,CR_3_GRIGLIA!$B$20)))))","v":""},"",{"$f":"+IF(D480=\"\",\"\",IF(C480=\"\",0,INDEX(CR_3_GRIGLIA!$D$3:$K$13,+VLOOKUP(B480,CR_3_GRIGLIA!$A$3:$C$13,3,FALSE),+HLOOKUP(D480,CR_3_GRIGLIA!$D$1:$K$2,2,FALSE))))","v":""},""]
[480,null,{"$f":"+IF(B481=\"\",\"\",VLOOKUP(B481,CR_3_GRIGLIA!$A$3:$B$13,2,FALSE))","v":""},null,null,null,{"$f":"+IF(I481=\"\",\"\",IF(I481=CR_3_GRIGLIA!$C$16,CR_3_GRIGLIA!$B$16,IF(I481=CR_3_GRIGLIA!$C$17,CR_3_GRIGLIA!$B$17,IF(I481=CR_3_GRIGLIA!$C$18,CR_3_GRIGLIA!$B$18,IF(I481=CR_3_GRIGLIA!$C$19,CR_3_GRIGLIA!$B$19,CR_3_GRIGLIA!$B$20)))))","v":""},"",{"$f":"+IF(D481=\"\",\"\",IF(C481=\"\",0,INDEX(CR_3_GRIGLIA!$D$3:$K$13,+VLOOKUP(B481,CR_3_GRIGLIA!$A$3:$C$13,3,FALSE),+HLOOKUP(D481,CR_3_GRIGLIA!$D$1:$K$2,2,FALSE))))","v":""},""]
[481,null,{"$f":"+IF(B482=\"\",\"\",VLOOKUP(B482,CR_3_GRIGLIA!$A$3:$B$13,2,FALSE))","v":""},null,null,null,{"$f":"+IF(I482=\"\",\"\",IF(I482=CR_3_GRIGLIA!$C$16,CR_3_GRIGLIA!$B$16,IF(I482=CR_3_GRIGLIA!$C$17,CR_3_GRIGLIA!$B$17,IF(I482=CR_3_GRIGLIA!$C$18,CR_3_GRIGLIA!$B$18,IF(I482=CR_3_GRIGLIA!$C$19,CR_3_GRIGLIA!$B$19,CR_3_GRIGLIA!$B$20)))))","v":""},"",{"$f":"+IF(D482=\"\",\"\",IF(C482=\"\",0,INDEX(CR_3_GRIGLIA!$D$3:$K$13,+VLOOKUP(B482,CR_3_GRIGLIA!$A$3:$C$13,3,FALSE),+HLOOKUP(D482,CR_3_GRIGLIA!$D$1:$K$2,2,FALSE))))","v":""},""]
[482,null,{"$f":"+IF(B483=\"\",\"\",VLOOKUP(B483,CR_3_GRIGLIA!$A$3:$B$13,2,FALSE))","v":""},null,null,null,{"$f":"+IF(I483=\"\",\"\",IF(I483=CR_3_GRIGLIA!$C$16,CR_3_GRIGLIA!$B$16,IF(I483=CR_3_GRIGLIA!$C$17,CR_3_GRIGLIA!$B$17,IF(I483=CR_3_GRIGLIA!$C$18,CR_3_GRIGLIA!$B$18,IF(I483=CR_3_GRIGLIA!$C$19,CR_3_GRIGLIA!$B$19,CR_3_GRIGLIA!$B$20)))))","v":""},"",{"$f":"+IF(D483=\"\",\"\",IF(C483=\"\",0,INDEX(CR_3_GRIGLIA!$D$3:$K$13,+VLOOKUP(B483,CR_3_GRIGLIA!$A$3:$C$13,3,FALSE),+HLOOKUP(D483,CR_3_GRIGLIA!$D$1:$K$2,2,FALSE))))","v":""},""]
[483,null,{"$f":"+IF(B484=\"\",\"\",VLOOKUP(B484,CR_3_GRIGLIA!$A$3:$B$13,2,FALSE))","v":""},null,null,null,{"$f":"+IF(I484=\"\",\"\",IF(I484=CR_3_GRIGLIA!$C$16,CR_3_GRIGLIA!$B$16,IF(I484=CR_3_GRIGLIA!$C$17,CR_3_GRIGLIA!$B$17,IF(I484=CR_3_GRIGLIA!$C$18,CR_3_GRIGLIA!$B$18,IF(I484=CR_3_GRIGLIA!$C$19,CR_3_GRIGLIA!$B$19,CR_3_GRIGLIA!$B$20)))))","v":""},"",{"$f":"+IF(D484=\"\",\"\",IF(C484=\"\",0,INDEX(CR_3_GRIGLIA!$D$3:$K$13,+VLOOKUP(B484,CR_3_GRIGLIA!$A$3:$C$13,3,FALSE),+HLOOKUP(D484,CR_3_GRIGLIA!$D$1:$K$2,2,FALSE))))","v":""},""]
[484,null,{"$f":"+IF(B485=\"\",\"\",VLOOKUP(B485,CR_3_GRIGLIA!$A$3:$B$13,2,FALSE))","v":""},null,null,null,{"$f":"+IF(I485=\"\",\"\",IF(I485=CR_3_GRIGLIA!$C$16,CR_3_GRIGLIA!$B$16,IF(I485=CR_3_GRIGLIA!$C$17,CR_3_GRIGLIA!$B$17,IF(I485=CR_3_GRIGLIA!$C$18,CR_3_GRIGLIA!$B$18,IF(I485=CR_3_GRIGLIA!$C$19,CR_3_GRIGLIA!$B$19,CR_3_GRIGLIA!$B$20)))))","v":""},"",{"$f":"+IF(D485=\"\",\"\",IF(C485=\"\",0,INDEX(CR_3_GRIGLIA!$D$3:$K$13,+VLOOKUP(B485,CR_3_GRIGLIA!$A$3:$C$13,3,FALSE),+HLOOKUP(D485,CR_3_GRIGLIA!$D$1:$K$2,2,FALSE))))","v":""},""]
[485,null,{"$f":"+IF(B486=\"\",\"\",VLOOKUP(B486,CR_3_GRIGLIA!$A$3:$B$13,2,FALSE))","v":""},null,null,null,{"$f":"+IF(I486=\"\",\"\",IF(I486=CR_3_GRIGLIA!$C$16,CR_3_GRIGLIA!$B$16,IF(I486=CR_3_GRIGLIA!$C$17,CR_3_GRIGLIA!$B$17,IF(I486=CR_3_GRIGLIA!$C$18,CR_3_GRIGLIA!$B$18,IF(I486=CR_3_GRIGLIA!$C$19,CR_3_GRIGLIA!$B$19,CR_3_GRIGLIA!$B$20)))))","v":""},"",{"$f":"+IF(D486=\"\",\"\",IF(C486=\"\",0,INDEX(CR_3_GRIGLIA!$D$3:$K$13,+VLOOKUP(B486,CR_3_GRIGLIA!$A$3:$C$13,3,FALSE),+HLOOKUP(D486,CR_3_GRIGLIA!$D$1:$K$2,2,FALSE))))","v":""},""]
[486,null,{"$f":"+IF(B487=\"\",\"\",VLOOKUP(B487,CR_3_GRIGLIA!$A$3:$B$13,2,FALSE))","v":""},null,null,null,{"$f":"+IF(I487=\"\",\"\",IF(I487=CR_3_GRIGLIA!$C$16,CR_3_GRIGLIA!$B$16,IF(I487=CR_3_GRIGLIA!$C$17,CR_3_GRIGLIA!$B$17,IF(I487=CR_3_GRIGLIA!$C$18,CR_3_GRIGLIA!$B$18,IF(I487=CR_3_GRIGLIA!$C$19,CR_3_GRIGLIA!$B$19,CR_3_GRIGLIA!$B$20)))))","v":""},"",{"$f":"+IF(D487=\"\",\"\",IF(C487=\"\",0,INDEX(CR_3_GRIGLIA!$D$3:$K$13,+VLOOKUP(B487,CR_3_GRIGLIA!$A$3:$C$13,3,FALSE),+HLOOKUP(D487,CR_3_GRIGLIA!$D$1:$K$2,2,FALSE))))","v":""},""]
[487,null,{"$f":"+IF(B488=\"\",\"\",VLOOKUP(B488,CR_3_GRIGLIA!$A$3:$B$13,2,FALSE))","v":""},null,null,null,{"$f":"+IF(I488=\"\",\"\",IF(I488=CR_3_GRIGLIA!$C$16,CR_3_GRIGLIA!$B$16,IF(I488=CR_3_GRIGLIA!$C$17,CR_3_GRIGLIA!$B$17,IF(I488=CR_3_GRIGLIA!$C$18,CR_3_GRIGLIA!$B$18,IF(I488=CR_3_GRIGLIA!$C$19,CR_3_GRIGLIA!$B$19,CR_3_GRIGLIA!$B$20)))))","v":""},"",{"$f":"+IF(D488=\"\",\"\",IF(C488=\"\",0,INDEX(CR_3_GRIGLIA!$D$3:$K$13,+VLOOKUP(B488,CR_3_GRIGLIA!$A$3:$C$13,3,FALSE),+HLOOKUP(D488,CR_3_GRIGLIA!$D$1:$K$2,2,FALSE))))","v":""},""]
[488,null,{"$f":"+IF(B489=\"\",\"\",VLOOKUP(B489,CR_3_GRIGLIA!$A$3:$B$13,2,FALSE))","v":""},null,null,null,{"$f":"+IF(I489=\"\",\"\",IF(I489=CR_3_GRIGLIA!$C$16,CR_3_GRIGLIA!$B$16,IF(I489=CR_3_GRIGLIA!$C$17,CR_3_GRIGLIA!$B$17,IF(I489=CR_3_GRIGLIA!$C$18,CR_3_GRIGLIA!$B$18,IF(I489=CR_3_GRIGLIA!$C$19,CR_3_GRIGLIA!$B$19,CR_3_GRIGLIA!$B$20)))))","v":""},"",{"$f":"+IF(D489=\"\",\"\",IF(C489=\"\",0,INDEX(CR_3_GRIGLIA!$D$3:$K$13,+VLOOKUP(B489,CR_3_GRIGLIA!$A$3:$C$13,3,FALSE),+HLOOKUP(D489,CR_3_GRIGLIA!$D$1:$K$2,2,FALSE))))","v":""},""]
[489,null,{"$f":"+IF(B490=\"\",\"\",VLOOKUP(B490,CR_3_GRIGLIA!$A$3:$B$13,2,FALSE))","v":""},null,null,null,{"$f":"+IF(I490=\"\",\"\",IF(I490=CR_3_GRIGLIA!$C$16,CR_3_GRIGLIA!$B$16,IF(I490=CR_3_GRIGLIA!$C$17,CR_3_GRIGLIA!$B$17,IF(I490=CR_3_GRIGLIA!$C$18,CR_3_GRIGLIA!$B$18,IF(I490=CR_3_GRIGLIA!$C$19,CR_3_GRIGLIA!$B$19,CR_3_GRIGLIA!$B$20)))))","v":""},"",{"$f":"+IF(D490=\"\",\"\",IF(C490=\"\",0,INDEX(CR_3_GRIGLIA!$D$3:$K$13,+VLOOKUP(B490,CR_3_GRIGLIA!$A$3:$C$13,3,FALSE),+HLOOKUP(D490,CR_3_GRIGLIA!$D$1:$K$2,2,FALSE))))","v":""},""]
[490,null,{"$f":"+IF(B491=\"\",\"\",VLOOKUP(B491,CR_3_GRIGLIA!$A$3:$B$13,2,FALSE))","v":""},null,null,null,{"$f":"+IF(I491=\"\",\"\",IF(I491=CR_3_GRIGLIA!$C$16,CR_3_GRIGLIA!$B$16,IF(I491=CR_3_GRIGLIA!$C$17,CR_3_GRIGLIA!$B$17,IF(I491=CR_3_GRIGLIA!$C$18,CR_3_GRIGLIA!$B$18,IF(I491=CR_3_GRIGLIA!$C$19,CR_3_GRIGLIA!$B$19,CR_3_GRIGLIA!$B$20)))))","v":""},"",{"$f":"+IF(D491=\"\",\"\",IF(C491=\"\",0,INDEX(CR_3_GRIGLIA!$D$3:$K$13,+VLOOKUP(B491,CR_3_GRIGLIA!$A$3:$C$13,3,FALSE),+HLOOKUP(D491,CR_3_GRIGLIA!$D$1:$K$2,2,FALSE))))","v":""},""]
[491,null,{"$f":"+IF(B492=\"\",\"\",VLOOKUP(B492,CR_3_GRIGLIA!$A$3:$B$13,2,FALSE))","v":""},null,null,null,{"$f":"+IF(I492=\"\",\"\",IF(I492=CR_3_GRIGLIA!$C$16,CR_3_GRIGLIA!$B$16,IF(I492=CR_3_GRIGLIA!$C$17,CR_3_GRIGLIA!$B$17,IF(I492=CR_3_GRIGLIA!$C$18,CR_3_GRIGLIA!$B$18,IF(I492=CR_3_GRIGLIA!$C$19,CR_3_GRIGLIA!$B$19,CR_3_GRIGLIA!$B$20)))))","v":""},"",{"$f":"+IF(D492=\"\",\"\",IF(C492=\"\",0,INDEX(CR_3_GRIGLIA!$D$3:$K$13,+VLOOKUP(B492,CR_3_GRIGLIA!$A$3:$C$13,3,FALSE),+HLOOKUP(D492,CR_3_GRIGLIA!$D$1:$K$2,2,FALSE))))","v":""},""]
[492,null,{"$f":"+IF(B493=\"\",\"\",VLOOKUP(B493,CR_3_GRIGLIA!$A$3:$B$13,2,FALSE))","v":""},null,null,null,{"$f":"+IF(I493=\"\",\"\",IF(I493=CR_3_GRIGLIA!$C$16,CR_3_GRIGLIA!$B$16,IF(I493=CR_3_GRIGLIA!$C$17,CR_3_GRIGLIA!$B$17,IF(I493=CR_3_GRIGLIA!$C$18,CR_3_GRIGLIA!$B$18,IF(I493=CR_3_GRIGLIA!$C$19,CR_3_GRIGLIA!$B$19,CR_3_GRIGLIA!$B$20)))))","v":""},"",{"$f":"+IF(D493=\"\",\"\",IF(C493=\"\",0,INDEX(CR_3_GRIGLIA!$D$3:$K$13,+VLOOKUP(B493,CR_3_GRIGLIA!$A$3:$C$13,3,FALSE),+HLOOKUP(D493,CR_3_GRIGLIA!$D$1:$K$2,2,FALSE))))","v":""},""]
[493,null,{"$f":"+IF(B494=\"\",\"\",VLOOKUP(B494,CR_3_GRIGLIA!$A$3:$B$13,2,FALSE))","v":""},null,null,null,{"$f":"+IF(I494=\"\",\"\",IF(I494=CR_3_GRIGLIA!$C$16,CR_3_GRIGLIA!$B$16,IF(I494=CR_3_GRIGLIA!$C$17,CR_3_GRIGLIA!$B$17,IF(I494=CR_3_GRIGLIA!$C$18,CR_3_GRIGLIA!$B$18,IF(I494=CR_3_GRIGLIA!$C$19,CR_3_GRIGLIA!$B$19,CR_3_GRIGLIA!$B$20)))))","v":""},"",{"$f":"+IF(D494=\"\",\"\",IF(C494=\"\",0,INDEX(CR_3_GRIGLIA!$D$3:$K$13,+VLOOKUP(B494,CR_3_GRIGLIA!$A$3:$C$13,3,FALSE),+HLOOKUP(D494,CR_3_GRIGLIA!$D$1:$K$2,2,FALSE))))","v":""},""]
[494,null,{"$f":"+IF(B495=\"\",\"\",VLOOKUP(B495,CR_3_GRIGLIA!$A$3:$B$13,2,FALSE))","v":""},null,null,null,{"$f":"+IF(I495=\"\",\"\",IF(I495=CR_3_GRIGLIA!$C$16,CR_3_GRIGLIA!$B$16,IF(I495=CR_3_GRIGLIA!$C$17,CR_3_GRIGLIA!$B$17,IF(I495=CR_3_GRIGLIA!$C$18,CR_3_GRIGLIA!$B$18,IF(I495=CR_3_GRIGLIA!$C$19,CR_3_GRIGLIA!$B$19,CR_3_GRIGLIA!$B$20)))))","v":""},"",{"$f":"+IF(D495=\"\",\"\",IF(C495=\"\",0,INDEX(CR_3_GRIGLIA!$D$3:$K$13,+VLOOKUP(B495,CR_3_GRIGLIA!$A$3:$C$13,3,FALSE),+HLOOKUP(D495,CR_3_GRIGLIA!$D$1:$K$2,2,FALSE))))","v":""},""]
[495,null,{"$f":"+IF(B496=\"\",\"\",VLOOKUP(B496,CR_3_GRIGLIA!$A$3:$B$13,2,FALSE))","v":""},null,null,null,{"$f":"+IF(I496=\"\",\"\",IF(I496=CR_3_GRIGLIA!$C$16,CR_3_GRIGLIA!$B$16,IF(I496=CR_3_GRIGLIA!$C$17,CR_3_GRIGLIA!$B$17,IF(I496=CR_3_GRIGLIA!$C$18,CR_3_GRIGLIA!$B$18,IF(I496=CR_3_GRIGLIA!$C$19,CR_3_GRIGLIA!$B$19,CR_3_GRIGLIA!$B$20)))))","v":""},"",{"$f":"+IF(D496=\"\",\"\",IF(C496=\"\",0,INDEX(CR_3_GRIGLIA!$D$3:$K$13,+VLOOKUP(B496,CR_3_GRIGLIA!$A$3:$C$13,3,FALSE),+HLOOKUP(D496,CR_3_GRIGLIA!$D$1:$K$2,2,FALSE))))","v":""},""]
[496,null,{"$f":"+IF(B497=\"\",\"\",VLOOKUP(B497,CR_3_GRIGLIA!$A$3:$B$13,2,FALSE))","v":""},null,null,null,{"$f":"+IF(I497=\"\",\"\",IF(I497=CR_3_GRIGLIA!$C$16,CR_3_GRIGLIA!$B$16,IF(I497=CR_3_GRIGLIA!$C$17,CR_3_GRIGLIA!$B$17,IF(I497=CR_3_GRIGLIA!$C$18,CR_3_GRIGLIA!$B$18,IF(I497=CR_3_GRIGLIA!$C$19,CR_3_GRIGLIA!$B$19,CR_3_GRIGLIA!$B$20)))))","v":""},"",{"$f":"+IF(D497=\"\",\"\",IF(C497=\"\",0,INDEX(CR_3_GRIGLIA!$D$3:$K$13,+VLOOKUP(B497,CR_3_GRIGLIA!$A$3:$C$13,3,FALSE),+HLOOKUP(D497,CR_3_GRIGLIA!$D$1:$K$2,2,FALSE))))","v":""},""]
[497,null,{"$f":"+IF(B498=\"\",\"\",VLOOKUP(B498,CR_3_GRIGLIA!$A$3:$B$13,2,FALSE))","v":""},null,null,null,{"$f":"+IF(I498=\"\",\"\",IF(I498=CR_3_GRIGLIA!$C$16,CR_3_GRIGLIA!$B$16,IF(I498=CR_3_GRIGLIA!$C$17,CR_3_GRIGLIA!$B$17,IF(I498=CR_3_GRIGLIA!$C$18,CR_3_GRIGLIA!$B$18,IF(I498=CR_3_GRIGLIA!$C$19,CR_3_GRIGLIA!$B$19,CR_3_GRIGLIA!$B$20)))))","v":""},"",{"$f":"+IF(D498=\"\",\"\",IF(C498=\"\",0,INDEX(CR_3_GRIGLIA!$D$3:$K$13,+VLOOKUP(B498,CR_3_GRIGLIA!$A$3:$C$13,3,FALSE),+HLOOKUP(D498,CR_3_GRIGLIA!$D$1:$K$2,2,FALSE))))","v":""},""]
[498,null,{"$f":"+IF(B499=\"\",\"\",VLOOKUP(B499,CR_3_GRIGLIA!$A$3:$B$13,2,FALSE))","v":""},null,null,null,{"$f":"+IF(I499=\"\",\"\",IF(I499=CR_3_GRIGLIA!$C$16,CR_3_GRIGLIA!$B$16,IF(I499=CR_3_GRIGLIA!$C$17,CR_3_GRIGLIA!$B$17,IF(I499=CR_3_GRIGLIA!$C$18,CR_3_GRIGLIA!$B$18,IF(I499=CR_3_GRIGLIA!$C$19,CR_3_GRIGLIA!$B$19,CR_3_GRIGLIA!$B$20)))))","v":""},"",{"$f":"+IF(D499=\"\",\"\",IF(C499=\"\",0,INDEX(CR_3_GRIGLIA!$D$3:$K$13,+VLOOKUP(B499,CR_3_GRIGLIA!$A$3:$C$13,3,FALSE),+HLOOKUP(D499,CR_3_GRIGLIA!$D$1:$K$2,2,FALSE))))","v":""},""]
[499,null,{"$f":"+IF(B500=\"\",\"\",VLOOKUP(B500,CR_3_GRIGLIA!$A$3:$B$13,2,FALSE))","v":""},null,null,null,{"$f":"+IF(I500=\"\",\"\",IF(I500=CR_3_GRIGLIA!$C$16,CR_3_GRIGLIA!$B$16,IF(I500=CR_3_GRIGLIA!$C$17,CR_3_GRIGLIA!$B$17,IF(I500=CR_3_GRIGLIA!$C$18,CR_3_GRIGLIA!$B$18,IF(I500=CR_3_GRIGLIA!$C$19,CR_3_GRIGLIA!$B$19,CR_3_GRIGLIA!$B$20)))))","v":""},"",{"$f":"+IF(D500=\"\",\"\",IF(C500=\"\",0,INDEX(CR_3_GRIGLIA!$D$3:$K$13,+VLOOKUP(B500,CR_3_GRIGLIA!$A$3:$C$13,3,FALSE),+HLOOKUP(D500,CR_3_GRIGLIA!$D$1:$K$2,2,FALSE))))","v":""},""]
[500,null,{"$f":"+IF(B501=\"\",\"\",VLOOKUP(B501,CR_3_GRIGLIA!$A$3:$B$13,2,FALSE))","v":""},null,null,null,{"$f":"+IF(I501=\"\",\"\",IF(I501=CR_3_GRIGLIA!$C$16,CR_3_GRIGLIA!$B$16,IF(I501=CR_3_GRIGLIA!$C$17,CR_3_GRIGLIA!$B$17,IF(I501=CR_3_GRIGLIA!$C$18,CR_3_GRIGLIA!$B$18,IF(I501=CR_3_GRIGLIA!$C$19,CR_3_GRIGLIA!$B$19,CR_3_GRIGLIA!$B$20)))))","v":""},"",{"$f":"+IF(D501=\"\",\"\",IF(C501=\"\",0,INDEX(CR_3_GRIGLIA!$D$3:$K$13,+VLOOKUP(B501,CR_3_GRIGLIA!$A$3:$C$13,3,FALSE),+HLOOKUP(D501,CR_3_GRIGLIA!$D$1:$K$2,2,FALSE))))","v":""},""]
[]
[]
["Totale investimento",null,null,null,null,{"$f":"+SUM(F2:F501)","v":0},null,null,null,{"$f":"+SUM(J2:J501)","v":0}]

{"sheet":"Calcolo_Punteggio","index":3,"n_rows":60,"n_cols":20,"rows_kept":60,"cut":false,"hidden":false,"merged":[[1,1,1,2],[1,3,2,3],[1,4,2,4]]}
[null,"Settore",null,null,null,null,null,null,null,null,null,null,null,null,null,null,null,null,null,1]
[null,"(vuoto)",null,"Valore totale","Punteggio totale",null,null,null,null,null,null,null,null,null,null,null,null,null,null,2]
["Investimento","Valore","Punteggio",null,null,null,null,null,null,null,null,null,null,null,null,null,null,null,null,3]
[null,null,0,null,0,null,null,null,null,null,null,null,null,null,null,null,null,null,null,4]
[null,null,0,null,0,null,null,null,null,null,null,null,null,null,null,null,null,null,null,5]
["Totale complessivo",null,0,null,0,null,null,null,null,null,null,null,null,null,null,null,null,null,null,6]
[null,null,null,null,null,null,null,null,null,null,null,null,null,null,null,null,null,null,null,7]
[null,null,null,null,null,null,null,null,null,null,null,null,null,null,null,null,null,null,null,8]
[null,null,null,null,null,null,null,null,null,null,null,null,null,null,null,null,null,null,null,9]
[null,null,null,null,null,null,null,null,null,null,null,null,null,null,null,null,null,null,null,10]
[null,null,null,null,null,null,null,null,null,null,null,null,null,null,null,null,null,null,null,11]
[null,null,null,null,null,null,null,null,null,null,null,null,null,null,null,null,null,null,null,12]
[null,null,null,null,null,null,null,null,null,null,null,null,null,null,null,null,null,null,null,13]
[null,null,null,null,null,null,null,null,null,null,null,null,null,null,null,null,null,null,null,14]
[null,null,null,null,null,null,null,null,null,null,null,null,null,null,null,null,null,null,null,15]
[null,null,null,null,null,null,null,null,null,null,null,null,null,null,null,null,null,null,null,16]
[null,null,null,null,null,null,null,null,null,null,null,null,null,null,null,null,null,null,null,17]
[null,null,null,null,null,null,null,null,null,null,null,null,null,null,null,null,null,null,null,18]
[null,null,null,null,null,null,null,null,null,null,null,null,null,null,null,null,null,null,null,19]
[null,null,null,null,null,null,null,null,null,null,null,null,null,null,null,null,null,null,null,20]
[null,null,null,null,null,null,null,null,null,null,null,null,null,null,null,null,null,null,null,21]
[null,null,null,null,null,null,null,null,null,null,null,null,null,null,null,null,null,null,null,22]
[null,null,null,null,null,null,null,null,null,null,null,null,null,null,null,null,null,null,null,23]
[null,null,null,null,null,null,null,null,null,null,null,null,null,null,null,null,null,null,null,24]
[null,null,null,null,null,null,null,null,null,null,null,null,null,null,null,null,null,null,null,25]
[null,null,null,null,null,null,null,null,null,null,null,null,null,null,null,null,null,null,null,26]
[null,null,null,null,null,null,null,null,null,null,null,null,null,null,null,null,null,null,null,27]
[null,null,null,null,null,null,null,null,null,null,null,null,null,null,null,null,null,null,null,28]
[null,null,null,null,null,null,null,null,null,null,null,null,null,null,null,null,null,null,null,29]
[null,null,null,null,null,null,null,null,null,null,null,null,null,null,null,null,null,null,null,30]
[null,null,null,null,null,null,null,null,null,null,null,null,null,null,null,null,null,null,null,31]
[null,null,null,null,null,null,null,null,null,null,null,null,null,null,null,null,null,null,null,32]
[null,null,null,null,null,null,null,null,null,null,null,null,null,null,null,null,null,null,null,33]
[null,null,null,null,null,null,null,null,null,null,null,null,null,null,null,null,null,null,null,34]
[null,null,null,null,null,null,null,null,null,null,null,null,null,null,null,null,null,null,null,35]
[null,null,null,null,null,null,null,null,null,null,null,null,null,null,null,null,null,null,null,36]
[null,null,null,null,null,null,null,null,null,null,null,null,null,null,null,null,null,null,null,37]
[null,null,null,null,null,null,null,null,null,null,null,null,null,null,null,null,null,null,null,38]
[null,null,null,null,null,null,null,null,null,null,null,null,null,null,null,null,null,null,null,39]
[null,null,null,null,null,null,null,null,null,null,null,null,null,null,null,null,null,null,null,40]
[null,null,null,null,null,null,null,null,null,null,null,null,null,null,null,null,null,null,null,41]
[null,null,null,null,null,null,null,null,null,null,null,null,null,null,null,null,null,null,null,42]
[null,null,null,null,null,null,null,null,null,null,null,null,null,null,null,null,null,null,null,43]
[null,null,null,null,null,null,null,null,null,null,null,null,null,null,null,null,null,null,null,44]
[null,null,null,null,null,null,null,null,null,null,null,null,null,null,null,null,null,null,null,45]
[null,null,null,null,null,null,null,null,null,null,null,null,null,null,null,null,null,null,null,46]
[null,null,null,null,null,null,null,null,null,null,null,null,null,null,null,null,null,null,null,47]
[null,null,null,null,null,null,null,null,null,null,null,null,null,null,null,null,null,null,null,48]
[null,null,null,null,null,null,null,null,null,null,null,null,null,null,null,null,null,null,null,49]
[null,null,null,null,null,null,null,null,null,null,null,null,null,null,null,null,null,null,null,50]
[null,null,null,null,null,null,null,null,null,null,null,null,null,null,null,null,null,null,null,51]
[null,null,null,null,null,null,null,null,null,null,null,null,null,null,null,null,null,null,null,52]
[null,null,null,null,null,null,null,null,null,null,null,null,null,null,null,null,null,null,null,53]
[null,null,null,null,null,null,null,null,null,null,null,null,null,null,null,null,null,null,null,54]
[null,null,null,null,null,null,null,null,null,null,null,null,null,null,null,null,null,null,null,55]
[null,null,null,null,null,null,null,null,null,null,null,null,null,null,null,null,null,null,null,56]
[null,null,null,null,null,null,null,null,null,null,null,null,null,null,null,null,null,null,null,57]
[null,null,null,null,null,null,null,null,null,null,null,null,null,null,null,null,null,null,null,58]
[null,null,null,null,null,null,null,null,null,null,null,null,null,null,null,null,null,null,null,59]
[1,2,3,4,5,6,7,8,9,10,11,12,13,14,15,16,17,18,19,60]

{"sheet":"ELENCHI","index":4,"n_rows":6,"n_cols":2,"rows_kept":6,"cut":false,"hidden":true,"merged":[]}
["MACROAREA","PUNTEGGIO"]
[]
["A","SI"]
["B","NO"]
["C"]
["D"]

{"sheet":"Sub_Interventi","index":5,"n_rows":76,"n_cols":61,"rows_kept":76,"cut":false,"hidden":true,"merged":[[1,11,18,11],[19,1,45,1],[46,1,57,1],[58,1,60,1],[61,1,64,1],[1,0,74,0],[1,1,18,1],[1,8,45,8],[1,9,45,9],[1,10,45,10],[66,1,72,1],[73,1,74,1],[1,57,45,57],[1,58,45,58],[1,59,18,59],[1,40,45,40],[1,41,45,41],[1,42,45,42],[1,43,18,43],[1,48,45,48],[1,49,45,49],[1,50,45,50],[1,51,18,51],[1,56,45,56],[1,35,18,35],[1,16,45,16],[1,17,45,17],[1,18,45,18],[1,19,18,19],[1,24,45,24],[1,26,45,26],[1,27,18,27],[1,32,45,32],[1,33,45,33],[1,34,45,34],[1,25,45,25]]}
["Tipologia di intervento","Intervento                                                ",null,"art. 45 reg. 1305/13","Sub intervento                                                                     ","n°","OK",411]
[411,"Costruzioni/ristrutturazioni di immobili produttivi\n\n0002\n\nmq",2,"A","Altri opifici",1,"X",{"$f":"CONCATENATE($H$1,TEXT(C2,\"0000\"),D2,TEXT(F2,\"0000\"),\" -\",E2,)","v":"4110002A0001 -Altri opifici"},null,null,null,null,null,null,null,null,null,null,null,"c) spese generali collegate alle spese;","onorari di architetti, ingegneri e consulenti in genere",null,null,null,null,null,null,"c) spese generali collegate alle spese;","onorari di architetti, ingegneri e consulenti in genere",null,null,null,null,null,null,"c) spese generali collegate alle spese;","onorari di architetti, ingegneri e consulenti in genere",null,null,null,null,null,null,"c) spese generali collegate alle spese;","onorari di architetti, ingegneri e consulenti in genere",null,null,null,null,null,null,"c) spese generali collegate alle spese;","onorari di architetti, ingegneri e consulenti in genere",null,null,null,null,null,null,"c) spese generali collegate alle spese;","onorari di architetti, ingegneri e consulenti in genere"]
[null,null,2,"A","Cantine",2,"X",{"$f":"CONCATENATE($H$1,TEXT(C3,\"0000\"),D3,TEXT(F3,\"0000\"),\" -\",E3,)","v":"4110002A0002 -Cantine"}]
[null,null,2,"A","Caseifici per latte bovino ",3,"X","4110002A0003 -Caseifici per latte bovino "]
[null,null,2,"A","Caseifici per latte bufalino",4,"X","4110002A0004 -Caseifici per latte bufalino"]
[null,null,2,"A","Lavorazione ortofrutta",5,"X","4110002A0005 -Lavorazione ortofrutta"]
[null,null,2,"A","Locali per la vendita diretta",6,"X","4110002A0006 -Locali per la vendita diretta"]
[null,null,2,"A","Oleifici",7,"X","4110002A0007 -Oleifici"]
[null,null,2,"A","Serre per Floricoltura",8,"X","4110002A0008 -Serre per Floricoltura"]
[null,null,2,"A","Serre per Frutticoltura",9,"X","4110002A0009 -Serre per Frutticoltura"]
[null,null,2,"A","Serre per Orticoltura",10,"X","4110002A0010 -Serre per Orticoltura"]
[null,null,2,"A","Serre per Vivaismo",11,"X","4110002A0011 -Serre per Vivaismo"]
[null,null,2,"A","Strutture di allevamento per Altro",12,"X","4110002A0012 -Strutture di allevamento per Altro"]
[null,null,2,"A","Strutture di allevamento per Avicoli",13,"X","4110002A0013 -Strutture di allevamento per Avicoli"]
[null,null,2,"A","Strutture di allevamento per Bovini",14,"X","4110002A0014 -Strutture di allevamento per Bovini"]
[null,null,2,"A","Strutture di allevamento per Bufalini",15,"X","4110002A0015 -Strutture di allevamento per Bufalini"]
[null,null,2,"A","Strutture di allevamento per Conigli",16,"X","4110002A0016 -Strutture di allevamento per Conigli"]
[null,null,2,"A","Strutture di allevamento per Ovicaprini",17,"X","4110002A0017 -Strutture di allevamento per Ovicaprini"]
[null,null,2,"A","Strutture di allevamento per Suini",18,"X","4110002A0018 -Strutture di allevamento per Suini"]
[null,"Acquisto di macchinari ed attrezzature per la realizzazione delle produzioni aziendali anche per la prima lavorazione dei prodotti e trasformazione\n\n0003\n\nn°",3,"B","Altre attrezzature per la trasformazione del latte ",1,"X","4110003B0001 -Altre attrezzature per la trasformazione del latte "]
[null,null,3,"B","Altre attrezzature per strutture di allevamento ",2,"X","4110003B0002 -Altre attrezzature per strutture di allevamento "]
[null,null,3,"B","Altre attrezzature per strutture di allevamento per latte bovino",3,"X","4110003B0003 -Altre attrezzature per strutture di allevamento per latte bovino"]
[null,null,3,"B","Altre attrezzature per strutture di allevamento per latte bufalino",4,"X","4110003B0004 -Altre attrezzature per strutture di allevamento per latte bufalino"]
[null,null,3,"B","Altre macchine e attrezzature per la realizzazione delle produzioni",5,"X","4110003B0005 -Altre macchine e attrezzature per la realizzazione delle produzioni"]
[null,null,3,"B","Altre macchine per la semina",6,"X","4110003B0006 -Altre macchine per la semina"]
[null,null,3,"B","Altre macchine semoventi",7,"X","4110003B0007 -Altre macchine semoventi"]
[null,null,3,"B","Altro per la trasformazione ",8,"X","4110003B0008 -Altro per la trasformazione "]
[null,null,3,"B","Attrezzature di cantina",9,"X","4110003B0009 -Attrezzature di cantina"]
[null,null,3,"B","Attrezzature per la lavorazione del terreno",10,"X","4110003B0010 -Attrezzature per la lavorazione del terreno"]
[null,null,3,"B","Attrezzature per la trasformazione del latte bovino",11,"X","4110003B0011 -Attrezzature per la trasformazione del latte bovino"]
[null,null,3,"B","Attrezzature per la trasformazione del latte bufalino",12,"X","4110003B0012 -Attrezzature per la trasformazione del latte bufalino"]
[null,null,3,"B","Attrezzature per la trasformazione dell’ortofrutta",13,"X","4110003B0013 -Attrezzature per la trasformazione dell’ortofrutta"]
[null,null,3,"B","Attrezzature per l'irrigazione",14,"X","4110003B0014 -Attrezzature per l'irrigazione"]
[null,null,3,"B","Attrezzature per oleifici",15,"X","4110003B0015 -Attrezzature per oleifici"]
[null,null,3,"B","Attrezzature per sale di mungitura per latte bovino",16,"X","4110003B0016 -Attrezzature per sale di mungitura per latte bovino"]
[null,null,3,"B","Attrezzature per sale di mungitura per latte bufalino",17,"X","4110003B0017 -Attrezzature per sale di mungitura per latte bufalino"]
[null,null,3,"B","Impianti frigoriferi/celle frigorifere",18,"X","4110003B0018 -Impianti frigoriferi/celle frigorifere"]
[null,null,3,"B","Macchine ed attrezzature per la commercializzazione",19,"X","4110003B0019 -Macchine ed attrezzature per la commercializzazione"]
[null,null,3,"B","Macchine per la distribuzione di fitofarmaci",20,"X","4110003B0020 -Macchine per la distribuzione di fitofarmaci"]
[null,null,3,"B","Macchine per la prima lavorazione delle produzioni aziendali",21,"X","4110003B0021 -Macchine per la prima lavorazione delle produzioni aziendali"]
[null,null,3,"B","Macchine per la raccolta",22,"X","4110003B0022 -Macchine per la raccolta"]
[null,null,3,"B","Macchine per la semina su sodo",23,"X","4110003B0023 -Macchine per la semina su sodo"]
[null,null,3,"B","Mietitrebbia",24,"X","4110003B0024 -Mietitrebbia"]
[null,null,3,"B","Muletti (transpallet)",25,"X","4110003B0025 -Muletti (transpallet)"]
[null,null,3,"B","Trattrici cingolate",26,"X","4110003B0026 -Trattrici cingolate"]
[null,null,3,"B","Trattrici gommate",27,"X","4110003B0027 -Trattrici gommate"]
[null,"Miglioramenti fondiari\n\n0004\n\nmq\n",4,"A","Impianti di fruttiferi - Albicocco",1,"X","4110004A0001 -Impianti di fruttiferi - Albicocco"]
[null,null,4,"A","Impianti di fruttiferi - Altro",2,"X","4110004A0002 -Impianti di fruttiferi - Altro"]
[null,null,4,"A","Impianti di fruttiferi - Castagno",3,"X","4110004A0003 -Impianti di fruttiferi - Castagno"]
[null,null,4,"A","Impianti di fruttiferi - Fico",4,"X","4110004A0004 -Impianti di fruttiferi - Fico"]
[null,null,4,"A","Impianti di fruttiferi - Limone",5,"X","4110004A0005 -Impianti di fruttiferi - Limone"]
[null,null,4,"A","Impianti di fruttiferi - Melo",6,"X","4110004A0006 -Impianti di fruttiferi - Melo"]
[null,null,4,"A","Impianti di fruttiferi - Nocciolo",7,"X","4110004A0007 -Impianti di fruttiferi - Nocciolo"]
[null,null,4,"A","Impianti di fruttiferi - Olivo",8,"X","4110004A0008 -Impianti di fruttiferi - Olivo"]
[null,null,4,"A","Impianti di fruttiferi - Pesco",9,"X","4110004A0009 -Impianti di fruttiferi - Pesco"]
[null,null,4,"A","Impianti di fruttiferi - Vite",10,"X","4110004A0010 -Impianti di fruttiferi - Vite"]
[null,null,4,"A","Realizzazione degli elementi strutturali per la gestione dei pascoli aziendali",11,"X","4110004A0011 -Realizzazione degli elementi strutturali per la gestione dei pascoli aziendali"]
[null,null,4,"A","Sistemazione dei terreni aziendali allo scopo di evitare i ristagni idrici e l’erosione del suolo",12,"X","4110004A0012 -Sistemazione dei terreni aziendali allo scopo di evitare i ristagni idrici e l’erosione del suolo"]
[null,"Acquisto e/o realizzazione di impianti\n0005\nmq",5,"B","Impianti antibrina",1,"X","4110005B0001 -Impianti antibrina"]
[null,null,5,"B","Impianti anticracking ",2,"X","4110005B0002 -Impianti anticracking "]
[null,null,5,"B","Impianti di ombreggiamento",3,"X","4110005B0003 -Impianti di ombreggiamento"]
[null,"Impianti per  la produzione di energia da fonti rinnovabili\n\n0006\nn°",6,"B","Impianti di energia da biomasse",1,"X","4110006B0001 -Impianti di energia da biomasse"]
[null,null,6,"B","Impianti di energia eolica",2,"X","4110006B0002 -Impianti di energia eolica"]
[null,null,6,"B","Impianto solare fotovoltaico",3,"X","4110006B0003 -Impianto solare fotovoltaico"]
[null,null,6,"B","Impianto solare termico e termodinamico",4,"X","4110006B0004 -Impianto solare termico e termodinamico"]
[null,"Investimenti immateriali - 0007",7,"D","Acquisto di programmi informatici e di brevetti/licenze ",1,"X","4110007D0001 -Acquisto di programmi informatici e di brevetti/licenze "]
[null,"Investimenti non produttivi\n\n0008\n\nn°",8,"A","Altri investimenti",1,"X",{"$f":"CONCATENATE($H$1,TEXT(C67,\"0000\"),D67,TEXT(F67,\"0000\"),\" -\",E67,)","v":"4110008A0001 -Altri investimenti"}]
[null,null,8,"A","Aree di servizio",2,"X","4110008A0002 -Aree di servizio"]
[null,null,8,"A","Depositi",3,"X","4110008A0003 -Depositi"]
[null,null,8,"A","Impianti di illuminazione",4,"X","4110008A0004 -Impianti di illuminazione"]
[null,null,8,"A","Realizzazione di strade poderali e/o spazi per la manovra dei mezzi agricoli",5,"X","4110008A0005 -Realizzazione di strade poderali e/o spazi per la manovra dei mezzi agricoli"]
[null,null,8,"A","Recinzioni",6,"X","4110008A0006 -Recinzioni"]
[null,null,8,"A","Uffici",7,"X","4110008A0007 -Uffici"]
[null,"Spese generali\n0009",9,"C","SPESE GENERALI MAX 5%",1,"X","4110009C0001 -SPESE GENERALI MAX 5%"]
[null,null,9,"C","SPESE GENERALI MAX 10%",2,"X","4110009C0002 -SPESE GENERALI MAX 10%"]
[null,null,null,null,null,{"$f":"COUNT(F2:F75)","v":74},{"$f":"COUNTIF(G2:G75,\"X\")","v":74}]